BEGIN:VCALENDAR
VERSION:2.0
PRODID:-//QUWANDS - ECPv6.10.2//NONSGML v1.0//EN
CALSCALE:GREGORIAN
METHOD:PUBLISH
X-ORIGINAL-URL:https://quwands.jp
X-WR-CALDESC:QUWANDS のイベント
REFRESH-INTERVAL;VALUE=DURATION:PT1H
X-Robots-Tag:noindex
X-PUBLISHED-TTL:PT1H
BEGIN:VTIMEZONE
TZID:Asia/Tokyo
BEGIN:STANDARD
TZOFFSETFROM:+0900
TZOFFSETTO:+0900
TZNAME:JST
DTSTART:20260101T000000
END:STANDARD
END:VTIMEZONE
BEGIN:VEVENT
DTSTART;VALUE=DATE:20260530
DTEND;VALUE=DATE:20260531
DTSTAMP:20260425T102956
CREATED:20260424T061520Z
LAST-MODIFIED:20260424T061605Z
UID:5667-1780099200-1780185599@quwands.jp
SUMMARY:大島Bst 【KAKERU/Sho-hey】振替情報
DESCRIPTION:スタジオ名\n大島Bスタジオ\n\n\nクラス\nキッズ体操\n\n\n講師名\nKAKERU\n\n\n日付\n5/2(土)→5/30(土)\n\n\n時間\n10:00-11:00\n\n\n\n  \n\n\n\nスタジオ名\n大島Bスタジオ\n\n\nクラス\n体操\n\n\n講師名\nSho-hey\n\n\n日付\n5/2(土)→5/30(土)\n\n\n時間\n10:00-11:00\n\n\n\n  \n\n\n\nスタジオ名\n大島Bスタジオ\n\n\nクラス\nKIDS HIPHOP\n\n\n講師名\nSho-hey\n\n\n日付\n5/2(土)→5/30(土)\n\n\n時間\n11:10-12:10
URL:https://quwands.jp/event/5667/
END:VEVENT
BEGIN:VEVENT
DTSTART;VALUE=DATE:20260531
DTEND;VALUE=DATE:20260601
DTSTAMP:20260425T102956
CREATED:20260326T040637Z
LAST-MODIFIED:20260326T040637Z
UID:5427-1780185600-1780271999@quwands.jp
SUMMARY:砂銀Ast 【舞】振替情報
DESCRIPTION:スタジオ名\n砂銀Aスタジオ\n\n\nクラス\nKIDS KPOP\n\n\n講師名\n舞\n\n\n日付\n5/17(日)→5/31(日)\n\n\n時間\n13:00-14:00\n\n\n\n  \n\n\n\nスタジオ名\n砂銀Aスタジオ\n\n\nクラス\nKPOP入門\n\n\n講師名\n舞\n\n\n日付\n5/17(日)→5/31(日)\n\n\n時間\n14:20-15:20\n\n\n\n  \n\n\n\nスタジオ名\n砂銀Aスタジオ\n\n\nクラス\nKPOP応用\n\n\n講師名\n舞\n\n\n日付\n5/17(日)→5/31(日)\n\n\n時間\n15:30-17:00\n\n\n\n 
URL:https://quwands.jp/event/5427/
END:VEVENT
BEGIN:VEVENT
DTSTART;VALUE=DATE:20260531
DTEND;VALUE=DATE:20260601
DTSTAMP:20260425T102956
CREATED:20260326T052901Z
LAST-MODIFIED:20260326T053026Z
UID:5446-1780185600-1780271999@quwands.jp
SUMMARY:新小岩st 【Mayong K Sato】振替情報
DESCRIPTION:スタジオ名\n新小岩スタジオ\n\n\nクラス\nKIDS HIPHOP\n\n\n講師名\nMayong K Sato\n\n\n日付\n4/26(日)→5/31(日)\n\n\n時間\n12:30-13:30\n\n\n\n  \n\n\n\nスタジオ名\n新小岩スタジオ\n\n\nクラス\nKIDS HIPHOP\n\n\n講師名\nMayong K Sato\n\n\n日付\n4/26(日)→5/31(日)\n\n\n時間\n13:40-14:40\n\n\n\n  \n\n\n\nスタジオ名\n新小岩スタジオ\n\n\nクラス\nKIDS HIPHOP\n\n\n講師名\nMayong K Sato\n\n\n日付\n4/26(日)→5/31(日)\n\n\n時間\n14:50-16:05\n\n\n\n 
URL:https://quwands.jp/event/5446/
END:VEVENT
BEGIN:VEVENT
DTSTART;VALUE=DATE:20260531
DTEND;VALUE=DATE:20260601
DTSTAMP:20260425T102956
CREATED:20260417T065620Z
LAST-MODIFIED:20260417T065620Z
UID:5614-1780185600-1780271999@quwands.jp
SUMMARY:平井st【CHIKA】振替情報
DESCRIPTION:スタジオ名\n平井スタジオ\n\n\nクラス\nリトルキッズダンス\n\n\n講師名\nCHIKA\n\n\n日付\n5/3(日)→5/31(日)\n\n\n時間\n13:00-14:00\n\n\n\n  \n\n\n\nスタジオ名\n平井スタジオ\n\n\nクラス\nキッズ体操\n\n\n講師名\nCHIKA\n\n\n日付\n5/3(日)→5/31(日)\n\n\n時間\n14:10-15:10\n\n\n\n  \n\n\n\nスタジオ名\n平井スタジオ\n\n\nクラス\n体操\n\n\n講師名\nCHIKA\n\n\n日付\n5/3(日)→5/31(日)\n\n\n時間\n15:20-16:50\n\n\n\n 
URL:https://quwands.jp/event/5614/
END:VEVENT
BEGIN:VEVENT
DTSTART;VALUE=DATE:20260531
DTEND;VALUE=DATE:20260601
DTSTAMP:20260425T102956
CREATED:20260421T091714Z
LAST-MODIFIED:20260421T091714Z
UID:5630-1780185600-1780271999@quwands.jp
SUMMARY:砂銀Ast 【MINORI】振替情報
DESCRIPTION:スタジオ名\n砂銀Aスタジオ\n\n\nクラス\nリトルキッズダンス\n\n\n講師名\nMINORI\n\n\n日付\n5/24(日)→5/31(日)\n\n\n時間\n10:00-11:00\n\n\n\n  \n\n\n\nスタジオ名\n砂銀Aスタジオ\n\n\nクラス\nリトルキッズ体操\n\n\n講師名\nMINORI\n\n\n日付\n5/24(日)→5/31(日)\n\n\n時間\n11:10-12:10\n\n\n\n 
URL:https://quwands.jp/event/5630/
END:VEVENT
BEGIN:VEVENT
DTSTART;VALUE=DATE:20260531
DTEND;VALUE=DATE:20260601
DTSTAMP:20260425T102956
CREATED:20260424T062056Z
LAST-MODIFIED:20260424T062056Z
UID:5671-1780185600-1780271999@quwands.jp
SUMMARY:大島Bst 【Sho-hey】振替情報
DESCRIPTION:スタジオ名\n大島Bスタジオ\n\n\nクラス\nKIDS HIPHOP\n\n\n講師名\nSho-hey\n\n\n日付\n5/3(日)→5/31(日)\n\n\n時間\n10:00-11:00\n\n\n\n  \n\n\n\nスタジオ名\n大島Bスタジオ\n\n\nクラス\nキッズ体操\n\n\n講師名\nSho-hey\n\n\n日付\n5/3(日)→5/31(日)\n\n\n時間\n11:10-12:10\n\n\n\n  \n\n\n\nスタジオ名\n大島Bスタジオ\n\n\nクラス\n体操\n\n\n講師名\nSho-hey\n\n\n日付\n5/3(日)→5/31(日)\n\n\n時間\n12:30-13:30\n\n\n\n 
URL:https://quwands.jp/event/5671/
END:VEVENT
BEGIN:VEVENT
DTSTART;VALUE=DATE:20260627
DTEND;VALUE=DATE:20260628
DTSTAMP:20260425T102956
CREATED:20260413T055437Z
LAST-MODIFIED:20260414T065848Z
UID:5579-1782518400-1782604799@quwands.jp
SUMMARY:大島Bst 【yuine】振替情報
DESCRIPTION:スタジオ名\n大島Bスタジオ\n\n\nクラス\nJAZZ入門\n\n\n講師名\nyuine\n\n\n日付\n6/27(土)→5/30(土)\n\n\n時間\n12:45-13:45\n\n\n\n  \n\n\n\nスタジオ名\n大島Bスタジオ\n\n\nクラス\nJAZZ中級\n\n\n講師名\nyuine\n\n\n日付\n6/27(土)→5/30(土)\n\n\n時間\n13:55-15:10\n\n\n\n 
URL:https://quwands.jp/event/5579/
END:VEVENT
BEGIN:VEVENT
DTSTART;VALUE=DATE:20260630
DTEND;VALUE=DATE:20260701
DTSTAMP:20260425T102956
CREATED:20260422T052010Z
LAST-MODIFIED:20260422T100512Z
UID:5642-1782777600-1782863999@quwands.jp
SUMMARY:大島Ast 【HIKARU】振替情報
DESCRIPTION:スタジオ名\n大島Aスタジオ\n\n\nクラス\nKIDS KPOP\n\n\n講師名\nHIKARU\n\n\n日付\n4/28(火)→6/30(火)\n\n\n時間\n17:10-18:10\n\n\n\n\n  \n\n\n\nスタジオ名\n大島Aスタジオ\n\n\nクラス\nKPOP入門\n\n\n講師名\nHIKARU\n\n\n日付\n4/28(火)→6/30(火)\n\n\n時間\n18:20-19:20\n\n\n\n\n  \n\n\n\nスタジオ名\n大島Aスタジオ\n\n\nクラス\nKPOP中級\n\n\n講師名\nHIKARU\n\n\n日付\n4/28(火)→6/30(火)\n\n\n時間\n19:30-20:45\n\n\n\n\n 
URL:https://quwands.jp/event/5642/
END:VEVENT
BEGIN:VEVENT
DTSTART;VALUE=DATE:20260630
DTEND;VALUE=DATE:20260701
DTSTAMP:20260425T102956
CREATED:20260422T053824Z
LAST-MODIFIED:20260422T053824Z
UID:5654-1782777600-1782863999@quwands.jp
SUMMARY:大島Ast 【HIKARU】振替情報
DESCRIPTION:スタジオ名\n大島Aスタジオ\n\n\nクラス\nKIDS KPOP\n\n\n講師名\nHIKARU\n\n\n日付\n4/28(火)→6/30(火)\n\n\n時間\n17:10-18:10\n\n\n\n\n  \n\n\n\nスタジオ名\n大島Aスタジオ\n\n\nクラス\nKPOP入門\n\n\n講師名\nHIKARU\n\n\n日付\n4/28(火)→6/30(火)\n\n\n時間\n18:20-19:20\n\n\n\n\n  \n\n\n\nスタジオ名\n大島Aスタジオ\n\n\nクラス\nKPOP中級\n\n\n講師名\nHIKARU\n\n\n日付\n4/28(火)→6/30(火)\n\n\n時間\n19:30-20:45\n\n\n\n\n 
URL:https://quwands.jp/event/5654/
END:VEVENT
END:VCALENDAR