BEGIN:VCALENDAR
VERSION:2.0
PRODID:-//QUWANDS - ECPv6.10.2//NONSGML v1.0//EN
CALSCALE:GREGORIAN
METHOD:PUBLISH
X-WR-CALNAME:QUWANDS
X-ORIGINAL-URL:https://quwands.jp
X-WR-CALDESC:QUWANDS のイベント
REFRESH-INTERVAL;VALUE=DURATION:PT1H
X-Robots-Tag:noindex
X-PUBLISHED-TTL:PT1H
BEGIN:VTIMEZONE
TZID:Asia/Tokyo
BEGIN:STANDARD
TZOFFSETFROM:+0900
TZOFFSETTO:+0900
TZNAME:JST
DTSTART:20250101T000000
END:STANDARD
END:VTIMEZONE
BEGIN:VEVENT
DTSTART;VALUE=DATE:20251024
DTEND;VALUE=DATE:20251025
DTSTAMP:20260425T212018
CREATED:20251023T052446Z
LAST-MODIFIED:20251024T061708Z
UID:4286-1761264000-1761350399@quwands.jp
SUMMARY:新小岩st【Himeno】代講情報
DESCRIPTION:スタジオ名\n新小岩スタジオ\n\n\nクラス\nリトルキッズK-POP\n\n\n講師名\nHimeno→CHIKA\n\n\n日付\n10/24(金)\n\n\n時間\n16:00-17:00\n\n\n\n  \n\n\n\nスタジオ名\n新小岩スタジオ\n\n\nクラス\nKIDS K-POP\n\n\n講師名\nHimeno→CHIKA\n\n\n日付\n10/24(金)\n\n\n時間\n17:10-18:10\n\n\n\n  \n\n\n\nスタジオ名\n新小岩スタジオ\n\n\nクラス\nK-POP入門\n\n\n講師名\nHimeno→Rino\n\n\n日付\n10/24(金)\n\n\n時間\n18:20-19:20\n\n\n\n  \n\n\n\nスタジオ名\n新小岩スタジオ\n\n\nクラス\nK-POP応用\n\n\n講師名\nHimeno→Rino\n\n\n日付\n10/24(金)\n\n\n時間\n19:30-21:00\n\n\n\n 
URL:https://quwands.jp/event/4286/
END:VEVENT
BEGIN:VEVENT
DTSTART;VALUE=DATE:20251025
DTEND;VALUE=DATE:20251026
DTSTAMP:20260425T212018
CREATED:20250909T054331Z
LAST-MODIFIED:20250909T054331Z
UID:3957-1761350400-1761436799@quwands.jp
SUMMARY:砂銀Ast 【Mayong K Sato】振替情報
DESCRIPTION:スタジオ名\n砂銀Aスタジオ\n\n\nクラス\nHIPHOP応用\n\n\n講師名\nMayong K Sato\n\n\n日付\n10/4(土)→10/25(土)\n\n\n時間\n15:20-16:50→16:50-18:20\n\n\n\n  \n\n\n\nスタジオ名\n砂銀Aスタジオ\n\n\nクラス\n大人超初級ダンス\n\n\n講師名\nMayong K Sato\n\n\n日付\n10/25(土)\n\n\n時間\n17:10-18:10→18:40-19:40
URL:https://quwands.jp/event/3957/
END:VEVENT
BEGIN:VEVENT
DTSTART;VALUE=DATE:20251025
DTEND;VALUE=DATE:20251026
DTSTAMP:20260425T212018
CREATED:20250909T060055Z
LAST-MODIFIED:20251015T053714Z
UID:3657-1761350400-1761436799@quwands.jp
SUMMARY:砂銀Bst【PASSION】振替情報
DESCRIPTION:スタジオ名\n砂銀Aスタジオ→砂銀Bスタジオ\n\n\nクラス\nJAZZHIPHOP基礎応用\n\n\n講師名\nPASSION\n\n\n日付\n10/25(土)\n\n\n時間\n19:30-21:00\n\n\n\n 
URL:https://quwands.jp/event/3657/
END:VEVENT
BEGIN:VEVENT
DTSTART;VALUE=DATE:20251025
DTEND;VALUE=DATE:20251026
DTSTAMP:20260425T212018
CREATED:20250916T053355Z
LAST-MODIFIED:20251015T053720Z
UID:4006-1761350400-1761436799@quwands.jp
SUMMARY:新小岩st【舞】振替情報
DESCRIPTION:スタジオ名\n新小岩スタジオ\n\n\nクラス\nKIDS KPOP\n\n\n講師名\n舞\n\n\n日付\n10/25(土)→11/29(土)\n\n\n時間\n15:10-16:10\n\n\n\n  \n\n\n\nスタジオ名\n新小岩スタジオ\n\n\nクラス\nKPOP入門\n\n\n講師名\n舞\n\n\n日付\n10/25(土)→11/29(土)\n\n\n時間\n16:20-17:20\n\n\n\n  \n\n\n\nスタジオ名\n新小岩スタジオ\n\n\nクラス\nKPOP中級\n\n\n講師名\n舞\n\n\n日付\n10/25(土)→11/29(土)\n\n\n時間\n17:30-18:45
URL:https://quwands.jp/event/4006/
END:VEVENT
BEGIN:VEVENT
DTSTART;VALUE=DATE:20251025
DTEND;VALUE=DATE:20251026
DTSTAMP:20260425T212018
CREATED:20251112T100212Z
LAST-MODIFIED:20251112T100212Z
UID:4445-1761350400-1761436799@quwands.jp
SUMMARY:砂銀Bst【Sho-hey】振替情報
DESCRIPTION:スタジオ名\n砂銀Bスタジオ\n\n\nクラス\nHIPHOP中級 \n\n\n講師名\nSho-hey\n\n\n日付\n10/25(土)→11/24(月)\n\n\n時間\n12:30-13:45→10:00-11:15\n\n\n\n 
URL:https://quwands.jp/event/4445/
END:VEVENT
BEGIN:VEVENT
DTSTART;VALUE=DATE:20251025
DTEND;VALUE=DATE:20251026
DTSTAMP:20260425T212018
CREATED:20251024T061931Z
LAST-MODIFIED:20251117T052837Z
UID:4295-1761350400-1761436799@quwands.jp
SUMMARY:大島st 【Genki/YU-SHI】代講情報
DESCRIPTION:スタジオ名\n大島スタジオ\n\n\nクラス\nKIDS HIPHOP\n\n\n講師名\nGenki→YU-SHI\n\n\n日付\n10/25(土)\n\n\n時間\n14:10-15:10\n\n\n\n  \n\n\n\nスタジオ名\n大島スタジオ\n\n\nクラス\nHIPHOP入門\n\n\n講師名\nGenki→YU-SHI\n\n\n日付\n10/25(土)\n\n\n時間\n15:20-16:20\n\n\n\n  \n\n\n\nスタジオ名\n大島スタジオ\n\n\nクラス\nHHIPHOP応用\n\n\n講師名\nGenki→YU-SHI\n\n\n日付\n10/25(土)\n\n\n時間\n16:30-18:00
URL:https://quwands.jp/event/4295/
END:VEVENT
BEGIN:VEVENT
DTSTART;VALUE=DATE:20251025
DTEND;VALUE=DATE:20251026
DTSTAMP:20260425T212018
CREATED:20250905T012426Z
LAST-MODIFIED:20250911T101516Z
UID:3924-1761350400-1761436799@quwands.jp
SUMMARY:砂銀Bst 【dayo】振替情報
DESCRIPTION:スタジオ名\n砂銀Bスタジオ\n\n\nクラス\nキッズチア\n\n\n講師名\ndayo\n\n\n日付\n10/25(土)→10/13(月)\n\n\n時間\n16:40-17:40→14:00-15:00\n\n\n\n  \n\n\n\nスタジオ名\n砂銀Bスタジオ\n\n\nクラス\nJAZZ 基礎応用\n\n\n講師名\ndayo\n\n\n日付\n10/25(土)→10/13(月)\n\n\n時間\n17:50-19:20→12:20-13:50
URL:https://quwands.jp/event/3924/
END:VEVENT
BEGIN:VEVENT
DTSTART;VALUE=DATE:20251026
DTEND;VALUE=DATE:20251027
DTSTAMP:20260425T212018
CREATED:20250916T053013Z
LAST-MODIFIED:20251112T095928Z
UID:4000-1761436800-1761523199@quwands.jp
SUMMARY:砂銀Ast【舞】振替情報
DESCRIPTION:スタジオ名\n砂銀Aスタジオ\n\n\nクラス\nKIDS KPOP\n\n\n講師名\n舞\n\n\n日付\n10/26(日)→11/30(日)\n\n\n時間\n13:00-14:00\n\n\n\n  \n\n\n\nスタジオ名\n砂銀Bスタジオ\n\n\nクラス\nKPOP入門\n\n\n講師名\n舞\n\n\n日付\n10/26(日)→11/30(日)\n\n\n時間\n14:20-15:20\n\n\n\n  \n\n\n\nスタジオ名\n砂銀Bスタジオ\n\n\nクラス\nKPOP応用\n\n\n講師名\n舞\n\n\n日付\n10/26(日)→11/30(日)\n\n\n時間\n15:30-17:00
URL:https://quwands.jp/event/4000/
END:VEVENT
BEGIN:VEVENT
DTSTART;VALUE=DATE:20251026
DTEND;VALUE=DATE:20251027
DTSTAMP:20260425T212018
CREATED:20250918T052139Z
LAST-MODIFIED:20250918T052139Z
UID:4046-1761436800-1761523199@quwands.jp
SUMMARY:大島st 【MiYuu】振替情報
DESCRIPTION:  \n\n\n\nスタジオ名\n大島スタジオ\n\n\nクラス\nHIPHOP応用\n\n\n講師名\nMiYuu\n\n\n日付\n9/14(日)→10/26(日)\n\n\n時間\n19:30-20:45→12:20-13:50\n\n\n\n 
URL:https://quwands.jp/event/4046/
END:VEVENT
BEGIN:VEVENT
DTSTART;VALUE=DATE:20251028
DTEND;VALUE=DATE:20251029
DTSTAMP:20260425T212018
CREATED:20250829T012813Z
LAST-MODIFIED:20250829T012813Z
UID:3835-1761609600-1761695999@quwands.jp
SUMMARY:砂銀Ast 【KYOKA/HARU】代講情報
DESCRIPTION:スタジオ名\n砂銀Aスタジオ\n\n\nクラス\nKIDS HIPHOP \n\n\n講師名\nKYOKA→HARU\n\n\n日付\n10/28(火)\n\n\n時間\n17:10-18:10\n\n\n\n  \n\n\n\nスタジオ名\n砂銀Aスタジオ\n\n\nクラス\nHIPHOP入門\n\n\n講師名\nKYOKA→HARU\n\n\n日付\n10/28(火)\n\n\n時間\n18:20-19:20\n\n\n\n  \n\n\n\nスタジオ名\n砂銀Aスタジオ\n\n\nクラス\nHIPHOP中級\n\n\n講師名\nKYOKA→HARU\n\n\n日付\n10/28(火)\n\n\n時間\n19:30-20:45
URL:https://quwands.jp/event/3835/
END:VEVENT
BEGIN:VEVENT
DTSTART;VALUE=DATE:20251028
DTEND;VALUE=DATE:20251029
DTSTAMP:20260425T212018
CREATED:20250917T052908Z
LAST-MODIFIED:20250922T093212Z
UID:4026-1761609600-1761695999@quwands.jp
SUMMARY:大島st 【HIKARU/陽菜】代講情報
DESCRIPTION:スタジオ名\n大島スタジオ\n\n\nクラス\nKIDS KPOP\n\n\n講師名\nHIKARU→陽菜\n\n\n日付\n10/28(火)\n\n\n時間\n17:10-18:10\n\n\n\n  \n\n\n\nスタジオ名\n大島スタジオ\n\n\nクラス\nKPOP入門\n\n\n講師名\nHIKARU→陽菜\n\n\n日付\n10/28(火)\n\n\n時間\n18:20-19:20\n\n\n\n  \n\n\n\nスタジオ名\n大島スタジオ\n\n\nクラス\nKPOP応用\n\n\n講師名\nHIKARU→陽菜\n\n\n日付\n10/28(火)\n\n\n時間\n19:30-21:00
URL:https://quwands.jp/event/4026/
END:VEVENT
BEGIN:VEVENT
DTSTART;VALUE=DATE:20251029
DTEND;VALUE=DATE:20251030
DTSTAMP:20260425T212018
CREATED:20251024T062142Z
LAST-MODIFIED:20251024T062142Z
UID:4297-1761696000-1761782399@quwands.jp
SUMMARY:砂銀Ast【Genki】クラス振替情報
DESCRIPTION:スタジオ名\n砂銀Aスタジオ\n\n\nクラス\nHIPHOP中級\n\n\n講師名\nGenki\n\n\n日付\n11/5(水)→10/29(水)\n\n\n時間\n19:30-20:45\n\n\n\n 
URL:https://quwands.jp/event/4297/
END:VEVENT
BEGIN:VEVENT
DTSTART;VALUE=DATE:20251029
DTEND;VALUE=DATE:20251030
DTSTAMP:20260425T212018
CREATED:20250818T031251Z
LAST-MODIFIED:20251029T061953Z
UID:3662-1761696000-1761782399@quwands.jp
SUMMARY:大島st 【優美香】振替情報
DESCRIPTION:  \n\n\n\nスタジオ名\n大島スタジオ\n\n\nクラス\nJAZZ入門 \n\n\n講師名\n優美香→Luka\n\n\n日付\n8/20(水)\n→10/29(水)\n\n\n時間\n18:20-19:20\n\n\n\n  \n\n\n\nスタジオ名\n大島スタジオ\n\n\nクラス\nJAZZ中級\n\n\n講師名\n優美香→Luka\n\n\n日付\n8/20(水)\n→10/29(水)\n\n\n時間\n19:30-21:00\n\n\n\n 
URL:https://quwands.jp/event/3662/
END:VEVENT
BEGIN:VEVENT
DTSTART;VALUE=DATE:20251029
DTEND;VALUE=DATE:20251030
DTSTAMP:20260425T212018
CREATED:20250905T011943Z
LAST-MODIFIED:20250918T052733Z
UID:3922-1761696000-1761782399@quwands.jp
SUMMARY:新小岩st【Ari_pown】振替情報
DESCRIPTION:スタジオ名\n新小岩スタジオ\n\n\nクラス\nKIDS HIPHOP\n\n\n講師名\nAri_pown\n\n\n日付\n9/10(水)→10/29(水)\n\n\n時間\n17:10-18:10\n\n\n\n  \n\n\n\nスタジオ名\n新小岩スタジオ\n\n\nクラス\nHIPHOP入門\n\n\n講師名\nAri_pown\n\n\n日付\n9/10(水)→10/29(水)\n\n\n時間\n18:20-19:20\n\n\n\n  \n\n\n\nスタジオ名\n新小岩スタジオ\n\n\nクラス\nHIPHOP応用\n\n\n講師名\nAri_pown\n\n\n日付\n9/10(水)→10/29(水)\n\n\n時間\n19:30-21:00
URL:https://quwands.jp/event/3922/
END:VEVENT
BEGIN:VEVENT
DTSTART;VALUE=DATE:20251029
DTEND;VALUE=DATE:20251030
DTSTAMP:20260425T212018
CREATED:20251022T054010Z
LAST-MODIFIED:20251022T060725Z
UID:4252-1761696000-1761782399@quwands.jp
SUMMARY:砂銀Ast【PASSION】振替情報
DESCRIPTION:スタジオ名\n砂銀Aスタジオ\n\n\nクラス\nJAZZHIPHOP基礎応用\n\n\n講師名\nPASSION\n\n\n日付\n8/16(土)→10/29(水)\n\n\n\n時間\n19:30-21:00→17:50-19:20\n\n\n\n 
URL:https://quwands.jp/event/4252/
END:VEVENT
BEGIN:VEVENT
DTSTART;VALUE=DATE:20251030
DTEND;VALUE=DATE:20251031
DTSTAMP:20260425T212018
CREATED:20250807T073745Z
LAST-MODIFIED:20250826T050755Z
UID:3630-1761782400-1761868799@quwands.jp
SUMMARY:新小岩st 【aoi kasahara】振替情報
DESCRIPTION:スタジオ名\n新小岩スタジオ\n\n\nクラス\nKIDS JAZZ\n\n\n講師名\naoi kasahara\n\n\n日付\n8/7(木)\n→10/30(木)\n\n\n時間\n17:10-18:10\n\n\n\n  \n\n\n\nスタジオ名\n新小岩スタジオ\n\n\nクラス\nJAZZ入門\n\n\n講師名\naoi kasahara\n\n\n日付\n8/7(木)\n→10/30(木)\n\n\n時間\n18:20-19:20\n\n\n\n  \n\n\n\nスタジオ名\n新小岩スタジオ\n\n\nクラス\nJAZZ中級\n\n\n講師名\naoi kasahara\n\n\n日付\n8/7(木)\n→10/30(木)\n\n\n時間\n19:30-20:45\n\n\n\n 
URL:https://quwands.jp/event/3630/
END:VEVENT
BEGIN:VEVENT
DTSTART;VALUE=DATE:20251030
DTEND;VALUE=DATE:20251031
DTSTAMP:20260425T212018
CREATED:20250925T072955Z
LAST-MODIFIED:20250925T072955Z
UID:4116-1761782400-1761868799@quwands.jp
SUMMARY:砂銀Ast 【MINORI】振替情報
DESCRIPTION:スタジオ名\n砂銀Aスタジオ\n\n\nクラス\nリトルキッズ体操 \n\n\n講師名\nMINORI\n\n\n日付\n10/23(木)→10/30(木)\n\n\n時間\n16:00-17:00\n\n\n\n 
URL:https://quwands.jp/event/4116/
END:VEVENT
BEGIN:VEVENT
DTSTART;VALUE=DATE:20251030
DTEND;VALUE=DATE:20251031
DTSTAMP:20260425T212018
CREATED:20250925T073359Z
LAST-MODIFIED:20251003T090359Z
UID:4120-1761782400-1761868799@quwands.jp
SUMMARY:砂銀Bst 【Satodai】振替情報
DESCRIPTION:スタジオ名\n砂銀Bスタジオ\n\n\nクラス\nジュニア体操 \n\n\n講師名\nSatodai\n\n\n日付\n10/23(木)→10/30(木)\n\n\n時間\n17:10-18:10\n\n\n\n  \n\n\n\nスタジオ名\n砂銀Bスタジオ\n\n\nクラス\n体操 \n\n\n講師名\nSatodai\n\n\n日付\n10/23(木)→10/30(木)\n\n\n時間\n18:20-19:20\n\n\n\n 
URL:https://quwands.jp/event/4120/
END:VEVENT
BEGIN:VEVENT
DTSTART;VALUE=DATE:20251030
DTEND;VALUE=DATE:20251031
DTSTAMP:20260425T212018
CREATED:20251022T055802Z
LAST-MODIFIED:20251022T060826Z
UID:4268-1761782400-1761868799@quwands.jp
SUMMARY:砂銀Ast【PASSION】振替情報
DESCRIPTION:スタジオ名\n砂銀Aスタジオ\n\n\nクラス\nJAZZHIPHOP基礎応用\n\n\n講師名\nPASSION\n\n\n日付\n9/13(土)→10/30(木)\n\n\n時間\n19:30-21:00→17:50-19:20\n\n\n\n 
URL:https://quwands.jp/event/4268/
END:VEVENT
BEGIN:VEVENT
DTSTART;VALUE=DATE:20251031
DTEND;VALUE=DATE:20251101
DTSTAMP:20260425T212018
CREATED:20250922T093043Z
LAST-MODIFIED:20251017T070725Z
UID:4081-1761868800-1761955199@quwands.jp
SUMMARY:砂銀Bst【Hana* 】振替情報
DESCRIPTION:スタジオ名\n砂銀Bスタジオ\n\n\nクラス\nKIDS HIPHOP\n\n\n講師名\nHana* \n\n\n日付\n10/3(金)→10/31(金)\n\n\n時間\n17:10-18:10\n\n\n\n  \n\n\n\nスタジオ名\n砂銀Bスタジオ\n\n\nクラス\nHIPHOP入門 \n\n\n講師名\nHana* \n\n\n日付\n10/3(金)→10/31(金)\n\n\n時間\n18:20-19:20\n\n\n\n  \n\n\n\nスタジオ名\n砂銀Bスタジオ\n\n\nクラス\nHIPHOP応用 \n\n\n講師名\nHana* \n\n\n日付\n10/3(金)→10/31(金)\n\n\n時間\n19:30-21:00\n\n\n\n 
URL:https://quwands.jp/event/4081/
END:VEVENT
BEGIN:VEVENT
DTSTART;VALUE=DATE:20251101
DTEND;VALUE=DATE:20251102
DTSTAMP:20260425T212018
CREATED:20250909T054442Z
LAST-MODIFIED:20250909T054442Z
UID:3959-1761955200-1762041599@quwands.jp
SUMMARY:砂銀Ast 【Mayong K Sato】振替情報
DESCRIPTION:スタジオ名\n砂銀Aスタジオ\n\n\nクラス\n大人超初級ダンス\n\n\n講師名\nMayong K Sato\n\n\n日付\n10/4(土)→11/1(土)\n\n\n時間\n17:10-18:10→18:10-19:10
URL:https://quwands.jp/event/3959/
END:VEVENT
BEGIN:VEVENT
DTSTART;VALUE=DATE:20251101
DTEND;VALUE=DATE:20251102
DTSTAMP:20260425T212018
CREATED:20251010T065308Z
LAST-MODIFIED:20251015T053658Z
UID:4194-1761955200-1762041599@quwands.jp
SUMMARY:砂銀Ast【CHIKA】振替情報
DESCRIPTION:スタジオ名\n砂銀Aスタジオ\n\n\nクラス\nリトルキッズ体操\n\n\n講師名\nCHIKA\n\n\n日付\n11/1(土)→11/29(土)\n\n\n時間\n10:00-11:00\n\n\n\n  \n\n\n\nスタジオ名\n砂銀Aスタジオ\n\n\nクラス\nリトルキッズダンス\n\n\n講師名\nCHIKA\n\n\n日付\n11/1(土)→11/29(土)\n\n\n時間\n11:10-12:10
URL:https://quwands.jp/event/4194/
END:VEVENT
BEGIN:VEVENT
DTSTART;TZID=Asia/Tokyo:20251101T000000
DTEND;TZID=Asia/Tokyo:20251101T235900
DTSTAMP:20260425T212018
CREATED:20251107T065551Z
LAST-MODIFIED:20251107T065551Z
UID:4429-1761955200-1762041540@quwands.jp
SUMMARY:大島st 【Genki/RYOSUKE】代講情報
DESCRIPTION:スタジオ名\n大島スタジオ\n\n\nクラス\nKIDS HIPHOP\n\n\n講師名\nGenki→RYOSUKE\n\n\n日付\n11/1(土)\n\n\n時間\n14:10-15:10\n\n\n\n  \n\n\n\nスタジオ名\n大島スタジオ\n\n\nクラス\nHIPHOP入門\n\n\n講師名\nGenki→RYOSUKE\n\n\n日付\n11/1(土)\n\n\n時間\n15:20-16:20\n\n\n\n  \n\n\n\nスタジオ名\n大島スタジオ\n\n\nクラス\nHHIPHOP応用\n\n\n講師名\nGenki→RYOSUKE\n\n\n日付\n11/1(土)\n\n\n時間\n16:30-18:00
URL:https://quwands.jp/event/4429/
END:VEVENT
BEGIN:VEVENT
DTSTART;VALUE=DATE:20251101
DTEND;VALUE=DATE:20251102
DTSTAMP:20260425T212018
CREATED:20251024T064028Z
LAST-MODIFIED:20251101T081207Z
UID:4317-1761955200-1762041599@quwands.jp
SUMMARY:砂銀Bst 【KAKERU/Sho-hey】代講情報
DESCRIPTION:スタジオ名\n砂銀Bスタジオ\n\n\nクラス\nキッズ体操\n\n\n講師名\nKAKERU→Sho-hey\n\n\n日付\n11/1(土)\n\n\n時間\n10:00-11:00\n\n\n\n 
URL:https://quwands.jp/event/4317/
END:VEVENT
BEGIN:VEVENT
DTSTART;VALUE=DATE:20251101
DTEND;VALUE=DATE:20251102
DTSTAMP:20260425T212018
CREATED:20251030T092709Z
LAST-MODIFIED:20251030T092820Z
UID:4373-1761955200-1762041599@quwands.jp
SUMMARY:平井st 【YUKO】振替情報
DESCRIPTION:スタジオ名\n平井スタジオ\n\n\nクラス\nヨガストレッチ\n\n\n講師名\nYUKO\n\n\n日付\n11/1(土)→11/29(土)\n\n\n時間\n9:30-10:30\n\n\n\n  \n\n\n\nスタジオ名\n平井スタジオ\n\n\nクラス\nヨガ\n\n\n講師名\nYUKO\n\n\n日付\n11/1(土)→11/29(土)\n\n\n時間\n10:40-11:40\n\n\n\n 
URL:https://quwands.jp/event/4373/
END:VEVENT
BEGIN:VEVENT
DTSTART;VALUE=DATE:20251102
DTEND;VALUE=DATE:20251103
DTSTAMP:20260425T212018
CREATED:20251010T070902Z
LAST-MODIFIED:20251010T070902Z
UID:4200-1762041600-1762127999@quwands.jp
SUMMARY:平井st 【CHIKA→HARU/MINORI】代講情報
DESCRIPTION:スタジオ名\n平井スタジオ\n\n\nクラス\nリトルキッズダンス \n\n\n講師名\nCHIKA→HARU\n\n\n日付\n11/2(日)\n\n\n時間\n13:00-14:00\n\n\n\n  \n\n\n\nスタジオ名\n平井スタジオ\n\n\nクラス\nキッズ体操\n\n\n講師名\nCHIKA→MINORI\n\n\n日付\n11/2(日)\n\n\n時間\n14:10-15:10\n\n\n\n  \n\n\n\nスタジオ名\n平井スタジオ\n\n\nクラス\n体操\n\n\n講師名\nCHIKA→MINORI\n\n\n日付\n11/2(日)\n\n\n時間\n15:20-16:50
URL:https://quwands.jp/event/4200/
END:VEVENT
BEGIN:VEVENT
DTSTART;VALUE=DATE:20251102
DTEND;VALUE=DATE:20251103
DTSTAMP:20260425T212018
CREATED:20251024T064249Z
LAST-MODIFIED:20251101T081403Z
UID:4319-1762041600-1762127999@quwands.jp
SUMMARY:砂銀Bst 【KAKERU/Sho-hey】代講情報
DESCRIPTION:スタジオ名\n砂銀Bスタジオ\n\n\nクラス\nキッズ体操\n\n\n講師名\nKAKERU→Sho-hey\n\n\n日付\n11/2(日)\n\n\n時間\n11:10-12:10\n\n\n\n  \n\n\n\nスタジオ名\n砂銀Bスタジオ\n\n\nクラス\n体操\n\n\n講師名\nKAKERU→Sho-hey\n\n\n日付\n11/2(日)\n\n\n時間\n12:30-13:30
URL:https://quwands.jp/event/4319/
END:VEVENT
BEGIN:VEVENT
DTSTART;VALUE=DATE:20251103
DTEND;VALUE=DATE:20251104
DTSTAMP:20260425T212018
CREATED:20250909T052955Z
LAST-MODIFIED:20251015T053647Z
UID:3947-1762128000-1762214399@quwands.jp
SUMMARY:新小岩st【Mayong K Sato】振替情報
DESCRIPTION:スタジオ名\n新小岩スタジオ\n\n\nクラス\nKIDSHIPHOP\n\n\n講師名\nMayong K Sato\n\n\n日付\n10/5(日)→11/3(月)\n\n\n時間\n12:30-13:30→12:15-13:15\n\n\n\n  \n\n\n\nスタジオ名\n新小岩スタジオ\n\n\nクラス\nHIPHOP入門\n\n\n講師名\nMayong K Sato\n\n\n日付\n10/5(日)→11/3(月)\n\n\n時間\n13:40-14:40→13:25-14:25\n\n\n\n  \n\n\n\nスタジオ名\n新小岩スタジオ\n\n\nクラス\nHIPHOP中級\n\n\n講師名\nMayong K Sato\n\n\n日付\n10/5(日)→11/3(月)\n\n\n時間\n14:50-16:05→14:35-15:50\n\n\n\n 
URL:https://quwands.jp/event/3947/
END:VEVENT
BEGIN:VEVENT
DTSTART;VALUE=DATE:20251103
DTEND;VALUE=DATE:20251104
DTSTAMP:20260425T212018
CREATED:20251103T032519Z
LAST-MODIFIED:20251103T043529Z
UID:4403-1762128000-1762214399@quwands.jp
SUMMARY:砂銀Bst 【manabu】振替情報
DESCRIPTION:スタジオ名\n砂銀Bスタジオ\n\n\nクラス\nキッズHIPHOP\n\n\n講師名\nmanabu\n\n\n日付\n11/3(月)→11/30(日)\n\n\n時間\n17:10-18:10\n\n\n\n  \n\n\n\nスタジオ名\n砂銀Bスタジオ\n\n\nクラス\nHIPHOP入門\n\n\n講師名\nmanabu\n\n\n日付\n11/3(月)→11/30(日)\n\n\n時間\n18:20-19:20\n\n\n\n  \n\n\n\nスタジオ名\n砂銀Bスタジオ\n\n\nクラス\nHIPHOP応用\n\n\n講師名\nmanabu\n\n\n日付\n11/3(月)→11/30(日)\n\n\n時間\n19:30-21:00
URL:https://quwands.jp/event/4403/
END:VEVENT
BEGIN:VEVENT
DTSTART;VALUE=DATE:20251103
DTEND;VALUE=DATE:20251104
DTSTAMP:20260425T212018
CREATED:20251103T041048Z
LAST-MODIFIED:20251103T041100Z
UID:4411-1762128000-1762214399@quwands.jp
SUMMARY:新小岩st【newsteelo】振替情報
DESCRIPTION:スタジオ名\n新小岩スタジオ\n\n\nクラス\nBREAKIN\n\n\n講師名\nnewsteelo\n\n\n日付\n11/3(月)→12/29(月)予定\n\n\n時間\n19:30-20:45\n\n\n\n 
URL:https://quwands.jp/event/4411/
END:VEVENT
END:VCALENDAR