BEGIN:VCALENDAR
VERSION:2.0
PRODID:-//QUWANDS - ECPv6.10.2//NONSGML v1.0//EN
CALSCALE:GREGORIAN
METHOD:PUBLISH
X-WR-CALNAME:QUWANDS
X-ORIGINAL-URL:https://quwands.jp
X-WR-CALDESC:QUWANDS のイベント
REFRESH-INTERVAL;VALUE=DURATION:PT1H
X-Robots-Tag:noindex
X-PUBLISHED-TTL:PT1H
BEGIN:VTIMEZONE
TZID:Asia/Tokyo
BEGIN:STANDARD
TZOFFSETFROM:+0900
TZOFFSETTO:+0900
TZNAME:JST
DTSTART:20250101T000000
END:STANDARD
END:VTIMEZONE
BEGIN:VEVENT
DTSTART;VALUE=DATE:20250930
DTEND;VALUE=DATE:20251001
DTSTAMP:20260425T231526
CREATED:20250904T051946Z
LAST-MODIFIED:20250904T051946Z
UID:3908-1759190400-1759276799@quwands.jp
SUMMARY:砂銀Ast 【SATOKO】振替情報
DESCRIPTION:  \n\n\n\nスタジオ名\n砂銀Aスタジオ\n\n\nクラス\nヨガ \n\n\n講師名\nSATOKO\n\n\n日付\n9/23(火)→9/30(火)\n\n\n時間\n10:00-11:00\n\n\n\n 
URL:https://quwands.jp/event/3908/
END:VEVENT
BEGIN:VEVENT
DTSTART;VALUE=DATE:20250930
DTEND;VALUE=DATE:20251001
DTSTAMP:20260425T231526
CREATED:20250903T092812Z
LAST-MODIFIED:20250918T052906Z
UID:3873-1759190400-1759276799@quwands.jp
SUMMARY:新小岩st【Airi】振替情報
DESCRIPTION:スタジオ名\n新小岩スタジオ\n\n\nクラス\nKIDS HIPHOP\n\n\n講師名\nAiri\n\n\n日付\n9/2(火)→9/30(火)\n\n\n時間\n17:10-18:10\n\n\n\n  \n\n\n\nスタジオ名\n新小岩スタジオ\n\n\nクラス\nHIPHOP入門\n\n\n講師名\nAiri\n\n\n日付\n9/2(火)→9/30(火)\n\n\n時間\n18:20-19:20\n\n\n\n  \n\n\n\nスタジオ名\n新小岩スタジオ\n\n\nクラス\nHIPHOP中級\n\n\n講師名\nAiri\n\n\n日付\n9/2(火)→9/30(火)\n\n\n時間\n19:30-20:45
URL:https://quwands.jp/event/3873/
END:VEVENT
BEGIN:VEVENT
DTSTART;VALUE=DATE:20250930
DTEND;VALUE=DATE:20251001
DTSTAMP:20260425T231526
CREATED:20250903T094017Z
LAST-MODIFIED:20250918T052853Z
UID:3881-1759190400-1759276799@quwands.jp
SUMMARY:大島st【HIKARU】振替情報
DESCRIPTION:スタジオ名\n大島スタジオ\n\n\nクラス\nKIDS KPOP\n\n\n講師名\nHIKARU\n\n\n日付\n9/9(火)→9/30(火)\n\n\n時間\n17:10-18:10\n\n\n\n  \n\n\n\nスタジオ名\n大島スタジオ\n\n\nクラス\nKPOP入門\n\n\n講師名\nHIKARU\n\n\n日付\n9/9(火)→9/30(火)\n\n\n時間\n18:20-19:20\n\n\n\n  \n\n\n\nスタジオ名\n大島スタジオ\n\n\nクラス\nKPOP応用\n\n\n講師名\nHIKARU\n\n\n日付\n9/9(火)→9/30(火)\n\n\n時間\n19:30-21:00
URL:https://quwands.jp/event/3881/
END:VEVENT
BEGIN:VEVENT
DTSTART;VALUE=DATE:20250929
DTEND;VALUE=DATE:20250930
DTSTAMP:20260425T231526
CREATED:20250904T012904Z
LAST-MODIFIED:20250904T012904Z
UID:3893-1759104000-1759190399@quwands.jp
SUMMARY:大島st 【RIHONA】振替情報
DESCRIPTION:スタジオ名\n大島スタジオ\n\n\nクラス\nリトルキッズダンス\n\n\n講師名\nRIHONA\n\n\n日付\n9/12(金)→9/29(月)\n\n\n時間\n16:00-17:00\n\n\n\n  \n\n\n\nスタジオ名\n大島スタジオ\n\n\nクラス\nKIDS HIPHOP\n\n\n講師名\nRIHONA\n\n\n日付\n9/12(金)→9/29(月)\n\n\n時間\n17:10-18:10\n\n\n\n  \n\n\n\nスタジオ名\n大島スタジオ\n\n\nクラス\nJAZZHIPHOP入門\n\n\n講師名\nRIHONA\n\n\n日付\n9/12(金)→9/29(月)\n\n\n時間\n18:20-19:20\n\n\n\n  \n\n\n\nスタジオ名\n大島スタジオ\n\n\nクラス\nJAZZHIPHOP応用\n\n\n講師名\nRIHONA\n\n\n日付\n9/12(金)→9/29(月)\n\n\n時間\n19:30-21:00
URL:https://quwands.jp/event/3893/
END:VEVENT
BEGIN:VEVENT
DTSTART;VALUE=DATE:20250929
DTEND;VALUE=DATE:20250930
DTSTAMP:20260425T231526
CREATED:20250716T085256Z
LAST-MODIFIED:20250818T131120Z
UID:3532-1759104000-1759190399@quwands.jp
SUMMARY:新小岩st 【aoi kasahara】振替情報
DESCRIPTION:スタジオ名\n新小岩スタジオ\n\n\nクラス\nKIDS JAZZ\n\n\n講師名\naoi kasahara\n\n\n日付\n5/8(木)\n→9/29(月)\n\n\n時間\n17:10-18:10\n\n\n\n  \n\n\n\nスタジオ名\n新小岩スタジオ\n\n\nクラス\nJAZZ入門\n\n\n講師名\naoi kasahara\n\n\n日付\n5/8(木)\n→9/29(月)\n\n\n時間\n18:20-19:20\n\n\n\n  \n\n\n\nスタジオ名\n新小岩スタジオ\n\n\nクラス\nJAZZ中級\n\n\n講師名\naoi kasahara\n\n\n日付\n5/8(木)\n→9/29(月)\n\n\n時間\n19:30-20:45
URL:https://quwands.jp/event/3532/
END:VEVENT
BEGIN:VEVENT
DTSTART;VALUE=DATE:20250928
DTEND;VALUE=DATE:20250929
DTSTAMP:20260425T231526
CREATED:20250925T072545Z
LAST-MODIFIED:20250925T072637Z
UID:4111-1759017600-1759103999@quwands.jp
SUMMARY:大島st 【MiYuu/HARU】代講情報
DESCRIPTION:スタジオ名\n大島スタジオ\n\n\nクラス\nHIPHOP入門\n\n\n講師名\nMiYuu→HARU\n\n\n日付\n9/28(日)\n\n\n時間\n16:30-17:30\n\n\n\n  \n\n\n\nスタジオ名\n大島スタジオ\n\n\nクラス\nHIPHOP応用\n\n\n講師名\nMiYuu→HARU\n\n\n日付\n9/28(日)\n\n\n時間\n17:40-19:10\n\n\n\n 
URL:https://quwands.jp/event/4111/
END:VEVENT
BEGIN:VEVENT
DTSTART;VALUE=DATE:20250928
DTEND;VALUE=DATE:20250929
DTSTAMP:20260425T231526
CREATED:20250822T112531Z
LAST-MODIFIED:20250826T050738Z
UID:3756-1759017600-1759103999@quwands.jp
SUMMARY:砂銀Ast 【ALISA/RIHONA】代講情報
DESCRIPTION:スタジオ名\n砂銀Bスタジオ\n\n\nクラス\nKIDS HIPHOP \n\n\n講師名\nALISA→RIHONA\n\n\n日付\n9/28(日)\n\n\n時間\n17:10-18:10\n\n\n\n  \n\n\n\nスタジオ名\n砂銀Bスタジオ→砂銀Aスタジオ\n\n\nクラス\nJAZZHIPHOP入門\n\n\n講師名\nALISA→RIHONA\n\n\n日付\n9/28(日)\n\n\n時間\n18:20-19:20\n\n\n\n  \n\n\n\nスタジオ名\n砂銀Bスタジオ→砂銀Aスタジオ\n\n\nクラス\nJAZZ 基礎応用 \n\n\n講師名\nALISA→RIHONA\n\n\n日付\n9/28(日)\n\n\n時間\n19:30-21:00
URL:https://quwands.jp/event/3756/
END:VEVENT
BEGIN:VEVENT
DTSTART;VALUE=DATE:20250927
DTEND;VALUE=DATE:20250928
DTSTAMP:20260425T231526
CREATED:20251024T063845Z
LAST-MODIFIED:20251024T063845Z
UID:4315-1758931200-1759017599@quwands.jp
SUMMARY:砂銀Bst 【Sho-hey/Mayong K Sato】代講情報
DESCRIPTION:スタジオ名\n砂銀Bスタジオ\n\n\nクラス\nKIDS DANCE\n\n\n講師名\nSho-hey→KAKERU\n\n\n日付\n9/27(土)\n\n\n時間\n11:10-12:10\n\n\n\n  \n\n\n\nスタジオ名\n砂銀Bスタジオ\n\n\nクラス\nHIPHOP中級\n\n\n講師名\nSho-hey→Mayong K Sato\n\n\n日付\n9/27(土)\n\n\n時間\n12:30-13:45\n\n\n\n 
URL:https://quwands.jp/event/4315/
END:VEVENT
BEGIN:VEVENT
DTSTART;VALUE=DATE:20250927
DTEND;VALUE=DATE:20250928
DTSTAMP:20260425T231526
CREATED:20250930T063820Z
LAST-MODIFIED:20251003T075537Z
UID:4140-1758931200-1759017599@quwands.jp
SUMMARY:大島スタジオ【Genki/Retro】代講情報
DESCRIPTION:スタジオ名\n大島スタジオ\n\n\nクラス\nキッズHIPHOP\n\n\n講師名\nGenki→Retro\n\n\n日付\n9/27(土)\n\n\n時間\n14:10-15:10\n\n\n\n  \n\n\n\nスタジオ名\n大島スタジオ\n\n\nクラス\nHIPHOP入門\n\n\n講師名\nGenki→Retro\n\n\n日付\n9/27(土)\n\n\n時間\n15:20-16:20\n\n\n\n  \n\n\n\nスタジオ名\n大島スタジオ\n\n\nクラス\nHIPHOP応用\n\n\n講師名\nGenki→Retro\n\n\n日付\n9/27(土)\n\n\n時間\n16:30-18:00
URL:https://quwands.jp/event/4140/
END:VEVENT
BEGIN:VEVENT
DTSTART;VALUE=DATE:20250927
DTEND;VALUE=DATE:20250928
DTSTAMP:20260425T231526
CREATED:20250917T053221Z
LAST-MODIFIED:20251024T063553Z
UID:4028-1758931200-1759017599@quwands.jp
SUMMARY:砂銀Bst 【Sho-hey/Mayong K Sato】代講情報
DESCRIPTION:スタジオ名\n砂銀Bスタジオ\n\n\nクラス\nKIDS DANCE\n\n\n講師名\nSho-hey→KAKERU\n\n\n日付\n9/27(土)\n\n\n時間\n11:10-12:10\n\n\n\n  \n\n\n\nスタジオ名\n砂銀Bスタジオ\n\n\nクラス\nHIPHOP中級\n\n\n講師名\nSho-hey→Mayong K Sato\n\n\n日付\n9/27(土)\n\n\n時間\n12:30-13:45\n\n\n\n 
URL:https://quwands.jp/event/4028/
END:VEVENT
BEGIN:VEVENT
DTSTART;VALUE=DATE:20250926
DTEND;VALUE=DATE:20250927
DTSTAMP:20260425T231526
CREATED:20250825T064654Z
LAST-MODIFIED:20250829T011927Z
UID:3772-1758844800-1758931199@quwands.jp
SUMMARY:平井st 【ALISA/HARU】代講情報
DESCRIPTION:スタジオ名\n平井スタジオ\n\n\nクラス\nKIDS HIPHOP \n\n\n講師名\nALISA→HARU\n\n\n日付\n9/26(金)\n\n\n時間\n17:10-18:10\n\n\n\n  \n\n\n\nスタジオ名\n平井スタジオ\n\n\nクラス\nJAZZHIPHOP入門\n\n\n講師名\nALISA→HARU\n\n\n日付\n9/26(金)\n\n\n時間\n18:20-19:20\n\n\n\n  \n\n\n\nスタジオ名\n平井スタジオ\n\n\nクラス\nJAZZHIPHOP応用\n\n\n講師名\nALISA→HARU\n\n\n日付\n9/26(金)\n\n\n時間\n19:30-21:00\n\n\n\n 
URL:https://quwands.jp/event/3772/
END:VEVENT
BEGIN:VEVENT
DTSTART;VALUE=DATE:20250925
DTEND;VALUE=DATE:20250926
DTSTAMP:20260425T231526
CREATED:20250922T093831Z
LAST-MODIFIED:20250922T093831Z
UID:4088-1758758400-1758844799@quwands.jp
SUMMARY:大島st 【yu-ta/Satodai】代講情報
DESCRIPTION:スタジオ名\n大島スタジオ\n\n\nクラス\nキッズ体操\n\n\n講師名\nyu-ta→Satodai\n\n\n日付\n9/25(木)\n\n\n時間\n16:00-17:00\n\n\n\n  \n\n\n\nスタジオ名\n大島スタジオ\n\n\nクラス\n体操\n\n\n講師名\nyu-ta→Satodai\n\n\n日付\n9/25(木)\n\n\n時間\n17:10-18:10\n\n\n\n 
URL:https://quwands.jp/event/4088/
END:VEVENT
BEGIN:VEVENT
DTSTART;VALUE=DATE:20250925
DTEND;VALUE=DATE:20250926
DTSTAMP:20260425T231526
CREATED:20250922T093420Z
LAST-MODIFIED:20251003T090432Z
UID:4085-1758758400-1758844799@quwands.jp
SUMMARY:砂銀Bst【Satodai/MINORI】代講情報
DESCRIPTION:スタジオ名\n砂銀Bスタジオ\n\n\nクラス\nジュニア体操 \n\n\n講師名\nSatodai→MINORI\n\n\n日付\n9/25(木)\n\n\n時間\n17:10-18:10\n\n\n\n  \n  \n 
URL:https://quwands.jp/event/4085/
END:VEVENT
BEGIN:VEVENT
DTSTART;VALUE=DATE:20250925
DTEND;VALUE=DATE:20250926
DTSTAMP:20260425T231526
CREATED:20250925T072141Z
LAST-MODIFIED:20250925T072141Z
UID:4109-1758758400-1758844799@quwands.jp
SUMMARY:砂銀Bst 【Lón/newsteelo】代講情報
DESCRIPTION:スタジオ名\n砂銀Bスタジオ\n\n\nクラス\nブレイキン基礎応用\n\n\n講師名\nLón→newsteelo\n\n\n日付\n9/25(木)\n\n\n時間\n19:40-20:55\n\n\n\n 
URL:https://quwands.jp/event/4109/
END:VEVENT
BEGIN:VEVENT
DTSTART;VALUE=DATE:20250925
DTEND;VALUE=DATE:20250926
DTSTAMP:20260425T231526
CREATED:20250825T071821Z
LAST-MODIFIED:20250825T071851Z
UID:3792-1758758400-1758844799@quwands.jp
SUMMARY:砂銀Bst 【CHIKA/MINORI合同】振替情報
DESCRIPTION:スタジオ名\n砂銀Aスタジオ→砂銀Bスタジオ\n\n\nクラス\nリトルキッズ体操\n\n\n講師名\nCHIKA、MINORI合同\n\n\n日付\n9/25(木)\n\n\n時間\n16:00-17:00\n\n\n\n 
URL:https://quwands.jp/event/3792/
END:VEVENT
BEGIN:VEVENT
DTSTART;VALUE=DATE:20250924
DTEND;VALUE=DATE:20250925
DTSTAMP:20260425T231526
CREATED:20250903T094500Z
LAST-MODIFIED:20250918T052919Z
UID:3887-1758672000-1758758399@quwands.jp
SUMMARY:大島st【aoi kasahara/Rui】代講情報
DESCRIPTION:スタジオ名\n大島スタジオ\n\n\nクラス\nKIDS JAZZ\n\n\n講師名\naoi kasahara→Rui\n\n\n日付\n9/24(水)\n\n\n時間\n17:00-18:00\n\n\n\n  \n  \n 
URL:https://quwands.jp/event/3887/
END:VEVENT
BEGIN:VEVENT
DTSTART;VALUE=DATE:20250923
DTEND;VALUE=DATE:20250924
DTSTAMP:20260425T231526
CREATED:20250922T092322Z
LAST-MODIFIED:20251003T090516Z
UID:4075-1758585600-1758671999@quwands.jp
SUMMARY:新小岩st【Airi/KoToHa】代講情報
DESCRIPTION:  \n\n\n\nスタジオ名\n新小岩スタジオ\n\n\nクラス\nKIDS HIPHOP\n\n\n講師名\nAiri→KoToHa\n\n\n日付\n9/23(火)\n\n\n時間\n17:10-18:10\n\n\n\n  \n\n\n\nスタジオ名\n新小岩スタジオ\n\n\nクラス\nHIPHOP入門\n\n\n講師名\nAiri→KoToHa\n\n\n日付\n9/23(火)\n\n\n時間\n18:20-19:20\n\n\n\n  \n\n\n\nスタジオ名\n新小岩スタジオ\n\n\nクラス\nHIPHOP中級\n\n\n講師名\nAiri→KoToHa\n\n\n日付\n9/23(火)\n\n\n時間\n19:30-20:45
URL:https://quwands.jp/event/4075/
END:VEVENT
BEGIN:VEVENT
DTSTART;VALUE=DATE:20250923
DTEND;VALUE=DATE:20250924
DTSTAMP:20260425T231526
CREATED:20250904T051919Z
LAST-MODIFIED:20250904T051919Z
UID:3906-1758585600-1758671999@quwands.jp
SUMMARY:砂銀Ast 【SATOKO】振替情報
DESCRIPTION:  \n\n\n\nスタジオ名\n砂銀Aスタジオ\n\n\nクラス\nヨガ \n\n\n講師名\nSATOKO\n\n\n日付\n9/23(火)→9/30(火)\n\n\n時間\n10:00-11:00\n\n\n\n 
URL:https://quwands.jp/event/3906/
END:VEVENT
BEGIN:VEVENT
DTSTART;VALUE=DATE:20250923
DTEND;VALUE=DATE:20250924
DTSTAMP:20260425T231526
CREATED:20250829T013821Z
LAST-MODIFIED:20250829T013821Z
UID:3844-1758585600-1758671999@quwands.jp
SUMMARY:砂銀Ast 【RIHONA】振替情報
DESCRIPTION:スタジオ名\n砂銀Aスタジオ\n\n\nクラス\nKIDS HIPHOP\n\n\n講師名\nRIHONA\n\n\n日付\n9/3(水)→9/23(火)\n\n\n時間\n17:10-18:10→12:00-13:00\n\n\n\n  \n\n\n\nスタジオ名\n砂銀Aスタジオ\n\n\nクラス\nJAZZHIPHOP入門\n\n\n講師名\nRIHONA\n\n\n日付\n9/3(水)→9/23(火)\n\n\n時間\n18:20-19:20→13:10-14:10
URL:https://quwands.jp/event/3844/
END:VEVENT
BEGIN:VEVENT
DTSTART;VALUE=DATE:20250923
DTEND;VALUE=DATE:20250924
DTSTAMP:20260425T231526
CREATED:20250829T012558Z
LAST-MODIFIED:20250829T012558Z
UID:3829-1758585600-1758671999@quwands.jp
SUMMARY:砂銀Ast 【KYOKA/HARU】代講情報
DESCRIPTION:スタジオ名\n砂銀Aスタジオ\n\n\nクラス\nKIDS HIPHOP \n\n\n講師名\nKYOKA→HARU\n\n\n日付\n9/23(火)\n\n\n時間\n17:10-18:10\n\n\n\n  \n\n\n\nスタジオ名\n砂銀Aスタジオ\n\n\nクラス\nHIPHOP入門\n\n\n講師名\nKYOKA→HARU\n\n\n日付\n9/23(火)\n\n\n時間\n18:20-19:20\n\n\n\n  \n\n\n\nスタジオ名\n砂銀Aスタジオ\n\n\nクラス\nHIPHOP中級\n\n\n講師名\nKYOKA→HARU\n\n\n日付\n9/23(火)\n\n\n時間\n19:30-20:45
URL:https://quwands.jp/event/3829/
END:VEVENT
BEGIN:VEVENT
DTSTART;VALUE=DATE:20250922
DTEND;VALUE=DATE:20250923
DTSTAMP:20260425T231526
CREATED:20250905T011614Z
LAST-MODIFIED:20250918T052935Z
UID:3918-1758499200-1758585599@quwands.jp
SUMMARY:新小岩st【Lón/newsteelo】代講情報
DESCRIPTION:  \n\n\n\nスタジオ名\n新小岩スタジオ\n\n\nクラス\nブレイキン基礎応用\n\n\n講師名\nLón→newsteelo\n\n\n日付\n9/22(月)\n\n\n時間\n19:30-20:45\n\n\n\n  \n 
URL:https://quwands.jp/event/3918/
END:VEVENT
BEGIN:VEVENT
DTSTART;VALUE=DATE:20250922
DTEND;VALUE=DATE:20250923
DTSTAMP:20260425T231526
CREATED:20250822T110635Z
LAST-MODIFIED:20250822T110635Z
UID:3727-1758499200-1758585599@quwands.jp
SUMMARY:砂銀Ast 【ALISA/NAO】代講情報
DESCRIPTION:  \n\n\n\nスタジオ名\n砂銀Aスタジオ\n\n\nクラス\nリトルキッズダンス\n\n\n講師名\nALISA→NAO\n\n\n日付\n9/22(月)\n\n\n時間\n16:00-17:00\n\n\n\n  \n\n\n\nスタジオ名\n砂銀Aスタジオ\n\n\nクラス\nKIDS HIPHOP\n\n\n講師名\nALISA→NAO\n\n\n日付\n9/22(月)\n\n\n時間\n17:10-18:10\n\n\n\n  \n\n\n\nスタジオ名\n砂銀Aスタジオ\n\n\nクラス\nJAZZHIPHOP入門\n\n\n講師名\nALISA→NAO\n\n\n日付\n9/22(月)\n\n\n時間\n18:20-19:20\n\n\n\n 
URL:https://quwands.jp/event/3727/
END:VEVENT
BEGIN:VEVENT
DTSTART;VALUE=DATE:20250921
DTEND;VALUE=DATE:20250922
DTSTAMP:20260425T231526
CREATED:20250904T051152Z
LAST-MODIFIED:20250911T051904Z
UID:3904-1758412800-1758499199@quwands.jp
SUMMARY:平井st 【CHIKA→HARU/MINORI】代講情報
DESCRIPTION:スタジオ名\n平井スタジオ\n\n\nクラス\nリトルキッズダンス \n\n\n講師名\nCHIKA→HARU\n\n\n日付\n9/21(日)\n\n\n時間\n13:00-14:00\n\n\n\n  \n\n\n\nスタジオ名\n平井スタジオ\n\n\nクラス\nキッズ体操\n\n\n講師名\nCHIKA→MINORI\n\n\n日付\n9/21(日)\n\n\n時間\n14:10-15:10\n\n\n\n  \n\n\n\nスタジオ名\n平井スタジオ\n\n\nクラス\n体操\n\n\n講師名\nCHIKA→MINORI\n\n\n日付\n9/21(日)\n\n\n時間\n15:20-16:50
URL:https://quwands.jp/event/3904/
END:VEVENT
BEGIN:VEVENT
DTSTART;VALUE=DATE:20250921
DTEND;VALUE=DATE:20250922
DTSTAMP:20260425T231526
CREATED:20250904T014323Z
LAST-MODIFIED:20250917T053758Z
UID:3901-1758412800-1758499199@quwands.jp
SUMMARY:砂銀Ast 【舞/iTSUKi】代講情報
DESCRIPTION:スタジオ名\n砂銀Aスタジオ\n\n\nクラス\nKIDS KPOP\n\n\n講師名\n舞→iTSUKi\n\n\n日付\n9/21(日)\n\n\n時間\n13:00-14:00\n\n\n\n  \n\n\n\nスタジオ名\n砂銀Bスタジオ→砂銀Aスタジオ\n\n\nクラス\nKPOP入門\n\n\n講師名\n舞→iTSUKi\n\n\n日付\n9/21(日)\n\n\n時間\n14:20-15:20\n\n\n\n  \n\n\n\nスタジオ名\n砂銀Bスタジオ→砂銀Aスタジオ\n\n\nクラス\nKPOP応用\n\n\n講師名\n舞→iTSUKi\n\n\n日付\n9/21(日)\n\n\n時間\n15:30-17:00
URL:https://quwands.jp/event/3901/
END:VEVENT
BEGIN:VEVENT
DTSTART;VALUE=DATE:20250921
DTEND;VALUE=DATE:20250922
DTSTAMP:20260425T231526
CREATED:20250822T112459Z
LAST-MODIFIED:20250828T055346Z
UID:3754-1758412800-1758499199@quwands.jp
SUMMARY:砂銀Ast 【ALISA/PASSION】代講情報
DESCRIPTION:スタジオ名\n砂銀Bスタジオ\n\n\nクラス\nKIDS HIPHOP \n\n\n講師名\nALISA→PASSION\n\n\n日付\n9/21(日)\n\n\n時間\n17:10-18:10\n\n\n\n  \n\n\n\nスタジオ名\n砂銀Bスタジオ→砂銀Aスタジオ\n\n\nクラス\nJAZZHIPHOP入門\n\n\n講師名\nALISA→PASSION\n\n\n日付\n9/21(日)\n\n\n時間\n18:20-19:20\n\n\n\n  \n\n\n\nスタジオ名\n砂銀Bスタジオ→砂銀Aスタジオ\n\n\nクラス\nJAZZ 基礎応用 \n\n\n講師名\nALISA→PASSION\n\n\n日付\n9/21(日)\n\n\n時間\n19:30-21:00
URL:https://quwands.jp/event/3754/
END:VEVENT
BEGIN:VEVENT
DTSTART;VALUE=DATE:20250920
DTEND;VALUE=DATE:20250921
DTSTAMP:20260425T231526
CREATED:20250925T073902Z
LAST-MODIFIED:20250925T073902Z
UID:4122-1758326400-1758412799@quwands.jp
SUMMARY:大島st 【Genki/Sho-hey/Ryosuke】代講情報
DESCRIPTION:スタジオ名\n大島スタジオ\n\n\nクラス\nキッズHIPHOP\n\n\n講師名\nGenki→Sho-hey\n\n\n日付\n9/20(土)\n\n\n\n時間\n14:10-15:10\n\n\n\n  \n\n\n\nスタジオ名\n大島スタジオ\n\n\nクラス\nHIPHOP入門\n\n\n講師名\nGenki→Ryosuke\n\n\n日付\n9/20(土)\n\n\n\n時間\n15:20-16:20\n\n\n\n  \n\n\n\nスタジオ名\n大島スタジオ\n\n\nクラス\nHIPHOP応用\n\n\n講師名\nGenki→Ryosuke\n\n\n日付\n9/20(土)\n\n\n\n時間\n16:30-18:00\n\n\n\n 
URL:https://quwands.jp/event/4122/
END:VEVENT
BEGIN:VEVENT
DTSTART;VALUE=DATE:20250919
DTEND;VALUE=DATE:20250920
DTSTAMP:20260425T231526
CREATED:20250825T064606Z
LAST-MODIFIED:20250825T081718Z
UID:3770-1758240000-1758326399@quwands.jp
SUMMARY:平井st 【ALISA/HARU】代講情報
DESCRIPTION:スタジオ名\n平井スタジオ\n\n\nクラス\nKIDS HIPHOP \n\n\n講師名\nALISA→HARU\n\n\n日付\n9/19(金)\n\n\n時間\n17:10-18:10\n\n\n\n  \n\n\n\nスタジオ名\n平井スタジオ\n\n\nクラス\nJAZZHIPHOP入門\n\n\n講師名\nALISA→HARU\n\n\n日付\n9/19(金)\n\n\n時間\n18:20-19:20\n\n\n\n  \n\n\n\nスタジオ名\n平井スタジオ\n\n\nクラス\nJAZZHIPHOP応用\n\n\n講師名\nALISA→HARU\n\n\n日付\n9/19(金)\n\n\n時間\n19:30-21:00\n\n\n\n 
URL:https://quwands.jp/event/3770/
END:VEVENT
BEGIN:VEVENT
DTSTART;VALUE=DATE:20250919
DTEND;VALUE=DATE:20250920
DTSTAMP:20260425T231526
CREATED:20251003T031236Z
LAST-MODIFIED:20251003T031236Z
UID:4158-1758240000-1758326399@quwands.jp
SUMMARY:砂銀Aスタジオ 【aoi kasahara/市毛 優里子】代講情報
DESCRIPTION:スタジオ名\n砂銀Aスタジオ\n\n\nクラス\nJAZZ入門\n\n\n講師名\naoi kasahara→市毛 優里子\n\n\n日付\n9/19(金)\n\n\n時間\n18:20-19:20\n\n\n\n  \n\n\n\nスタジオ名\n砂銀Aスタジオ\n\n\nクラス\nJAZZ中級\n\n\n講師名\naoi kasahara→市毛 優里子\n\n\n日付\n9/19(金)\n\n\n時間\n19:30-20:45
URL:https://quwands.jp/event/4158/
END:VEVENT
BEGIN:VEVENT
DTSTART;VALUE=DATE:20250919
DTEND;VALUE=DATE:20250920
DTSTAMP:20260425T231526
CREATED:20251003T030934Z
LAST-MODIFIED:20251003T030934Z
UID:4156-1758240000-1758326399@quwands.jp
SUMMARY:砂銀Aスタジオ 【aoi kasahara】休講情報
DESCRIPTION:スタジオ名\n砂銀Aスタジオ\n\n\nクラス\nKIDS JAZZ\n\n\n講師名\naoi kasahara\n\n\n日付\n9/19(金)\n\n\n時間\n17:10-18:10\n\n\n\n 
URL:https://quwands.jp/event/4156/
END:VEVENT
BEGIN:VEVENT
DTSTART;VALUE=DATE:20250919
DTEND;VALUE=DATE:20250920
DTSTAMP:20260425T231526
CREATED:20250918T052346Z
LAST-MODIFIED:20250918T061309Z
UID:4049-1758240000-1758326399@quwands.jp
SUMMARY:砂銀Bst 【Hana*/yamato】代講情報
DESCRIPTION:スタジオ名\n砂銀Bスタジオ\n\n\nクラス\nKIDS HIPHOP\n\n\n講師名\nHana*→yamato\n\n\n日付\n9/19(金)\n\n\n時間\n17:10-18:10\n\n\n\n  \n\n\n\nスタジオ名\n砂銀Bスタジオ\n\n\nクラス\nHIPHOP入門\n\n\n講師名\nHana*→yamato\n\n\n日付\n9/19(金)\n\n\n時間\n18:20-19:20\n\n\n\n  \n\n\n\nスタジオ名\n砂銀Bスタジオ\n\n\nクラス\nHIPHOP応用\n\n\n講師名\nHana*→yamato\n\n\n日付\n9/19(金)\n\n\n時間\n19:30-21:00\n\n\n\n 
URL:https://quwands.jp/event/4049/
END:VEVENT
END:VCALENDAR