BEGIN:VCALENDAR
VERSION:2.0
PRODID:-//QUWANDS - ECPv6.10.2//NONSGML v1.0//EN
CALSCALE:GREGORIAN
METHOD:PUBLISH
X-ORIGINAL-URL:https://quwands.jp
X-WR-CALDESC:QUWANDS のイベント
REFRESH-INTERVAL;VALUE=DURATION:PT1H
X-Robots-Tag:noindex
X-PUBLISHED-TTL:PT1H
BEGIN:VTIMEZONE
TZID:Asia/Tokyo
BEGIN:STANDARD
TZOFFSETFROM:+0900
TZOFFSETTO:+0900
TZNAME:JST
DTSTART:20250101T000000
END:STANDARD
END:VTIMEZONE
BEGIN:VEVENT
DTSTART;VALUE=DATE:20250422
DTEND;VALUE=DATE:20250423
DTSTAMP:20260426T120142
CREATED:20250422T074813Z
LAST-MODIFIED:20250422T074912Z
UID:2886-1745280000-1745366399@quwands.jp
SUMMARY:大島スタジオ【HIKARU/yurina】2025年4月22日の代講情報
DESCRIPTION:  \n\n\n\nスタジオ名\n大島スタジオ\n\n\nクラス\nKIDSKPOP\n\n\n講師名\nHIKARU→ yurina\n\n\n日付変更\n4/22(火) \n\n\n時間変更\n17:10\n\n\n\n  \n\n\n\nスタジオ名\n大島スタジオ\n\n\nクラス\nKPOP入門\n\n\n講師名\nHIKARU→ yurina\n\n\n日付変更\n4/22(火) \n\n\n時間変更\n18:20\n\n\n\n  \n\n\n\nスタジオ名\n大島スタジオ\n\n\nクラス\nKPOP応用\n\n\n講師名\nHIKARU→ yurina\n\n\n日付変更\n4/22(火) \n\n\n時間変更\n19:30\n\n\n\n  \n 
URL:https://quwands.jp/event/2886/
END:VEVENT
BEGIN:VEVENT
DTSTART;VALUE=DATE:20250424
DTEND;VALUE=DATE:20250425
DTSTAMP:20260426T120142
CREATED:20250422T075252Z
LAST-MODIFIED:20250422T075252Z
UID:2889-1745452800-1745539199@quwands.jp
SUMMARY:大島スタジオ【yu-ta/KAKERU】2025年4月24日の代講情報
DESCRIPTION:  \n\n\n\nスタジオ名\n大島スタジオ\n\n\nクラス\nキッズ体操\n\n\n講師名\nyu-ta→KAKERU\n\n\n日付変更\n4/24(木)\n\n\n時間変更\n16:00\n\n\n\n  \n\n\n\nスタジオ名\n大島スタジオ\n\n\nクラス\n体操\n\n\n講師名\nyu-ta→KAKERU\n\n\n日付変更\n4/24(木)\n\n\n時間変更\n17:10\n\n\n\n 
URL:https://quwands.jp/event/2889/
END:VEVENT
BEGIN:VEVENT
DTSTART;VALUE=DATE:20250426
DTEND;VALUE=DATE:20250427
DTSTAMP:20260426T120142
CREATED:20250422T080031Z
LAST-MODIFIED:20250422T080031Z
UID:2891-1745625600-1745711999@quwands.jp
SUMMARY:砂Aスタジオ【Mayo】2025年4月26日の振替情報
DESCRIPTION:  \n\n\n\nスタジオ名\n砂Aスタジオ\n\n\nクラス\nHIPHOP入門\n\n\n講師名\nMayo\n\n\n日付変更\n4/26(土)→5/31(土)\n\n\n時間変更\n14:10\n\n\n\n  \n\n\n\nスタジオ名\n砂Aスタジオ\n\n\nクラス\nHIPHOP応用\n\n\n講師名\nMayo\n\n\n日付変更\n4/26(土)→5/31(土)\n\n\n時間変更\n15:20\n\n\n\n  \n\n\n\nスタジオ名\n砂Aスタジオ\n\n\nクラス\n大人超初級\n\n\n講師名\nMayo\n\n\n日付変更\n4/26(土)→5/31(土)\n\n\n時間変更\n17:10
URL:https://quwands.jp/event/2891/
END:VEVENT
BEGIN:VEVENT
DTSTART;VALUE=DATE:20250426
DTEND;VALUE=DATE:20250427
DTSTAMP:20260426T120142
CREATED:20250422T080753Z
LAST-MODIFIED:20250422T080753Z
UID:2895-1745625600-1745711999@quwands.jp
SUMMARY:砂Bスタジオ【Sho-hey/dayo】2025年4月26日の振替情報
DESCRIPTION:  \n\n\n\nスタジオ名\n砂Bスタジオ\n\n\nクラス\n体操\n\n\n講師名\nSho-hey\n\n\n日付変更\n4/26(土)→振替日調整中\n\n\n時間変更\n14:00\n\n\n\n  \n\n\n\nスタジオ名\n砂Aスタジオ\n\n\nクラス\nキッズチア\n\n\n講師名\ndayo\n\n\n日付変更\n4/26(土)→5/6(火)\n\n\n時間変更\n16:40→10:00-12:00\n\n\n\n  \n\n\n\nスタジオ名\n砂Aスタジオ\n\n\nクラス\nJAZZ基礎応用\n\n\n講師名\ndayo\n\n\n日付変更\n4/26(土)→5/6(火)\n\n\n時間変更\n17:50→12:10-15:10\n\n\n\n 
URL:https://quwands.jp/event/2895/
END:VEVENT
BEGIN:VEVENT
DTSTART;VALUE=DATE:20250427
DTEND;VALUE=DATE:20250428
DTSTAMP:20260426T120142
CREATED:20250422T083423Z
LAST-MODIFIED:20250422T083423Z
UID:2900-1745712000-1745798399@quwands.jp
SUMMARY:新小岩スタジオ【Mayo】2025年4月27日の振替情報
DESCRIPTION:  \n\n\n\nスタジオ名\n新小岩スタジオ\n\n\nクラス\nキッズHIPHOP\n\n\n講師名\nMayo\n\n\n日付変更\n4/27(日) →4/29(火)(祝)\n\n\n時間変更\n12:30\n\n\n\n  \n\n\n\nスタジオ名\n新小岩スタジオ\n\n\nクラス\nHIPHOP入門\n\n\n講師名\nMayo\n\n\n日付変更\n4/27(日) →4/29(火)(祝)\n\n\n時間変更\n13:40\n\n\n\n  \n\n\n\nスタジオ名\n新小岩スタジオ\n\n\nクラス\nHIPHOP中級\n\n\n講師名\nMayo\n\n\n日付変更\n4/27(日) →4/29(火)(祝)\n\n\n時間変更\n14:50\n\n\n\n 
URL:https://quwands.jp/event/2900/
END:VEVENT
BEGIN:VEVENT
DTSTART;VALUE=DATE:20250428
DTEND;VALUE=DATE:20250429
DTSTAMP:20260426T120142
CREATED:20250422T084450Z
LAST-MODIFIED:20250422T084450Z
UID:2908-1745798400-1745884799@quwands.jp
SUMMARY:大島スタジオ【yu-ta】2025年4月28日の代講情報
DESCRIPTION:  \n\n\n\nスタジオ名\n大島スタジオ\n\n\nクラス\nキッズ体操\n\n\n講師名\nyu-ta→代講調整中\n\n\n日付変更\n4/28(月)\n\n\n時間変更\n16:00\n\n\n\n  \n\n\n\nスタジオ名\n大島スタジオ\n\n\nクラス\n体操\n\n\n講師名\nyu-ta→代講調整中\n\n\n日付変更\n4/28(月)\n\n\n時間変更\n17:10\n\n\n\n 
URL:https://quwands.jp/event/2908/
END:VEVENT
BEGIN:VEVENT
DTSTART;VALUE=DATE:20250428
DTEND;VALUE=DATE:20250429
DTSTAMP:20260426T120142
CREATED:20250422T083902Z
LAST-MODIFIED:20250709T073102Z
UID:2904-1745798400-1745884799@quwands.jp
SUMMARY:平井スタジオ【kanae】2025年4月28日の振替情報
DESCRIPTION:スタジオ名\n平井スタジオ\n\n\nクラス\nKIDSKPOP\n\n\n講師名\nkanae→RIHONA\n\n\n日付変更\n4/28(月)→6/30(月) \n\n\n時間変更\n17:10\n\n\n\n  \n\n\n\nスタジオ名\n平井スタジオ\n\n\nクラス\nKPOP入門\n\n\n講師名\nkanae→RIHONA\n\n\n日付変更\n4/28(月)→6/30(月)\n\n\n時間変更\n18:20\n\n\n\n  \n\n\n\nスタジオ名\n平井スタジオ\n\n\nクラス\nKPOP応用\n\n\n講師名\nkanae→RIHONA\n\n\n日付変更\n4/28(月)→6/30(月)\n\n\n時間変更\n19:30\n\n\n\n 
URL:https://quwands.jp/event/2904/
END:VEVENT
BEGIN:VEVENT
DTSTART;VALUE=DATE:20250429
DTEND;VALUE=DATE:20250430
DTSTAMP:20260426T120142
CREATED:20250206T070622Z
LAST-MODIFIED:20250206T070622Z
UID:2667-1745884800-1745971199@quwands.jp
SUMMARY:大島スタジオ【HIKARU】2025年4月29日の振替情報
DESCRIPTION:  \n\n\n\nスタジオ名\n大島スタジオ\n\n\nクラス\nKIDSKPOP\n\n\n講師名\nHIKARU\n\n\n日付変更\n3/4(火)→4/29(火)\n\n\n時間変更\n17:10\n\n\n\n  \n\n\n\nスタジオ名\n大島スタジオ\n\n\nクラス\nKPOP入門\n\n\n講師名\nHIKARU\n\n\n日付変更\n3/4(火)→4/29(火)\n\n\n時間変更\n18:20 \n\n\n\n  \n\n\n\nスタジオ名\n大島スタジオ\n\n\nクラス\nKPOP応用\n\n\n講師名\nHIKARU\n\n\n日付変更\n3/4(火)→4/29(火)\n\n\n時間変更\n19:30\n\n\n\n  \n 
URL:https://quwands.jp/event/2667/
END:VEVENT
BEGIN:VEVENT
DTSTART;VALUE=DATE:20250429
DTEND;VALUE=DATE:20250430
DTSTAMP:20260426T120142
CREATED:20250422T083534Z
LAST-MODIFIED:20250422T085242Z
UID:2902-1745884800-1745971199@quwands.jp
SUMMARY:新小岩スタジオ【Mayo/Airi】2025年4月29日の振替情報
DESCRIPTION:  \n\n\n\nスタジオ名\n新小岩スタジオ\n\n\nクラス\nキッズHIPHOP\n\n\n講師名\nMayo\n\n\n日付変更\n4/27(日) →4/29(火)(祝)\n\n\n時間変更\n12:30\n\n\n\n  \n\n\n\nスタジオ名\n新小岩スタジオ\n\n\nクラス\nHIPHOP入門\n\n\n講師名\nMayo\n\n\n日付変更\n4/27(日) →4/29(火)(祝)\n\n\n時間変更\n13:40\n\n\n\n  \n\n\n\nスタジオ名\n新小岩スタジオ\n\n\nクラス\nHIPHOP中級\n\n\n講師名\nMayo\n\n\n日付変更\n4/27(日) →4/29(火)(祝)\n\n\n時間変更\n14:50\n\n\n\n  \n\n\n\nスタジオ名\n新小岩スタジオ\n\n\nクラス\nキッズHIPHOP\n\n\n講師名\nAiri\n\n\n日付変更\n3/18(火)) →4/29(火)(祝)\n\n\n時間変更\n17:10\n\n\n\n  \n\n\n\nスタジオ名\n新小岩スタジオ\n\n\nクラス\nHIPHOP入門\n\n\n講師名\nAiri\n\n\n日付変更\n3/18(火) →4/29(火)(祝)\n\n\n時間変更\n18:20\n\n\n\n  \n\n\n\nスタジオ名\n新小岩スタジオ\n\n\nクラス\nHIPHOP中級\n\n\n講師名\nAiri\n\n\n日付変更\n3/18(火) →4/29(火)(祝)\n\n\n時間変更\n19:30\n\n\n\n 
URL:https://quwands.jp/event/2902/
END:VEVENT
BEGIN:VEVENT
DTSTART;VALUE=DATE:20250429
DTEND;VALUE=DATE:20250430
DTSTAMP:20260426T120142
CREATED:20250422T085753Z
LAST-MODIFIED:20250422T085753Z
UID:2914-1745884800-1745971199@quwands.jp
SUMMARY:砂Bスタジオ【kanae】2025年4月29日の振替情報
DESCRIPTION:  \n\n\n\nスタジオ名\n砂Bスタジオ\n\n\nクラス\nKIDSKPOP\n\n\n講師名\nkanae\n\n\n日付変更\n4/8(火)→4/29(火)\n\n\n時間変更\n17:10\n\n\n\n  \n\n\n\nスタジオ名\n砂Bスタジオ\n\n\nクラス\nKPOP入門\n\n\n講師名\nkanae\n\n\n日付変更\n4/8(火)→4/29(火)\n\n\n時間変更\n18:20 \n\n\n\n  \n\n\n\nスタジオ名\n砂Bスタジオ\n\n\nクラス\nKPOP応用\n\n\n講師名\nkanae\n\n\n日付変更\n4/8(火)→4/29(火)\n\n\n時間変更\n19:30\n\n\n\n 
URL:https://quwands.jp/event/2914/
END:VEVENT
BEGIN:VEVENT
DTSTART;VALUE=DATE:20250430
DTEND;VALUE=DATE:20250501
DTSTAMP:20260426T120142
CREATED:20250422T090749Z
LAST-MODIFIED:20250422T090808Z
UID:2917-1745971200-1746057599@quwands.jp
SUMMARY:新小岩スタジオ【Himeno】2025年4月30日の振替情報
DESCRIPTION:  \n\n\n\nスタジオ名\n新小岩スタジオ\n\n\nクラス\nリトルKPOP\n\n\n講師名\nHimeno\n\n\n日付変更\n4/30(水)→振替日調整中\n\n\n時間変更\n16:00\n\n\n\n  \n\n\n\nスタジオ名\n新小岩スタジオ\n\n\nクラス\nKIDSKPOP\n\n\n講師名\nHimeno\n\n\n日付変更\n3/14(金) →4/30(水)\n\n\n時間変更\n17:10\n\n\n\n  \n\n\n\nスタジオ名\n新小岩スタジオ\n\n\nクラス\nKPOP入門\n\n\n講師名\nHimeno\n\n\n日付変更\n3/14(金)→4/30(水)\n\n\n時間変更\n18:20\n\n\n\n  \n\n\n\nスタジオ名\n新小岩スタジオ\n\n\nクラス\nKPOP応用\n\n\n講師名\nHimeno\n\n\n日付変更\n3/28(金) →4/30(水)\n\n\n時間変更\n19:30\n\n\n\n 
URL:https://quwands.jp/event/2917/
END:VEVENT
BEGIN:VEVENT
DTSTART;VALUE=DATE:20250430
DTEND;VALUE=DATE:20250501
DTSTAMP:20260426T120142
CREATED:20250319T074006Z
LAST-MODIFIED:20250709T073143Z
UID:2797-1745971200-1746057599@quwands.jp
SUMMARY:大島スタジオ【yuine】2025年4月30日の振替情報
DESCRIPTION:スタジオ名\n大島スタジオ\n\n\nクラス\nキッズJAZZ\n\n\n講師名\nyuine\n\n\n日付変更\n3/26(水)→4/30(水)\n\n\n時間変更\n17:10
URL:https://quwands.jp/event/2797/
END:VEVENT
BEGIN:VEVENT
DTSTART;VALUE=DATE:20250430
DTEND;VALUE=DATE:20250501
DTSTAMP:20260426T120142
CREATED:20250508T080109Z
LAST-MODIFIED:20250709T073244Z
UID:2978-1745971200-1746057599@quwands.jp
SUMMARY:大島スタジオ【優美香】2025年4月30日の振替情報
DESCRIPTION:スタジオ名\n大島スタジオ\n\n\nクラス\nJAZZ入門\n\n\n講師名\n優美香\n\n\n日付変更\n4/30(水)→5/14(水)\n\n\n時間変更\n18:20 \n\n\n\n  \n\n\n\nスタジオ名\n大島スタジオ\n\n\nクラス\nJAZZ中級\n\n\n講師名\n優美香\n\n\n日付変更\n4/30(水)→5/14(水)\n\n\n時間変更\n19:30\n\n\n\n 
URL:https://quwands.jp/event/2978/
END:VEVENT
BEGIN:VEVENT
DTSTART;VALUE=DATE:20250430
DTEND;VALUE=DATE:20250501
DTSTAMP:20260426T120142
CREATED:20250422T091311Z
LAST-MODIFIED:20250422T091311Z
UID:2921-1745971200-1746057599@quwands.jp
SUMMARY:砂Bスタジオ【kanae】2025年4月30日の振替情報
DESCRIPTION:  \n\n\n\nスタジオ名\n砂Bスタジオ\n\n\nクラス\nリトルKPOP\n\n\n講師名\nkanae\n\n\n日付変更\n5/7(水)→4/30(水)\n\n\n時間変更\n16:00\n\n\n\n  \n\n\n\nスタジオ名\n砂Bスタジオ\n\n\nクラス\nKIDSKPOP\n\n\n講師名\nkanae\n\n\n日付変更\n5/7(水)→4/30(水)\n\n\n時間変更\n17:10\n\n\n\n  \n\n\n\nスタジオ名\n砂Bスタジオ\n\n\nクラス\nKPOP入門\n\n\n講師名\nkanae\n\n\n日付変更\n5/7(水)→4/30(水)\n\n\n時間変更\n18:20\n\n\n\n  \n\n\n\nスタジオ名\n砂Bスタジオ\n\n\nクラス\nKPOP応用\n\n\n講師名\nkanae\n\n\n日付変更\n5/7(水)→4/30(水)\n\n\n時間変更\n19:30\n\n\n\n 
URL:https://quwands.jp/event/2921/
END:VEVENT
BEGIN:VEVENT
DTSTART;VALUE=DATE:20250503
DTEND;VALUE=DATE:20250504
DTSTAMP:20260426T120142
CREATED:20250422T091802Z
LAST-MODIFIED:20250422T091802Z
UID:2924-1746230400-1746316799@quwands.jp
SUMMARY:砂Aスタジオ【CHIKA】2025年5月3日の振替情報
DESCRIPTION:  \n\n\n\nスタジオ名\n砂Aスタジオ\n\n\nクラス\nリトル体操\n\n\n講師名\nCHIKA\n\n\n日付変更\n5/3(土)→5/31(土)\n\n\n時間変更\n10:00\n\n\n\n  \n\n\n\nスタジオ名\n砂Aスタジオ\n\n\nクラス\nリトルダンス\n\n\n講師名\nCHIKA\n\n\n日付変更\n5/3(土)→5/31(土)\n\n\n時間変更\n11:10\n\n\n\n 
URL:https://quwands.jp/event/2924/
END:VEVENT
BEGIN:VEVENT
DTSTART;VALUE=DATE:20250503
DTEND;VALUE=DATE:20250504
DTSTAMP:20260426T120142
CREATED:20250422T092555Z
LAST-MODIFIED:20250422T092555Z
UID:2928-1746230400-1746316799@quwands.jp
SUMMARY:砂Bスタジオ【Hana*/Sho-hey/dayo】2025年5月3日の振替情報
DESCRIPTION:  \n\n\n\nスタジオ名\n砂Bスタジオ\n\n\nクラス\nKIDSダンス\n\n\n講師名\nHana*/Sho-hey\n\n\n日付変更\n5/3(土) →5/31(土)\n\n\n時間変更\n11:10 \n\n\n\n  \n\n\n\nスタジオ名\n砂Bスタジオ\n\n\nクラス\nHIPHOP中級\n\n\n講師名\nHana*\n\n\n日付変更\n5/3(土) →5/31(土)\n\n\n時間変更\n12:30\n\n\n\n  \n\n\n\nスタジオ名\n砂Bスタジオ\n\n\nクラス\nキッズチア\n\n\n講師名\ndayo\n\n\n日付変更\n4/19(土)→5/3(土)\n\n\n時間変更\n16:40→10:00-11:00 \n\n\n\n  \n\n\n\nスタジオ名\n砂Bスタジオ\n\n\nクラス\nJAZZ基礎応用\n\n\n講師名\ndayo\n\n\n日付変更\n4/19(土)→5/3(土)\n\n\n時間変更\n17:50→11:10-12:40\n\n\n\n 
URL:https://quwands.jp/event/2928/
END:VEVENT
BEGIN:VEVENT
DTSTART;VALUE=DATE:20250504
DTEND;VALUE=DATE:20250505
DTSTAMP:20260426T120142
CREATED:20250319T084946Z
LAST-MODIFIED:20250709T072447Z
UID:2822-1746316800-1746403199@quwands.jp
SUMMARY:平井スタジオ【kazuki/CHIKA】2025年5月4日の振替情報
DESCRIPTION:スタジオ名\n平井スタジオ\n\n\nクラス\nキッズ体操\n\n\n講師名\nkazuki\n\n\n日付変更\n5/4(日)→3/30(日)\n\n\n時間変更\n10:00\n\n\n\n  \n\n\n\nスタジオ名\n平井スタジオ\n\n\nクラス\nリトルダンス\n\n\n講師名\nkazuki\n\n\n日付変更\n5/4(日)→3/30(日)\n\n\n時間変更\n11:10\n\n\n\n  \n\n\n\nスタジオ名\n平井スタジオ\n\n\nクラス\nリトルダンス\n\n\n講師名\nCHIKA\n\n\n日付変更\n5/4(日)→6/29(日)\n\n\n時間変更\n13:00\n\n\n\n  \n\n\n\nスタジオ名\n平井スタジオ\n\n\nクラス\nキッズ体操\n\n\n講師名\nCHIKA\n\n\n日付変更\n5/4(日)→6/29(日)\n\n\n時間変更\n14:10\n\n\n\n  \n\n\n\nスタジオ名\n平井スタジオ\n\n\nクラス\n体操\n\n\n講師名\nCHIKA\n\n\n日付変更\n5/4(日)→6/29(日)\n\n\n時間変更\n15:20\n\n\n\n 
URL:https://quwands.jp/event/2822/
END:VEVENT
BEGIN:VEVENT
DTSTART;VALUE=DATE:20250504
DTEND;VALUE=DATE:20250505
DTSTAMP:20260426T120142
CREATED:20250424T075747Z
LAST-MODIFIED:20250424T075747Z
UID:2938-1746316800-1746403199@quwands.jp
SUMMARY:砂Bスタジオ【Sho-hey】2025年5月4日の振替情報
DESCRIPTION:  \n\n\n\nスタジオ名\n砂Bスタジオ\n\n\nクラス\nKIDSダンス\n\n\n講師名\nSho-hey\n\n\n日付変更\n5/4(日)→6/29(日)\n\n\n時間変更\n10:00\n\n\n\n 
URL:https://quwands.jp/event/2938/
END:VEVENT
BEGIN:VEVENT
DTSTART;VALUE=DATE:20250505
DTEND;VALUE=DATE:20250506
DTSTAMP:20260426T120142
CREATED:20250424T080501Z
LAST-MODIFIED:20250709T072348Z
UID:2944-1746403200-1746489599@quwands.jp
SUMMARY:平井スタジオ【kanae/RIHONA】2025年5月5日の代講情報
DESCRIPTION:スタジオ名\n平井スタジオ\n\n\nクラス\nKIDSKPOP\n\n\n講師名\nkanae→RIHONA\n\n\n日付変更\n5/5(月)\n\n\n時間変更\n17:10\n\n\n\n  \n\n\n\nスタジオ名\n平井スタジオ\n\n\nクラス\nKPOP入門\n\n\n講師名\nkanae→RIHONA\n\n\n日付変更\n5/5(月)\n\n\n時間変更\n18:20\n\n\n\n  \n\n\n\nスタジオ名\n平井スタジオ\n\n\nクラス\nKPOP応用\n\n\n講師名\nkanae→RIHONA\n\n\n日付変更\n5/5(月)\n\n\n時間変更\n19:30\n\n\n\n 
URL:https://quwands.jp/event/2944/
END:VEVENT
BEGIN:VEVENT
DTSTART;VALUE=DATE:20250506
DTEND;VALUE=DATE:20250507
DTSTAMP:20260426T120142
CREATED:20250424T081636Z
LAST-MODIFIED:20250424T081727Z
UID:2946-1746489600-1746575999@quwands.jp
SUMMARY:砂Bスタジオ【dayo/kanae/yuine/舞】2025年5月6日の振替・代講情報
DESCRIPTION:  \n\n\n\nスタジオ名\n砂Bスタジオ\n\n\nクラス\nキッズチア\n\n\n講師名\ndayo\n\n\n日付変更\n4/26\,5/10(土)→5/6(火)\n\n\n時間変更\n16:40→10:00-12:00\n\n\n\n  \n\n\n\nスタジオ名\n砂Bスタジオ\n\n\nクラス\nJAZZ基礎応用\n\n\n講師名\ndayo\n\n\n日付変更\n4/26\,5/10(土)→5/6(火)\n\n\n時間変更\n17:50→12:10-15:10\n\n\n\n  \n\n\n\nスタジオ名\n砂Bスタジオ\n\n\nクラス\nKIDSKPOP\n\n\n講師名\nkanae→yuine\n\n\n日付変更\n5/6(火)\n\n\n時間変更\n17:10 \n\n\n\n  \n\n\n\nスタジオ名\n砂Bスタジオ\n\n\nクラス\nKPOP入門\n\n\n講師名\nkanae→舞\n\n\n日付変更\n5/6(火)\n\n\n時間変更\n18:20 \n\n\n\n  \n\n\n\nスタジオ名\n砂Bスタジオ\n\n\nクラス\nKPOP応用\n\n\n講師名\nkanae→舞\n\n\n日付変更\n5/6(火)\n\n\n時間変更\n19:30 \n\n\n\n 
URL:https://quwands.jp/event/2946/
END:VEVENT
BEGIN:VEVENT
DTSTART;VALUE=DATE:20250506
DTEND;VALUE=DATE:20250507
DTSTAMP:20260426T120142
CREATED:20250508T091924Z
LAST-MODIFIED:20250508T091924Z
UID:3011-1746489600-1746575999@quwands.jp
SUMMARY:砂Bスタジオ【dayo】2025年5月6日の振替情報
DESCRIPTION:  \n\n\n\nスタジオ名\n砂Bスタジオ\n\n\nクラス\nキッズチア\n\n\n講師名\ndayo\n\n\n日付変更\n5/10(土) →5/6(火)\n\n\n時間変更\n16:40→10:00-12:00\n\n\n\n  \n\n\n\nスタジオ名\n砂Bスタジオ\n\n\nクラス\nJAZZ基礎応用\n\n\n講師名\ndayo\n\n\n日付変更\n5/10(土) →5/6(火)\n\n\n時間変更\n17:50 →12:10-15:10 \n\n\n\n 
URL:https://quwands.jp/event/3011/
END:VEVENT
BEGIN:VEVENT
DTSTART;VALUE=DATE:20250507
DTEND;VALUE=DATE:20250508
DTSTAMP:20260426T120142
CREATED:20250424T082339Z
LAST-MODIFIED:20250424T083126Z
UID:2950-1746576000-1746662399@quwands.jp
SUMMARY:砂Bスタジオ【kanae】2025年5月7の振替情報
DESCRIPTION:  \n\n\n\nスタジオ名\n砂Bスタジオ\n\n\nクラス\nリトルKPOP\n\n\n講師名\nkanae\n\n\n日付変更\n5/7(水)→4/30(水)\n\n\n時間変更\n16:00\n\n\n\n  \n\n\n\nスタジオ名\n砂Bスタジオ\n\n\nクラス\nKIDSKPOP\n\n\n講師名\nkanae\n\n\n日付変更\n5/7(水)→4/30(水)\n\n\n時間変更\n17:10\n\n\n\n  \n\n\n\nスタジオ名\n砂Bスタジオ\n\n\nクラス\nKPOP入門\n\n\n講師名\nkanae\n\n\n日付変更\n5/7(水)→4/30(水)\n\n\n時間変更\n18:20\n\n\n\n  \n\n\n\nスタジオ名\n砂Bスタジオ\n\n\nクラス\nKPOP入門\n\n\n講師名\nkanae\n\n\n日付変更\n5/7(水)→4/30(水)\n\n\n時間変更\n19:30\n\n\n\n  \n 
URL:https://quwands.jp/event/2950/
END:VEVENT
BEGIN:VEVENT
DTSTART;VALUE=DATE:20250508
DTEND;VALUE=DATE:20250509
DTSTAMP:20260426T120142
CREATED:20250716T085316Z
LAST-MODIFIED:20250716T085316Z
UID:3534-1746662400-1746748799@quwands.jp
SUMMARY:新小岩スタジオ【aoi kasahara】クラス振替情報
DESCRIPTION:スタジオ名\n新小岩スタジオ\n\n\nクラス\nKIDS JAZZ\n\n\n講師名\naoi kasahara\n\n\n日付\n5/8(木)→9/29(月)\n\n\n時間\n17:10-18:10\n\n\n\n  \n 
URL:https://quwands.jp/event/3534/
END:VEVENT
BEGIN:VEVENT
DTSTART;VALUE=DATE:20250508
DTEND;VALUE=DATE:20250509
DTSTAMP:20260426T120142
CREATED:20250716T085722Z
LAST-MODIFIED:20250716T085722Z
UID:3538-1746662400-1746748799@quwands.jp
SUMMARY:大島スタジオ【aoi kasahara】クラス振替情報
DESCRIPTION:スタジオ名\n大島スタジオ\n\n\nクラス\nJAZZ入門\n\n\n講師名\naoi kasahara\n\n\n日付\n5/8(木)→9/29(月)\n\n\n時間\n18:20-19:20\n\n\n\n  \n\n\n\nスタジオ名\n大島スタジオ→砂銀Aスタジオ\n\n\nクラス\nJAZZ中級\n\n\n講師名\naoi kasahara\n\n\n日付\n5/8(木)→9/29(月)\n\n\n時間\n19:30-20:45\n\n\n\n 
URL:https://quwands.jp/event/3538/
END:VEVENT
BEGIN:VEVENT
DTSTART;VALUE=DATE:20250509
DTEND;VALUE=DATE:20250510
DTSTAMP:20260426T120142
CREATED:20250508T091251Z
LAST-MODIFIED:20250508T091251Z
UID:3005-1746748800-1746835199@quwands.jp
SUMMARY:砂Aスタジオ【yuine】2025年5月9日の振替情報
DESCRIPTION:  \n\n\n\nスタジオ名\n砂Aスタジオ\n\n\nクラス\nキッズJAZZ\n\n\n講師名\nyuine\n\n\n日付変更\n5/9(金)→5/30(金)\n\n\n時間変更\n17:10 \n\n\n\n  \n\n\n\nスタジオ名\n砂Aスタジオ\n\n\nクラス\nJAZZ入門\n\n\n講師名\nyuine\n\n\n日付変更\n5/9(金)→5/30(金)\n\n\n時間変更\n18:20\n\n\n\n  \n\n\n\nスタジオ名\n砂Aスタジオ\n\n\nクラス\nJAZZ応用\n\n\n講師名\nyuine\n\n\n日付変更\n5/9(金)→5/30(金)\n\n\n時間変更\n19:30\n\n\n\n 
URL:https://quwands.jp/event/3005/
END:VEVENT
BEGIN:VEVENT
DTSTART;VALUE=DATE:20250510
DTEND;VALUE=DATE:20250511
DTSTAMP:20260426T120142
CREATED:20250508T091900Z
LAST-MODIFIED:20250508T091900Z
UID:3009-1746835200-1746921599@quwands.jp
SUMMARY:砂Bスタジオ【dayo】2025年5月10日の振替情報
DESCRIPTION:  \n\n\n\nスタジオ名\n砂Bスタジオ\n\n\nクラス\nキッズチア\n\n\n講師名\ndayo\n\n\n日付変更\n5/10(土) →5/6(火)\n\n\n時間変更\n16:40→10:00-12:00\n\n\n\n  \n\n\n\nスタジオ名\n砂Bスタジオ\n\n\nクラス\nJAZZ基礎応用\n\n\n講師名\ndayo\n\n\n日付変更\n5/10(土) →5/6(火)\n\n\n時間変更\n17:50 →12:10-15:10 \n\n\n\n 
URL:https://quwands.jp/event/3009/
END:VEVENT
BEGIN:VEVENT
DTSTART;VALUE=DATE:20250511
DTEND;VALUE=DATE:20250512
DTSTAMP:20260426T120142
CREATED:20250508T085630Z
LAST-MODIFIED:20250508T085630Z
UID:2994-1746921600-1747007999@quwands.jp
SUMMARY:砂Aスタジオ【MINORI】2025年5月11日の振替情報
DESCRIPTION:  \n\n\n\nスタジオ名\n砂Aスタジオ\n\n\nクラス\nリトルダンス\n\n\n講師名\nMINORI\n\n\n日付変更\n5/11(日)→6/29(日)\n\n\n時間変更\n10:00\n\n\n\n  \n\n\n\nスタジオ名\n砂Aスタジオ\n\n\nクラス\nリトル体操\n\n\n講師名\nMINORI\n\n\n日付変更\n5/11(日)→6/29(日)\n\n\n時間変更\n11:10 \n\n\n\n 
URL:https://quwands.jp/event/2994/
END:VEVENT
BEGIN:VEVENT
DTSTART;VALUE=DATE:20250513
DTEND;VALUE=DATE:20250514
DTSTAMP:20260426T120142
CREATED:20250508T092539Z
LAST-MODIFIED:20250709T072538Z
UID:3013-1747094400-1747180799@quwands.jp
SUMMARY:大島スタジオ【HIKARU/cono】2025年5月13日の代講情報
DESCRIPTION:スタジオ名\n大島スタジオ\n\n\nクラス\nKIDS KPOP\n\n\n講師名\nHIKARU→cono\n\n\n日付変更\n5/13(火) \n\n\n時間変更\n17:10\n\n\n\n  \n\n\n\nスタジオ名\n大島スタジオ\n\n\nクラス\nKIDS KPOP\n\n\n講師名\nHIKARU→cono\n\n\n日付変更\n5/13(火) \n\n\n時間変更\n18:20\n\n\n\n  \n\n\n\nスタジオ名\n大島スタジオ\n\n\nクラス\nKIDS KPOP\n\n\n講師名\nHIKARU→cono\n\n\n日付変更\n5/13(火) \n\n\n時間変更\n19:30 \n\n\n\n 
URL:https://quwands.jp/event/3013/
END:VEVENT
BEGIN:VEVENT
DTSTART;VALUE=DATE:20250514
DTEND;VALUE=DATE:20250515
DTSTAMP:20260426T120142
CREATED:20250514T100448Z
LAST-MODIFIED:20250514T100448Z
UID:3024-1747180800-1747267199@quwands.jp
SUMMARY:新小岩スタジオ【Ari_pown/Hannah】2025年5月14日の振替情報
DESCRIPTION:  \n\n\n\nスタジオ名\n新小岩スタジオ\n\n\nクラス\nKIDS HIPHOP\n\n\n講師名\nAri_pown→Hannah\n\n\n日付変更\n5/14(水)\n\n\n時間変更\n17:10\n\n\n\n  \n\n\n\nスタジオ名\n新小岩スタジオ\n\n\nクラス\nKIDS HIPHOP\n\n\n講師名\nAri_pown→Hannah\n\n\n日付変更\n5/14(水)\n\n\n時間変更\n18:20\n\n\n\n  \n\n\n\nスタジオ名\n新小岩スタジオ\n\n\nクラス\nKIDS HIPHOP\n\n\n講師名\nAri_pown→Hannah\n\n\n日付変更\n5/14(水)\n\n\n時間変更\n19:30 \n\n\n\n 
URL:https://quwands.jp/event/3024/
END:VEVENT
BEGIN:VEVENT
DTSTART;VALUE=DATE:20250514
DTEND;VALUE=DATE:20250515
DTSTAMP:20260426T120142
CREATED:20250508T080147Z
LAST-MODIFIED:20250709T072628Z
UID:2980-1747180800-1747267199@quwands.jp
SUMMARY:大島スタジオ【優美香】2025年5月14日の振替情報
DESCRIPTION:スタジオ名\n大島スタジオ\n\n\nクラス\nJAZZ入門\n\n\n講師名\n優美香\n\n\n日付変更\n4/30(水)→5/14(水)\n\n\n時間変更\n18:20 \n\n\n\n  \n\n\n\nスタジオ名\n大島スタジオ\n\n\nクラス\nJAZZ中級\n\n\n講師名\n優美香\n\n\n日付変更\n4/30(水)→5/14(水)\n\n\n時間変更\n19:30\n\n\n\n 
URL:https://quwands.jp/event/2980/
END:VEVENT
END:VCALENDAR