BEGIN:VCALENDAR
VERSION:2.0
PRODID:-//QUWANDS - ECPv6.10.2//NONSGML v1.0//EN
CALSCALE:GREGORIAN
METHOD:PUBLISH
X-WR-CALNAME:QUWANDS
X-ORIGINAL-URL:https://quwands.jp
X-WR-CALDESC:QUWANDS のイベント
REFRESH-INTERVAL;VALUE=DURATION:PT1H
X-Robots-Tag:noindex
X-PUBLISHED-TTL:PT1H
BEGIN:VTIMEZONE
TZID:Asia/Tokyo
BEGIN:STANDARD
TZOFFSETFROM:+0900
TZOFFSETTO:+0900
TZNAME:JST
DTSTART:20240101T000000
END:STANDARD
END:VTIMEZONE
BEGIN:VEVENT
DTSTART;VALUE=DATE:20241225
DTEND;VALUE=DATE:20241226
DTSTAMP:20260426T120209
CREATED:20250109T061958Z
LAST-MODIFIED:20250709T081320Z
UID:2529-1735084800-1735171199@quwands.jp
SUMMARY:平井スタジオ【YUKO】2024年12月25日の休講情報
DESCRIPTION:  \n\n\n\nスタジオ名\n平井スタジオ\n\n\nクラス\nヨガ\n\n\n講師名\nYUKO\n\n\n日付変更\n12/25(水)→休講\n\n\n時間変更\n20:00→休講\n\n\n\n  \n  \n 
URL:https://quwands.jp/event/2529/
END:VEVENT
BEGIN:VEVENT
DTSTART;VALUE=DATE:20241225
DTEND;VALUE=DATE:20241226
DTSTAMP:20260426T120209
CREATED:20250109T061442Z
LAST-MODIFIED:20250709T081255Z
UID:2527-1735084800-1735171199@quwands.jp
SUMMARY:大島スタジオ【yuine】2024年12月25日の休講情報
DESCRIPTION:  \n\n\n\nスタジオ名\n大島スタジオ\n\n\nクラス\nKIDSJAZZ\n\n\n講師名\nyuine\n\n\n日付変更\n12/25(水)→休講\n\n\n時間変更\n17:10→休講 \n\n\n\n  \n  \n 
URL:https://quwands.jp/event/2527/
END:VEVENT
BEGIN:VEVENT
DTSTART;VALUE=DATE:20241224
DTEND;VALUE=DATE:20241225
DTSTAMP:20260426T120209
CREATED:20250109T060515Z
LAST-MODIFIED:20250709T081203Z
UID:2521-1734998400-1735084799@quwands.jp
SUMMARY:平井スタジオ【manabu/ALISA】2024年12月24日の振替情報
DESCRIPTION:  \n\n\n\nスタジオ名\n平井スタジオ\n\n\nクラス\nKIDSHIPHOP\n\n\n講師名\nmanabu→ALISA\n\n\n日付変更\n12/24(火)\n\n\n時間変更\n17:10 \n\n\n\n  \n\n\n\nスタジオ名\n平井スタジオ\n\n\nクラス\nHIPHOP入門\n\n\n講師名\nmanabu→ALISA\n\n\n日付変更\n12/24(火)\n\n\n時間変更\n18:20\n\n\n\n  \n\n\n\nスタジオ名\n平井スタジオ\n\n\nクラス\nHIPHOP応用\n\n\n講師名\nmanabu→ALISA\n\n\n日付変更\n12/24(火)\n\n\n時間変更\n19:30\n\n\n\n  \n 
URL:https://quwands.jp/event/2521/
END:VEVENT
BEGIN:VEVENT
DTSTART;VALUE=DATE:20241223
DTEND;VALUE=DATE:20241224
DTSTAMP:20260426T120209
CREATED:20250109T060224Z
LAST-MODIFIED:20250709T081133Z
UID:2519-1734912000-1734998399@quwands.jp
SUMMARY:砂Bスタジオ【manabu/RIHONA】2024年12月23日の代講情報
DESCRIPTION:  \n\n\n\nスタジオ名\n砂Bスタジオ\n\n\nクラス\nHIPHOP応用\n\n\n講師名\nmanabu→RIHONA\n\n\n日付変更\n12/23(月)\n\n\n時間変更\n19:30\n\n\n\n 
URL:https://quwands.jp/event/2519/
END:VEVENT
BEGIN:VEVENT
DTSTART;VALUE=DATE:20241222
DTEND;VALUE=DATE:20241223
DTSTAMP:20260426T120209
CREATED:20250109T055815Z
LAST-MODIFIED:20250709T081109Z
UID:2517-1734825600-1734911999@quwands.jp
SUMMARY:新小岩スタジオ【KENTA/mayo/kimkim】2024年12月22日の休講情報
DESCRIPTION:  \n\n\n\nスタジオ名\n新小岩スタジオ\n\n\nクラス\nキッズ体操\n\n\n講師名\nKENTA\n\n\n日付変更\n12/22(日)→休講\n\n\n時間変更\n10:00→休講\n\n\n\n  \n\n\n\nスタジオ名\n新小岩スタジオ\n\n\nクラス\n体操\n\n\n講師名\nKENTA\n\n\n日付変更\n12/22(日)→休講\n\n\n時間変更\n11:10→休講\n\n\n\n  \n\n\n\nスタジオ名\n新小岩スタジオ\n\n\nクラス\nキッズHIPHOP\n\n\n講師名\nmayo\n\n\n日付変更\n12/22(日) →12/29(日)\n\n\n時間変更\n12:30\n\n\n\n  \n\n\n\nスタジオ名\n新小岩スタジオ\n\n\nクラス\nHIPHOP入門\n\n\n講師名\nmayo\n\n\n日付変更\n12/22(日) →12/29(日)\n\n\n時間変更\n13:40\n\n\n\n  \n\n\n\nスタジオ名\n新小岩スタジオ\n\n\nクラス\nHIPHOP応用\n\n\n講師名\nmayo\n\n\n日付変更\n12/22(日) →12/29(日)\n\n\n時間変更\n14:50\n\n\n\n  \n\n\n\nスタジオ名\n新小岩スタジオ\n\n\nクラス\nKIDSJAZZFUNK\n\n\n講師名\nkimkim\n\n\n日付変更\n12/22(日)→休講\n\n\n時間変更\n16:20→休講\n\n\n\n  \n\n\n\nスタジオ名\n新小岩スタジオ\n\n\nクラス\nJAZZFUNK入門\n\n\n講師名\nkimkim\n\n\n日付変更\n12/22(日)→休講\n\n\n時間変更\n17:30→休講\n\n\n\n  \n\n\n\nスタジオ名\n新小岩スタジオ\n\n\nクラス\nJAZZFUNK応用\n\n\n講師名\nkimkim\n\n\n日付変更\n12/22(日)→休講\n\n\n時間変更\n18:40→休講\n\n\n\n 
URL:https://quwands.jp/event/2517/
END:VEVENT
BEGIN:VEVENT
DTSTART;VALUE=DATE:20241221
DTEND;VALUE=DATE:20241222
DTSTAMP:20260426T120209
CREATED:20250109T054233Z
LAST-MODIFIED:20250709T081017Z
UID:2515-1734739200-1734825599@quwands.jp
SUMMARY:砂Bスタジオ【Sho-hey/manabu】2024年12月21日の代講情報
DESCRIPTION:  \n\n\n\nスタジオ名\n砂Bスタジオ\n\n\nクラス\nKIDSDANCE\n\n\n講師名\nSho-hey→manabu\n\n\n日付変更\n12/21(土)\n\n\n時間変更\n11:10\n\n\n\n  \n\n\n\nスタジオ名\n砂Bスタジオ\n\n\nクラス\nHIPHOP中級\n\n\n講師名\nSho-hey→manabu\n\n\n日付変更\n12/21(土)\n\n\n時間変更\n12:30\n\n\n\n  \n\n\n\nスタジオ名\n砂Bスタジオ\n\n\nクラス\n体操\n\n\n講師名\nSho-hey\n\n\n日付変更\n12/21(土)→休講\n\n\n時間変更\n14:00→休講\n\n\n\n  \n 
URL:https://quwands.jp/event/2515/
END:VEVENT
BEGIN:VEVENT
DTSTART;VALUE=DATE:20241221
DTEND;VALUE=DATE:20241222
DTSTAMP:20260426T120209
CREATED:20250109T053445Z
LAST-MODIFIED:20250709T080950Z
UID:2513-1734739200-1734825599@quwands.jp
SUMMARY:砂Aスタジオ【mayo】2024年12月21日の振替情報
DESCRIPTION:  \n\n\n\nスタジオ名\n砂Aスタジオ\n\n\nクラス\nHIPHOP入門\n\n\n講師名\nmayo\n\n\n日付変更\n12/21(土)→12/14(土)\n\n\n時間変更\n14:10 →15:10-16:10\n\n\n\n  \n  \n\n\n\nスタジオ名\n砂Aスタジオ\n\n\nクラス\nHIPHOP応用\n\n\n講師名\nmayo\n\n\n日付変更\n12/21(土)→12/7(土)\n\n\n時間変更\n15:20 →16:50-18:20\n\n\n\n  \n\n\n\nスタジオ名\n砂Aスタジオ\n\n\nクラス\n大人クラス\n\n\n講師名\nmayo\n\n\n日付変更\n12/21(土)→12/28(土)\n\n\n時間変更\n17:10 →18:10-19:10\n\n\n\n  \n 
URL:https://quwands.jp/event/2513/
END:VEVENT
BEGIN:VEVENT
DTSTART;VALUE=DATE:20241221
DTEND;VALUE=DATE:20241222
DTSTAMP:20260426T120209
CREATED:20250109T051405Z
LAST-MODIFIED:20250709T080927Z
UID:2508-1734739200-1734825599@quwands.jp
SUMMARY:大島スタジオ【Genki】2024年12月21日の休講情報
DESCRIPTION:  \n\n\n\nスタジオ名\n大島スタジオ\n\n\nクラス\nKIDSHIPHOP\n\n\n講師名\nGenki\n\n\n日付変更\n12/21(土)→休講\n\n\n時間変更\n14:10→休講 \n\n\n\n  \n\n\n\nスタジオ名\n大島スタジオ\n\n\nクラス\nHIPHOP入門\n\n\n講師名\nGenki\n\n\n日付変更\n12/21(土)→休講\n\n\n時間変更\n15:20→休講 \n\n\n\n  \n\n\n\nスタジオ名\n大島スタジオ\n\n\nクラス\nHIPHOP応用\n\n\n講師名\nGenki\n\n\n日付変更\n12/21(土)→休講\n\n\n時間変更\n16:30→休講\n\n\n\n  \n 
URL:https://quwands.jp/event/2508/
END:VEVENT
BEGIN:VEVENT
DTSTART;VALUE=DATE:20241221
DTEND;VALUE=DATE:20241222
DTSTAMP:20260426T120209
CREATED:20241226T083331Z
LAST-MODIFIED:20250709T080900Z
UID:2491-1734739200-1734825599@quwands.jp
SUMMARY:新小岩スタジオ【舞】2024年12月21日の休講情報
DESCRIPTION:  \n\n\n\nスタジオ名\n新小岩スタジオ\n\n\nクラス\nKIDSKPOP\n\n\n講師名\n舞\n\n\n日付変更\n12/21(土)→休講\n\n\n時間変更\n15:10→休講\n\n\n\n  \n\n\n\nスタジオ名\n新小岩スタジオ\n\n\nクラス\nKPOP入門\n\n\n講師名\n舞\n\n\n日付変更\n12/21(土)→休講\n\n\n時間変更\n16:20→休講\n\n\n\n  \n\n\n\nスタジオ名\n新小岩スタジオ\n\n\nクラス\nKPOP中級\n\n\n講師名\n舞\n\n\n日付変更\n12/21(土)→休講\n\n\n時間変更\n17:30→休講\n\n\n\n 
URL:https://quwands.jp/event/2491/
END:VEVENT
BEGIN:VEVENT
DTSTART;VALUE=DATE:20241219
DTEND;VALUE=DATE:20241220
DTSTAMP:20260426T120209
CREATED:20250109T040353Z
LAST-MODIFIED:20250709T080734Z
UID:2506-1734566400-1734652799@quwands.jp
SUMMARY:砂Aスタジオ【Genki】2024年12月19日の振替情報
DESCRIPTION:  \n\n\n\nスタジオ名\n砂Aスタジオ\n\n\nクラス\nHIPHOP中級\n\n\n講師名\nGenki\n\n\n日付変更\n12/18(水)→12/19(木)\n\n\n時間変更\n19:30→19:45-21:00\n\n\n\n 
URL:https://quwands.jp/event/2506/
END:VEVENT
BEGIN:VEVENT
DTSTART;VALUE=DATE:20241218
DTEND;VALUE=DATE:20241219
DTSTAMP:20260426T120209
CREATED:20250109T040332Z
LAST-MODIFIED:20250709T080709Z
UID:2504-1734480000-1734566399@quwands.jp
SUMMARY:砂Aスタジオ【Genki】2024年12月18日の振替情報
DESCRIPTION:  \n\n\n\nスタジオ名\n砂Aスタジオ\n\n\nクラス\nHIPHOP中級\n\n\n講師名\nGenki\n\n\n日付変更\n12/18(水)→12/19(木)\n\n\n時間変更\n19:30→19:45-21:00\n\n\n\n 
URL:https://quwands.jp/event/2504/
END:VEVENT
BEGIN:VEVENT
DTSTART;VALUE=DATE:20241218
DTEND;VALUE=DATE:20241219
DTSTAMP:20260426T120209
CREATED:20250109T052654Z
LAST-MODIFIED:20250709T080819Z
UID:2511-1734480000-1734566399@quwands.jp
SUMMARY:新小岩スタジオ【Ari_pown/IROHA】2024年12月18日の代講情報
DESCRIPTION:  \n\n\n\nスタジオ名\n新小岩スタジオ\n\n\nクラス\nKIDSHIPHOP\n\n\n講師名\nAri_pown →IROHA\n\n\n日付変更\n12/18(水)\n\n\n時間変更\n17:10\n\n\n\n  \n\n\n\nスタジオ名\n新小岩スタジオ\n\n\nクラス\nHIPHOP入門\n\n\n講師名\nAri_pown →IROHA\n\n\n日付変更\n12/18(水)\n\n\n時間変更\n18:20\n\n\n\n  \n\n\n\nスタジオ名\n新小岩スタジオ\n\n\nクラス\nHIPHOP応用\n\n\n講師名\nAri_pown →IROHA\n\n\n日付変更\n12/18(水)\n\n\n時間変更\n19:30 \n\n\n\n 
URL:https://quwands.jp/event/2511/
END:VEVENT
BEGIN:VEVENT
DTSTART;VALUE=DATE:20241215
DTEND;VALUE=DATE:20241216
DTSTAMP:20260426T120209
CREATED:20250109T035824Z
LAST-MODIFIED:20250709T082702Z
UID:2502-1734220800-1734307199@quwands.jp
SUMMARY:新小岩スタジオ【kimkim】2024年12月15日の休講情報
DESCRIPTION:  \n\n\n\nスタジオ名\n新小岩スタジオ\n\n\nクラス\nKIDSJAZZFUNK\n\n\n講師名\nkimkim\n\n\n日付変更\n12/15(日)→休講\n\n\n時間変更\n16:20→休講\n\n\n\n  \n\n\n\nスタジオ名\n新小岩スタジオ\n\n\nクラス\nJAZZFUNK入門\n\n\n講師名\nkimkim\n\n\n日付変更\n12/15(日)→休講\n\n\n時間変更\n17:30→休講\n\n\n\n  \n\n\n\nスタジオ名\n新小岩スタジオ\n\n\nクラス\nJAZZFUNK応用\n\n\n講師名\nkimkim\n\n\n日付変更\n12/15(日)→休講\n\n\n時間変更\n18:40→休講 \n\n\n\n  \n 
URL:https://quwands.jp/event/2502/
END:VEVENT
BEGIN:VEVENT
DTSTART;VALUE=DATE:20241215
DTEND;VALUE=DATE:20241216
DTSTAMP:20260426T120209
CREATED:20241226T031954Z
LAST-MODIFIED:20250709T082605Z
UID:2469-1734220800-1734307199@quwands.jp
SUMMARY:大島スタジオ【moeko/SUZUNA/yu-ta/Ryoga】2024年12月15日の振替情報
DESCRIPTION:  \n\n\n\nスタジオ名\n大島スタジオ\n\n\nクラス\nKIDSDANCE\n\n\n講師名\nmoeko→SUZUNA\n\n\n日付変更\n12/15(日)\n\n\n時間変更\n10:00 \n\n\n\n  \n\n\n\nスタジオ名\n大島スタジオ\n\n\nクラス\nJAZZHIPHOP\n\n\n講師名\nmoeko→SUZUNA\n\n\n日付変更\n12/15(日)\n\n\n時間変更\n11:10\n\n\n\n  \n\n\n\nスタジオ名\n大島スタジオ\n\n\nクラス\nキッズ体操\n\n\n講師名\nyu-ta→Ryoga\n\n\n日付変更\n12/15(日)\n\n\n時間変更\n14:10\n\n\n\n  \n\n\n\nスタジオ名\n大島スタジオ\n\n\nクラス\n体操\n\n\n講師名\nyu-ta→Ryoga\n\n\n日付変更\n12/15(日)\n\n\n時間変更\n15:20\n\n\n\n 
URL:https://quwands.jp/event/2469/
END:VEVENT
BEGIN:VEVENT
DTSTART;VALUE=DATE:20241214
DTEND;VALUE=DATE:20241215
DTSTAMP:20260426T120209
CREATED:20241226T051113Z
LAST-MODIFIED:20250709T082547Z
UID:2481-1734134400-1734220799@quwands.jp
SUMMARY:砂Aスタジオ【mayo】2024年12月14日の振替情報
DESCRIPTION:  \n\n\n\nスタジオ名\n砂Aスタジオ\n\n\nクラス\nHIPHOP入門\n\n\n講師名\nmayo\n\n\n日付変更\n12/21(土)→12/14(土)\n\n\n時間変更\n14:10→15:10-16:10\n\n\n\n  \n\n\n\nスタジオ名\n砂Aスタジオ\n\n\nクラス\nHIPHOP応用\n\n\n講師名\nmayo\n\n\n日付変更\n12/21(土)→12/14(土)\n\n\n時間変更\n15:20→16:20-17:50\n\n\n\n  \n\n\n\nスタジオ名\n砂Aスタジオ\n\n\nクラス\n大人クラス\n\n\n講師名\nmayo\n\n\n日付変更\n12/21(土)→12/14(土)\n\n\n時間変更\n17:10→18:00-19:00
URL:https://quwands.jp/event/2481/
END:VEVENT
BEGIN:VEVENT
DTSTART;VALUE=DATE:20241214
DTEND;VALUE=DATE:20241215
DTSTAMP:20260426T120209
CREATED:20241226T050150Z
LAST-MODIFIED:20250709T082534Z
UID:2473-1734134400-1734220799@quwands.jp
SUMMARY:砂Bスタジオ【dayo】2024年12月14日の振替情報
DESCRIPTION:  \n\n\n\nスタジオ名\n砂Bスタジオ\n\n\nクラス\nキッズチア\n\n\n講師名\ndayo\n\n\n日付変更\n12/14(土)→1/13(月)\n\n\n時間変更\n16:40→10:00-12:00\n\n\n\n  \n\n\n\nスタジオ名\n砂Bスタジオ\n\n\nクラス\nJAZZ基礎応用\n\n\n講師名\ndayo\n\n\n日付変更\n12/14(土)→12/27(金)\n\n\n時間変更\n17:50→13:20-16:20
URL:https://quwands.jp/event/2473/
END:VEVENT
BEGIN:VEVENT
DTSTART;VALUE=DATE:20241212
DTEND;VALUE=DATE:20241213
DTSTAMP:20260426T120209
CREATED:20241218T072210Z
LAST-MODIFIED:20250709T082421Z
UID:2432-1733961600-1734047999@quwands.jp
SUMMARY:砂Aスタジオ【Genki】2024年12月12日の振替情報
DESCRIPTION:  \n\n\n\nスタジオ名\n大島スタジオ→砂Aスタジオ\n\n\nクラス\nHIPHOP応用 \n\n\n講師名\nGenki \n\n\n日付変更\n11/2(土)→12/12(木) \n\n\n時間変更\n16:30→19:30-21:00\n\n\n\n 
URL:https://quwands.jp/event/2432/
END:VEVENT
BEGIN:VEVENT
DTSTART;VALUE=DATE:20241212
DTEND;VALUE=DATE:20241213
DTSTAMP:20260426T120209
CREATED:20241218T071741Z
LAST-MODIFIED:20250709T082517Z
UID:2428-1733961600-1734047999@quwands.jp
SUMMARY:大島スタジオ【Genki】2024年12月12日の振替情報
DESCRIPTION:  \n\n\n\nスタジオ名\n大島スタジオ→砂Aスタジオ\n\n\nクラス\nHIPHOP応用 \n\n\n講師名\nGenki\n\n\n日付変更\n11/2(土)→12/12(木) \n\n\n時間変更\n16:30→19:30-21:00\n\n\n\n  \n 
URL:https://quwands.jp/event/2428/
END:VEVENT
BEGIN:VEVENT
DTSTART;VALUE=DATE:20241211
DTEND;VALUE=DATE:20241212
DTSTAMP:20260426T120209
CREATED:20241225T081110Z
LAST-MODIFIED:20250709T082401Z
UID:2461-1733875200-1733961599@quwands.jp
SUMMARY:新小岩スタジオ【Ari_pown/ohina】2024年12月11日の振替情報
DESCRIPTION:  \n\n\n\nスタジオ名\n新小岩スタジオ\n\n\nクラス\nKIDSHIPHOP\n\n\n講師名\nAri_pown→ohina\n\n\n日付変更\n12/11(水)\n\n\n時間変更\n17:10\n\n\n\n  \n\n\n\nスタジオ名\n新小岩スタジオ\n\n\nクラス\nHIPHOP入門\n\n\n講師名\nAri_pown→ohina\n\n\n日付変更\n12/11(水)\n\n\n時間変更\n18:20\n\n\n\n  \n\n\n\nスタジオ名\n新小岩スタジオ\n\n\nクラス\nHIPHOP応用\n\n\n講師名\nAri_pown→ohina\n\n\n日付変更\n12/11(水）)\n\n\n時間変更\n19:30\n\n\n\n  \n 
URL:https://quwands.jp/event/2461/
END:VEVENT
BEGIN:VEVENT
DTSTART;VALUE=DATE:20241210
DTEND;VALUE=DATE:20241211
DTSTAMP:20260426T120209
CREATED:20241226T031314Z
LAST-MODIFIED:20250709T082345Z
UID:2467-1733788800-1733875199@quwands.jp
SUMMARY:平井スタジオ【manabu/ALISA】2024年12月10日の振替情報
DESCRIPTION:  \n\n\n\nスタジオ名\n平井スタジオ\n\n\nクラス\nKIDSHIPHOP\n\n\n講師名\nmanabu→ALISA\n\n\n日付変更\n12/10(火)\n\n\n時間変更\n17:10\n\n\n\n  \n\n\n\nスタジオ名\n平井スタジオ\n\n\nクラス\nHIPHOP入門\n\n\n講師名\nmanabu→ALISA\n\n\n日付変更\n12/10(火)\n\n\n時間変更\n18:20\n\n\n\n  \n\n\n\nスタジオ名\n平井スタジオ\n\n\nクラス\nHIPHOP応用\n\n\n講師名\nmanabu→ALISA\n\n\n日付変更\n12/10(火)\n\n\n時間変更\n19:30\n\n\n\n  \n 
URL:https://quwands.jp/event/2467/
END:VEVENT
BEGIN:VEVENT
DTSTART;VALUE=DATE:20241208
DTEND;VALUE=DATE:20241209
DTSTAMP:20260426T120209
CREATED:20241225T080402Z
LAST-MODIFIED:20250709T082309Z
UID:2457-1733616000-1733702399@quwands.jp
SUMMARY:新小岩スタジオ【kimkim】2024年12月8日の休講情報
DESCRIPTION:  \n\n\n\nスタジオ名\n新小岩スタジオ\n\n\nクラス\nKIDSJAZZFUNK\n\n\n講師名\nkimkim\n\n\n日付変更\n12/8(日)→休講\n\n\n時間変更\n16:20→休講\n\n\n\n  \n\n\n\nスタジオ名\n新小岩スタジオ\n\n\nクラス\nJAZZFUNK入門\n\n\n講師名\nkimkim\n\n\n日付変更\n12/8(日)→休講\n\n\n時間変更\n17:30→休講\n\n\n\n  \n\n\n\nスタジオ名\n新小岩スタジオ\n\n\nクラス\nJAZZFUNK応用\n\n\n講師名\nkimkim\n\n\n日付変更\n12/8(日)→休講\n\n\n時間変更\n18:40→休講\n\n\n\n  \n 
URL:https://quwands.jp/event/2457/
END:VEVENT
BEGIN:VEVENT
DTSTART;VALUE=DATE:20241207
DTEND;VALUE=DATE:20250114
DTSTAMP:20260426T120209
CREATED:20241218T075635Z
LAST-MODIFIED:20250709T082251Z
UID:2448-1733529600-1736812799@quwands.jp
SUMMARY:砂Bスタジオ【Sho-hey/KAKERU/Hana*/dayo】2024年12月7日の振替情報
DESCRIPTION:  \n\n\n\nスタジオ名\n砂Bスタジオ\n\n\nクラス\nキッズ体操\n\n\n講師名\nSho-hey→KAKERU\n\n\n日付変更\n12/7(土)\n\n\n時間変更\n10:00\n\n\n\n  \n\n\n\nスタジオ名\n砂Bスタジオ\n\n\nクラス\nHIPHOP中級 \n\n\n講師名\nSho-hey→Hana*\n\n\n日付変更\n12/7(土)\n\n\n時間変更\n11:10\n\n\n\n  \n\n\n\nスタジオ名\n砂Bスタジオ\n\n\nクラス\nHIPHOP中級 \n\n\n講師名\nSho-hey→Hana*\n\n\n日付変更\n12/7(土)\n\n\n時間変更\n12:30\n\n\n\n  \n\n\n\nスタジオ名\n砂Bスタジオ\n\n\nクラス\nキッズチア\n\n\n講師名\ndayo\n\n\n日付変更\n12/7(土)→1/13(月)\n\n\n時間変更\n16:40→10:00-12:00\n\n\n\n  \n\n\n\nスタジオ名\n砂Bスタジオ\n\n\nクラス\nJAZZ基礎応用 \n\n\n講師名\ndayo→KAKERU\n\n\n日付変更\n12/7(土)→12/27(金)\n\n\n時間変更\n17:50→13:20-16:20\n\n\n\n 
URL:https://quwands.jp/event/2448/
END:VEVENT
BEGIN:VEVENT
DTSTART;VALUE=DATE:20241207
DTEND;VALUE=DATE:20241208
DTSTAMP:20260426T120209
CREATED:20241218T080102Z
LAST-MODIFIED:20250709T082203Z
UID:2450-1733529600-1733615999@quwands.jp
SUMMARY:砂Aスタジオ【mayo/】2024年12月7日の振替情報
DESCRIPTION:  \n\n\n\nスタジオ名\n砂Aスタジオ\n\n\nクラス\nHIPHOP応用\n\n\n講師名\nmayo\n\n\n日付変更\n12/7(土)→12/21(土)\n\n\n時間変更\n15:20→16:50-18:20\n\n\n\n  \n\n\n\nスタジオ名\n砂Aスタジオ\n\n\nクラス\n大人クラス\n\n\n講師名\nmayo\n\n\n日付変更\n12/7(土)\n\n\n時間変更\n17:10→18:30-19:30\n\n\n\n 
URL:https://quwands.jp/event/2450/
END:VEVENT
BEGIN:VEVENT
DTSTART;VALUE=DATE:20241207
DTEND;VALUE=DATE:20241208
DTSTAMP:20260426T120209
CREATED:20241218T080751Z
LAST-MODIFIED:20250709T082225Z
UID:2453-1733529600-1733615999@quwands.jp
SUMMARY:大島スタジオ【Genki】2024年12月7日の振替情報
DESCRIPTION:  \n\n\n\nスタジオ名\n大島スタジオ\n\n\nクラス\nKIDSHIPHOP \n\n\n講師名\nGenki→Ari_pown\n\n\n日付変更\n12/7(土)\n\n\n時間変更\n14:10\n\n\n\n  \n\n\n\nスタジオ名\n大島スタジオ\n\n\nクラス\nHIPHOP入門\n\n\n講師名\nGenki→Ari_pown\n\n\n日付変更\n12/7(土)\n\n\n時間変更\n15:20\n\n\n\n  \n\n\n\nスタジオ名\n大島スタジオ\n\n\nクラス\nHIPHOP応用\n\n\n講師名\nGenki→Ari_pown\n\n\n日付変更\n12/7(土)\n\n\n時間変更\n16:30\n\n\n\n  \n 
URL:https://quwands.jp/event/2453/
END:VEVENT
BEGIN:VEVENT
DTSTART;VALUE=DATE:20241204
DTEND;VALUE=DATE:20241205
DTSTAMP:20260426T120209
CREATED:20241218T073117Z
LAST-MODIFIED:20250709T082148Z
UID:2437-1733270400-1733356799@quwands.jp
SUMMARY:砂Bスタジオ【kanae】2024年12月4日の振替情報
DESCRIPTION:  \n\n\n\nスタジオ名\n砂Bスタジオ\n\n\nクラス\nリトルKPOP\n\n\n講師名\nkanae\n\n\n日付変更\n12/4(水)→1/6(月)\n\n\n時間変更\n16:00→11:00-12:00\n\n\n\n  \n\n\n\nスタジオ名\n砂Bスタジオ\n\n\nクラス\nKIDS KPOP \n\n\n講師名\nkanae\n\n\n日付変更\n12/4(水)→1/6(月)\n\n\n時間変更\n17:10→12:10-13:10\n\n\n\n  \n\n\n\nスタジオ名\n砂Bスタジオ\n\n\nクラス\nB KPOP入門\n\n\n講師名\nkanae\n\n\n日付変更\n12/4(水)→1/7(火)\n\n\n時間変更\n18:20→12:00-13:00\n\n\n\n  \n\n\n\nスタジオ名\n砂Bスタジオ\n\n\nクラス\nB KPOP応用\n\n\n講師名\nkanae\n\n\n日付変更\n12/4(水)→1/7(火) \n\n\n時間変更\n19:30→13:10-14:40
URL:https://quwands.jp/event/2437/
END:VEVENT
BEGIN:VEVENT
DTSTART;VALUE=DATE:20241106
DTEND;VALUE=DATE:20241107
DTSTAMP:20260426T120209
CREATED:20241218T072652Z
LAST-MODIFIED:20250709T082128Z
UID:2435-1730851200-1730937599@quwands.jp
SUMMARY:砂Aスタジオ【Genki】2024年11月6日の休講情報
DESCRIPTION:  \n\n\n\nスタジオ名\n砂Aスタジオ\n\n\nクラス\nHIPHOP中級 \n\n\n講師名\nGenki\n\n\n日付変更\n11/6(水)→休講\n\n\n時間変更\n19:30→休講\n\n\n\n  \n 
URL:https://quwands.jp/event/2435/
END:VEVENT
BEGIN:VEVENT
DTSTART;VALUE=DATE:20241102
DTEND;VALUE=DATE:20241103
DTSTAMP:20260426T120209
CREATED:20241218T072154Z
LAST-MODIFIED:20250709T082054Z
UID:2430-1730505600-1730591999@quwands.jp
SUMMARY:砂Aスタジオ【Genki】2024年11月2日の振替情報
DESCRIPTION:  \n\n\n\nスタジオ名\n大島スタジオ→砂Aスタジオ\n\n\nクラス\nHIPHOP応用 \n\n\n講師名\nGenki \n\n\n日付変更\n11/2(土)→12/12(木) \n\n\n時間変更\n16:30→19:30-21:00\n\n\n\n 
URL:https://quwands.jp/event/2430/
END:VEVENT
BEGIN:VEVENT
DTSTART;VALUE=DATE:20241102
DTEND;VALUE=DATE:20241103
DTSTAMP:20260426T120209
CREATED:20241218T071656Z
LAST-MODIFIED:20250709T082110Z
UID:2426-1730505600-1730591999@quwands.jp
SUMMARY:大島スタジオ【Genki】2024年11月2日の振替情報
DESCRIPTION:  \n\n\n\nスタジオ名\n大島スタジオ→砂Aスタジオ\n\n\nクラス\nHIPHOP応用 \n\n\n講師名\nGenki\n\n\n日付変更\n11/2(土)→12/12(木) \n\n\n時間変更\n16:30→19:30-21:00\n\n\n\n  \n 
URL:https://quwands.jp/event/2426/
END:VEVENT
BEGIN:VEVENT
DTSTART;VALUE=DATE:20241022
DTEND;VALUE=DATE:20241023
DTSTAMP:20260426T120209
CREATED:20241218T070220Z
LAST-MODIFIED:20250709T081926Z
UID:2421-1729555200-1729641599@quwands.jp
SUMMARY:砂Aスタジオ【KYOKA】2024年10月22日の振替情報
DESCRIPTION:  \n\n\n\nスタジオ名\n砂Aスタジオ\n\n\nクラス\nKIDS HIPHOP\n\n\n講師名\nKYOKA\n\n\n日付変更\n10/22(火)→休講\n\n\n時間変更\n17:10→休講\n\n\n\n  \n\n\n\nスタジオ名\n砂Aスタジオ\n\n\nクラス\nHIPHOP入門\n\n\n講師名\nKYOKA\n\n\n日付変更\n10/22(火)→休講\n\n\n時間変更\n18:20→休講\n\n\n\n  \n\n\n\nスタジオ名\n砂Aスタジオ\n\n\nクラス\nHIPHOP中級 \n\n\n講師名\nKYOKA\n\n\n日付変更\n10/22(火)→休講\n\n\n時間変更\n19:30→休講
URL:https://quwands.jp/event/2421/
END:VEVENT
BEGIN:VEVENT
DTSTART;VALUE=DATE:20241012
DTEND;VALUE=DATE:20241013
DTSTAMP:20260426T120209
CREATED:20241218T064414Z
LAST-MODIFIED:20250709T081911Z
UID:2414-1728691200-1728777599@quwands.jp
SUMMARY:砂Bスタジオ【dayo】2024年10月12日の振替情報
DESCRIPTION:  \n\n\n\nスタジオ名\n砂Bスタジオ\n\n\nクラス\nキッズチア\n\n\n講師名\ndayo\n\n\n日付変更\n10/12(土)→12/29(日)\n\n\n時間変更\n16:40→10:00-12:00\n\n\n\n  \n\n\n\nスタジオ名\n砂Bスタジオ\n\n\nクラス\nJAZZ基礎応用\n\n\n講師名\ndayo\n\n\n日付変更\n10/12(土)→12/26(木)\n\n\n時間変更\n17:50→13:40-15:10\n\n\n\n 
URL:https://quwands.jp/event/2414/
END:VEVENT
END:VCALENDAR