BEGIN:VCALENDAR
VERSION:2.0
PRODID:-//QUWANDS - ECPv6.10.2//NONSGML v1.0//EN
CALSCALE:GREGORIAN
METHOD:PUBLISH
X-WR-CALNAME:QUWANDS
X-ORIGINAL-URL:https://quwands.jp
X-WR-CALDESC:QUWANDS のイベント
REFRESH-INTERVAL;VALUE=DURATION:PT1H
X-Robots-Tag:noindex
X-PUBLISHED-TTL:PT1H
BEGIN:VTIMEZONE
TZID:Asia/Tokyo
BEGIN:STANDARD
TZOFFSETFROM:+0900
TZOFFSETTO:+0900
TZNAME:JST
DTSTART:20250101T000000
END:STANDARD
END:VTIMEZONE
BEGIN:VEVENT
DTSTART;VALUE=DATE:20250922
DTEND;VALUE=DATE:20250923
DTSTAMP:20260426T005712
CREATED:20250905T011614Z
LAST-MODIFIED:20250918T052935Z
UID:3918-1758499200-1758585599@quwands.jp
SUMMARY:新小岩st【Lón/newsteelo】代講情報
DESCRIPTION:  \n\n\n\nスタジオ名\n新小岩スタジオ\n\n\nクラス\nブレイキン基礎応用\n\n\n講師名\nLón→newsteelo\n\n\n日付\n9/22(月)\n\n\n時間\n19:30-20:45\n\n\n\n  \n 
URL:https://quwands.jp/event/3918/
END:VEVENT
BEGIN:VEVENT
DTSTART;VALUE=DATE:20250922
DTEND;VALUE=DATE:20250923
DTSTAMP:20260426T005712
CREATED:20250822T110635Z
LAST-MODIFIED:20250822T110635Z
UID:3727-1758499200-1758585599@quwands.jp
SUMMARY:砂銀Ast 【ALISA/NAO】代講情報
DESCRIPTION:  \n\n\n\nスタジオ名\n砂銀Aスタジオ\n\n\nクラス\nリトルキッズダンス\n\n\n講師名\nALISA→NAO\n\n\n日付\n9/22(月)\n\n\n時間\n16:00-17:00\n\n\n\n  \n\n\n\nスタジオ名\n砂銀Aスタジオ\n\n\nクラス\nKIDS HIPHOP\n\n\n講師名\nALISA→NAO\n\n\n日付\n9/22(月)\n\n\n時間\n17:10-18:10\n\n\n\n  \n\n\n\nスタジオ名\n砂銀Aスタジオ\n\n\nクラス\nJAZZHIPHOP入門\n\n\n講師名\nALISA→NAO\n\n\n日付\n9/22(月)\n\n\n時間\n18:20-19:20\n\n\n\n 
URL:https://quwands.jp/event/3727/
END:VEVENT
BEGIN:VEVENT
DTSTART;VALUE=DATE:20250921
DTEND;VALUE=DATE:20250922
DTSTAMP:20260426T005712
CREATED:20250904T051152Z
LAST-MODIFIED:20250911T051904Z
UID:3904-1758412800-1758499199@quwands.jp
SUMMARY:平井st 【CHIKA→HARU/MINORI】代講情報
DESCRIPTION:スタジオ名\n平井スタジオ\n\n\nクラス\nリトルキッズダンス \n\n\n講師名\nCHIKA→HARU\n\n\n日付\n9/21(日)\n\n\n時間\n13:00-14:00\n\n\n\n  \n\n\n\nスタジオ名\n平井スタジオ\n\n\nクラス\nキッズ体操\n\n\n講師名\nCHIKA→MINORI\n\n\n日付\n9/21(日)\n\n\n時間\n14:10-15:10\n\n\n\n  \n\n\n\nスタジオ名\n平井スタジオ\n\n\nクラス\n体操\n\n\n講師名\nCHIKA→MINORI\n\n\n日付\n9/21(日)\n\n\n時間\n15:20-16:50
URL:https://quwands.jp/event/3904/
END:VEVENT
BEGIN:VEVENT
DTSTART;VALUE=DATE:20250921
DTEND;VALUE=DATE:20250922
DTSTAMP:20260426T005712
CREATED:20250904T014323Z
LAST-MODIFIED:20250917T053758Z
UID:3901-1758412800-1758499199@quwands.jp
SUMMARY:砂銀Ast 【舞/iTSUKi】代講情報
DESCRIPTION:スタジオ名\n砂銀Aスタジオ\n\n\nクラス\nKIDS KPOP\n\n\n講師名\n舞→iTSUKi\n\n\n日付\n9/21(日)\n\n\n時間\n13:00-14:00\n\n\n\n  \n\n\n\nスタジオ名\n砂銀Bスタジオ→砂銀Aスタジオ\n\n\nクラス\nKPOP入門\n\n\n講師名\n舞→iTSUKi\n\n\n日付\n9/21(日)\n\n\n時間\n14:20-15:20\n\n\n\n  \n\n\n\nスタジオ名\n砂銀Bスタジオ→砂銀Aスタジオ\n\n\nクラス\nKPOP応用\n\n\n講師名\n舞→iTSUKi\n\n\n日付\n9/21(日)\n\n\n時間\n15:30-17:00
URL:https://quwands.jp/event/3901/
END:VEVENT
BEGIN:VEVENT
DTSTART;VALUE=DATE:20250921
DTEND;VALUE=DATE:20250922
DTSTAMP:20260426T005712
CREATED:20250822T112459Z
LAST-MODIFIED:20250828T055346Z
UID:3754-1758412800-1758499199@quwands.jp
SUMMARY:砂銀Ast 【ALISA/PASSION】代講情報
DESCRIPTION:スタジオ名\n砂銀Bスタジオ\n\n\nクラス\nKIDS HIPHOP \n\n\n講師名\nALISA→PASSION\n\n\n日付\n9/21(日)\n\n\n時間\n17:10-18:10\n\n\n\n  \n\n\n\nスタジオ名\n砂銀Bスタジオ→砂銀Aスタジオ\n\n\nクラス\nJAZZHIPHOP入門\n\n\n講師名\nALISA→PASSION\n\n\n日付\n9/21(日)\n\n\n時間\n18:20-19:20\n\n\n\n  \n\n\n\nスタジオ名\n砂銀Bスタジオ→砂銀Aスタジオ\n\n\nクラス\nJAZZ 基礎応用 \n\n\n講師名\nALISA→PASSION\n\n\n日付\n9/21(日)\n\n\n時間\n19:30-21:00
URL:https://quwands.jp/event/3754/
END:VEVENT
BEGIN:VEVENT
DTSTART;VALUE=DATE:20250920
DTEND;VALUE=DATE:20250921
DTSTAMP:20260426T005712
CREATED:20250925T073902Z
LAST-MODIFIED:20250925T073902Z
UID:4122-1758326400-1758412799@quwands.jp
SUMMARY:大島st 【Genki/Sho-hey/Ryosuke】代講情報
DESCRIPTION:スタジオ名\n大島スタジオ\n\n\nクラス\nキッズHIPHOP\n\n\n講師名\nGenki→Sho-hey\n\n\n日付\n9/20(土)\n\n\n\n時間\n14:10-15:10\n\n\n\n  \n\n\n\nスタジオ名\n大島スタジオ\n\n\nクラス\nHIPHOP入門\n\n\n講師名\nGenki→Ryosuke\n\n\n日付\n9/20(土)\n\n\n\n時間\n15:20-16:20\n\n\n\n  \n\n\n\nスタジオ名\n大島スタジオ\n\n\nクラス\nHIPHOP応用\n\n\n講師名\nGenki→Ryosuke\n\n\n日付\n9/20(土)\n\n\n\n時間\n16:30-18:00\n\n\n\n 
URL:https://quwands.jp/event/4122/
END:VEVENT
BEGIN:VEVENT
DTSTART;VALUE=DATE:20250919
DTEND;VALUE=DATE:20250920
DTSTAMP:20260426T005712
CREATED:20250825T064606Z
LAST-MODIFIED:20250825T081718Z
UID:3770-1758240000-1758326399@quwands.jp
SUMMARY:平井st 【ALISA/HARU】代講情報
DESCRIPTION:スタジオ名\n平井スタジオ\n\n\nクラス\nKIDS HIPHOP \n\n\n講師名\nALISA→HARU\n\n\n日付\n9/19(金)\n\n\n時間\n17:10-18:10\n\n\n\n  \n\n\n\nスタジオ名\n平井スタジオ\n\n\nクラス\nJAZZHIPHOP入門\n\n\n講師名\nALISA→HARU\n\n\n日付\n9/19(金)\n\n\n時間\n18:20-19:20\n\n\n\n  \n\n\n\nスタジオ名\n平井スタジオ\n\n\nクラス\nJAZZHIPHOP応用\n\n\n講師名\nALISA→HARU\n\n\n日付\n9/19(金)\n\n\n時間\n19:30-21:00\n\n\n\n 
URL:https://quwands.jp/event/3770/
END:VEVENT
BEGIN:VEVENT
DTSTART;VALUE=DATE:20250919
DTEND;VALUE=DATE:20250920
DTSTAMP:20260426T005712
CREATED:20251003T031236Z
LAST-MODIFIED:20251003T031236Z
UID:4158-1758240000-1758326399@quwands.jp
SUMMARY:砂銀Aスタジオ 【aoi kasahara/市毛 優里子】代講情報
DESCRIPTION:スタジオ名\n砂銀Aスタジオ\n\n\nクラス\nJAZZ入門\n\n\n講師名\naoi kasahara→市毛 優里子\n\n\n日付\n9/19(金)\n\n\n時間\n18:20-19:20\n\n\n\n  \n\n\n\nスタジオ名\n砂銀Aスタジオ\n\n\nクラス\nJAZZ中級\n\n\n講師名\naoi kasahara→市毛 優里子\n\n\n日付\n9/19(金)\n\n\n時間\n19:30-20:45
URL:https://quwands.jp/event/4158/
END:VEVENT
BEGIN:VEVENT
DTSTART;VALUE=DATE:20250919
DTEND;VALUE=DATE:20250920
DTSTAMP:20260426T005712
CREATED:20251003T030934Z
LAST-MODIFIED:20251003T030934Z
UID:4156-1758240000-1758326399@quwands.jp
SUMMARY:砂銀Aスタジオ 【aoi kasahara】休講情報
DESCRIPTION:スタジオ名\n砂銀Aスタジオ\n\n\nクラス\nKIDS JAZZ\n\n\n講師名\naoi kasahara\n\n\n日付\n9/19(金)\n\n\n時間\n17:10-18:10\n\n\n\n 
URL:https://quwands.jp/event/4156/
END:VEVENT
BEGIN:VEVENT
DTSTART;VALUE=DATE:20250919
DTEND;VALUE=DATE:20250920
DTSTAMP:20260426T005712
CREATED:20250918T052346Z
LAST-MODIFIED:20250918T061309Z
UID:4049-1758240000-1758326399@quwands.jp
SUMMARY:砂銀Bst 【Hana*/yamato】代講情報
DESCRIPTION:スタジオ名\n砂銀Bスタジオ\n\n\nクラス\nKIDS HIPHOP\n\n\n講師名\nHana*→yamato\n\n\n日付\n9/19(金)\n\n\n時間\n17:10-18:10\n\n\n\n  \n\n\n\nスタジオ名\n砂銀Bスタジオ\n\n\nクラス\nHIPHOP入門\n\n\n講師名\nHana*→yamato\n\n\n日付\n9/19(金)\n\n\n時間\n18:20-19:20\n\n\n\n  \n\n\n\nスタジオ名\n砂銀Bスタジオ\n\n\nクラス\nHIPHOP応用\n\n\n講師名\nHana*→yamato\n\n\n日付\n9/19(金)\n\n\n時間\n19:30-21:00\n\n\n\n 
URL:https://quwands.jp/event/4049/
END:VEVENT
BEGIN:VEVENT
DTSTART;VALUE=DATE:20250918
DTEND;VALUE=DATE:20250919
DTSTAMP:20260426T005712
CREATED:20250825T072251Z
LAST-MODIFIED:20250825T072251Z
UID:3797-1758153600-1758239999@quwands.jp
SUMMARY:砂銀Bst 【CHIKA/MINORI合同】振替情報
DESCRIPTION:スタジオ名\n砂銀Aスタジオ→砂銀Bスタジオ\n\n\nクラス\nリトルキッズ体操\n\n\n講師名\nCHIKA、MINORI合同\n\n\n日付\n9/18(木)\n\n\n時間\n16:00-17:00\n\n\n\n 
URL:https://quwands.jp/event/3797/
END:VEVENT
BEGIN:VEVENT
DTSTART;VALUE=DATE:20250917
DTEND;VALUE=DATE:20250918
DTSTAMP:20260426T005712
CREATED:20250918T051534Z
LAST-MODIFIED:20250918T051534Z
UID:4038-1758067200-1758153599@quwands.jp
SUMMARY:砂銀Ast【Genki/Omi】代講情報
DESCRIPTION:スタジオ名\n砂銀Aスタジオ\n\n\nクラス\nHIPHOP中級\n\n\n講師名\nGenki→Omi\n\n\n日付\n9/17(水)\n\n\n時間\n19:30-20:45\n\n\n\n  \n  \n  \n 
URL:https://quwands.jp/event/4038/
END:VEVENT
BEGIN:VEVENT
DTSTART;VALUE=DATE:20250917
DTEND;VALUE=DATE:20250918
DTSTAMP:20260426T005712
CREATED:20250904T014012Z
LAST-MODIFIED:20250904T014012Z
UID:3899-1758067200-1758153599@quwands.jp
SUMMARY:大島st 【aoi kasahara/hiyoo】代講情報
DESCRIPTION:スタジオ名\n大島スタジオ\n\n\nクラス\nKIDS JAZZ\n\n\n講師名\naoi kasahara→hiyoo\n\n\n日付\n9/17(水)\n\n\n\n時間\n17:00-18:00\n\n\n\n 
URL:https://quwands.jp/event/3899/
END:VEVENT
BEGIN:VEVENT
DTSTART;VALUE=DATE:20250916
DTEND;VALUE=DATE:20250917
DTSTAMP:20260426T005712
CREATED:20250917T052414Z
LAST-MODIFIED:20250917T052414Z
UID:4018-1757980800-1758067199@quwands.jp
SUMMARY:大島st 【HIKARU/MAMI】代講情報
DESCRIPTION:スタジオ名\n大島スタジオ\n\n\nクラス\nKIDS KPOP\n\n\n講師名\nHIKARU→MAMI\n\n\n日付\n9/16(火)\n\n\n時間\n17:10-18:10\n\n\n\n  \n\n\n\nスタジオ名\n大島スタジオ\n\n\nクラス\nKPOP入門\n\n\n講師名\nHIKARU→MAMI\n\n\n日付\n9/16(火)\n\n\n時間\n18:20-19:20\n\n\n\n  \n\n\n\nスタジオ名\n大島スタジオ\n\n\nクラス\nKPOP応用\n\n\n講師名\nHIKARU→MAMI\n\n\n日付\n9/16(火)\n\n\n時間\n19:30-21:00
URL:https://quwands.jp/event/4018/
END:VEVENT
BEGIN:VEVENT
DTSTART;VALUE=DATE:20250916
DTEND;VALUE=DATE:20250917
DTSTAMP:20260426T005712
CREATED:20250829T012512Z
LAST-MODIFIED:20250829T012520Z
UID:3827-1757980800-1758067199@quwands.jp
SUMMARY:砂銀Ast 【KYOKA/HARU】代講情報
DESCRIPTION:スタジオ名\n砂銀Aスタジオ\n\n\nクラス\nKIDS HIPHOP \n\n\n講師名\nKYOKA→HARU\n\n\n日付\n9/16(火)\n\n\n時間\n17:10-18:10\n\n\n\n  \n\n\n\nスタジオ名\n砂銀Aスタジオ\n\n\nクラス\nHIPHOP入門\n\n\n講師名\nKYOKA→HARU\n\n\n日付\n9/16(火)\n\n\n時間\n18:20-19:20\n\n\n\n  \n\n\n\nスタジオ名\n砂銀Aスタジオ\n\n\nクラス\nHIPHOP中級\n\n\n講師名\nKYOKA→HARU\n\n\n日付\n9/16(火)\n\n\n時間\n19:30-20:45
URL:https://quwands.jp/event/3827/
END:VEVENT
BEGIN:VEVENT
DTSTART;VALUE=DATE:20250916
DTEND;VALUE=DATE:20250917
DTSTAMP:20260426T005712
CREATED:20250909T055453Z
LAST-MODIFIED:20251015T053807Z
UID:3967-1757980800-1758067199@quwands.jp
SUMMARY:平井st【manabu】振替情報
DESCRIPTION:スタジオ名\n平井スタジオ\n\n\nクラス\nKIDS HIPHOP\n\n\n講師名\nmanabu\n\n\n日付\n9/16(火)→9/29(月)\n\n\n時間\n17:10-18:10\n\n\n\n  \n\n\n\nスタジオ名\n平井スタジオ\n\n\nクラス\nHIPHOP入門\n\n\n講師名\nmanabu\n\n\n日付\n9/16(火)→9/29(月)\n\n\n時間\n18:20-19:20\n\n\n\n  \n\n\n\nスタジオ名\n平井スタジオ\n\n\nクラス\nHIPHOP応用\n\n\n講師名\nmanabu\n\n\n日付\n9/16(火)→9/29(月)\n\n\n時間\n19:30-21:00
URL:https://quwands.jp/event/3967/
END:VEVENT
BEGIN:VEVENT
DTSTART;VALUE=DATE:20250915
DTEND;VALUE=DATE:20250916
DTSTAMP:20260426T005712
CREATED:20250909T055058Z
LAST-MODIFIED:20251015T053541Z
UID:3965-1757894400-1757980799@quwands.jp
SUMMARY:平井スタジオ【kanae/RIHONA】代講情報
DESCRIPTION:スタジオ名\n平井スタジオ\n\n\nクラス\nKIDSKPOP\n\n\n講師名\nkanae→RIHONA\n\n\n日付\n9/15(月)\n\n\n時間\n17:10-18:10\n\n\n\n  \n\n\n\nスタジオ名\n平井スタジオ\n\n\nクラス\nKPOP入門\n\n\n講師名\nkanae→RIHONA\n\n\n日付\n9/15(月)\n\n\n時間\n18:20-19:20\n\n\n\n  \n\n\n\nスタジオ名\n平井スタジオ\n\n\nクラス\nKPOP応用\n\n\n講師名\nkanae→RIHONA\n\n\n日付\n9/15(月)\n\n\n時間\n19:30-21:00
URL:https://quwands.jp/event/3965/
END:VEVENT
BEGIN:VEVENT
DTSTART;VALUE=DATE:20250915
DTEND;VALUE=DATE:20250916
DTSTAMP:20260426T005712
CREATED:20250905T011546Z
LAST-MODIFIED:20250905T011546Z
UID:3916-1757894400-1757980799@quwands.jp
SUMMARY:新小岩スタジオ【Lón/newsteelo】代講情報
DESCRIPTION:  \n\n\n\nスタジオ名\n新小岩スタジオ\n\n\nクラス\nブレイキン基礎応用\n\n\n講師名\nLón→newsteelo\n\n\n日付\n9/15(月)\n\n\n時間\n19:30-20:45\n\n\n\n  \n 
URL:https://quwands.jp/event/3916/
END:VEVENT
BEGIN:VEVENT
DTSTART;VALUE=DATE:20250915
DTEND;VALUE=DATE:20250916
DTSTAMP:20260426T005712
CREATED:20250829T054935Z
LAST-MODIFIED:20250829T054935Z
UID:3852-1757894400-1757980799@quwands.jp
SUMMARY:砂銀Bst 【dayo】振替情報
DESCRIPTION:スタジオ名\n砂銀Bスタジオ\n\n\nクラス\nキッズチア\n\n\n講師名\ndayo\n\n\n日付\n9/6(土)→9/15(月)\n\n\n時間\n16:40-17:40→15:10-16:10\n\n\n\n  \n\n\n\nスタジオ名\n砂銀Bスタジオ\n\n\nクラス\nJAZZ 基礎応用\n\n\n講師名\ndayo\n\n\n日付\n9/6(土)→9/15(月)\n\n\n時間\n17:50-19:20→13:30-15:00
URL:https://quwands.jp/event/3852/
END:VEVENT
BEGIN:VEVENT
DTSTART;VALUE=DATE:20250915
DTEND;VALUE=DATE:20250916
DTSTAMP:20260426T005712
CREATED:20250822T110847Z
LAST-MODIFIED:20250822T110847Z
UID:3732-1757894400-1757980799@quwands.jp
SUMMARY:砂銀Ast 【ALISA/舞】代講情報
DESCRIPTION:  \n\n\n\nスタジオ名\n砂銀Aスタジオ\n\n\nクラス\nリトルキッズダンス\n\n\n講師名\nALISA→舞\n\n\n日付\n9/15(月)\n\n\n時間\n16:00-17:00\n\n\n\n  \n\n\n\nスタジオ名\n砂銀Aスタジオ\n\n\nクラス\nKIDS HIPHOP\n\n\n講師名\nALISA→舞\n\n\n日付\n9/15(月)\n\n\n時間\n17:10-18:10\n\n\n\n  \n\n\n\nスタジオ名\n砂銀Aスタジオ\n\n\nクラス\nJAZZHIPHOP入門\n\n\n講師名\nALISA→舞\n\n\n日付\n9/15(月)\n\n\n時間\n18:20-19:20\n\n\n\n 
URL:https://quwands.jp/event/3732/
END:VEVENT
BEGIN:VEVENT
DTSTART;VALUE=DATE:20250914
DTEND;VALUE=DATE:20250915
DTSTAMP:20260426T005712
CREATED:20250918T051910Z
LAST-MODIFIED:20250918T052206Z
UID:4040-1757808000-1757894399@quwands.jp
SUMMARY:大島st 【MiYuu】振替情報
DESCRIPTION:  \n\n\n\nスタジオ名\n大島スタジオ\n\n\nクラス\nHIPHOP入門 \n\n\n講師名\nMiYuu\n\n\n日付\n9/14(日)→10/19(日)\n\n\n時間\n19:30-20:45→12:30-13:30\n\n\n\n  \n\n\n\nスタジオ名\n大島スタジオ\n\n\nクラス\nHIPHOP応用\n\n\n講師名\nMiYuu\n\n\n日付\n9/14(日)→10/26(日)\n\n\n時間\n19:30-20:45→12:20-13:50\n\n\n\n 
URL:https://quwands.jp/event/4040/
END:VEVENT
BEGIN:VEVENT
DTSTART;VALUE=DATE:20250914
DTEND;VALUE=DATE:20250915
DTSTAMP:20260426T005712
CREATED:20250822T112358Z
LAST-MODIFIED:20250828T055411Z
UID:3750-1757808000-1757894399@quwands.jp
SUMMARY:砂銀Ast 【ALISA/PASSION】代講情報
DESCRIPTION:スタジオ名\n砂銀Bスタジオ\n\n\nクラス\nKIDS HIPHOP \n\n\n講師名\nALISA→PASSION\n\n\n日付\n9/14(日)\n\n\n時間\n17:10-18:10\n\n\n\n  \n\n\n\nスタジオ名\n砂銀Bスタジオ→砂銀Aスタジオ\n\n\nクラス\nJAZZHIPHOP入門\n\n\n講師名\nALISA→PASSION\n\n\n日付\n9/14(日)\n\n\n時間\n18:20-19:20\n\n\n\n  \n\n\n\nスタジオ名\n砂銀Bスタジオ→砂銀Aスタジオ\n\n\nクラス\nJAZZ 基礎応用 \n\n\n講師名\nALISA→PASSION\n\n\n日付\n9/14(日)\n\n\n時間\n19:30-21:00
URL:https://quwands.jp/event/3750/
END:VEVENT
BEGIN:VEVENT
DTSTART;VALUE=DATE:20250913
DTEND;VALUE=DATE:20250914
DTSTAMP:20260426T005712
CREATED:20251003T031413Z
LAST-MODIFIED:20251022T053925Z
UID:4160-1757721600-1757807999@quwands.jp
SUMMARY:砂銀Aスタジオ【PASSION】振替情報
DESCRIPTION:スタジオ名\n砂銀Aスタジオ\n\n\nクラス\nJAZZHIPHOP基礎応用\n\n\n講師名\nPASSION\n\n\n日付\n9/13(土)→10/30(木)\n\n\n時間\n19:30-21:00→17:50-19:20\n\n\n\n 
URL:https://quwands.jp/event/4160/
END:VEVENT
BEGIN:VEVENT
DTSTART;VALUE=DATE:20250913
DTEND;VALUE=DATE:20250914
DTSTAMP:20260426T005712
CREATED:20250904T013543Z
LAST-MODIFIED:20250909T101342Z
UID:3897-1757721600-1757807999@quwands.jp
SUMMARY:平井st 【yu-ta/KAKERU】代講情報
DESCRIPTION:スタジオ名\n平井スタジオ\n\n\nクラス\nキッズ体操 \n\n\n講師名\nyu-ta→KAKERU\n\n\n日付\n9/13(土)\n\n\n\n時間\n14:10-15:10\n\n\n\n  \n\n\n\nスタジオ名\n平井スタジオ\n\n\nクラス\n体操\n\n\n講師名\nyu-ta→KAKERU\n\n\n日付\n9/13(土)\n\n\n\n時間\n15:20-16:50\n\n\n\n 
URL:https://quwands.jp/event/3897/
END:VEVENT
BEGIN:VEVENT
DTSTART;VALUE=DATE:20250913
DTEND;VALUE=DATE:20250914
DTSTAMP:20260426T005712
CREATED:20250904T013311Z
LAST-MODIFIED:20251015T054019Z
UID:3895-1757721600-1757807999@quwands.jp
SUMMARY:大島st 【Genki/Retro】代講情報
DESCRIPTION:スタジオ名\n大島スタジオ\n\n\nクラス\nキッズHIPHOP\n\n\n講師名\nGenki→Retro\n\n\n日付\n9/13(土)\n\n\n時間\n14:10-15:10\n\n\n\n  \n\n\n\nスタジオ名\n大島スタジオ\n\n\nクラス\nHIPHOP入門\n\n\n講師名\nGenki→Retro\n\n\n日付\n9/13(土)\n\n\n時間\n15:20-16:20\n\n\n\n  \n\n\n\nスタジオ名\n大島スタジオ\n\n\nクラス\nHHIPHOP応用\n\n\n講師名\nGenki→Retro\n\n\n日付\n9/13(土)\n\n\n時間\n16:30-18:00
URL:https://quwands.jp/event/3895/
END:VEVENT
BEGIN:VEVENT
DTSTART;VALUE=DATE:20250912
DTEND;VALUE=DATE:20250913
DTSTAMP:20260426T005712
CREATED:20250904T012833Z
LAST-MODIFIED:20250904T012833Z
UID:3891-1757635200-1757721599@quwands.jp
SUMMARY:大島st 【RIHONA】振替情報
DESCRIPTION:スタジオ名\n大島スタジオ\n\n\nクラス\nリトルキッズダンス\n\n\n講師名\nRIHONA\n\n\n日付\n9/12(金)→9/29(月)\n\n\n時間\n16:00-17:00\n\n\n\n  \n\n\n\nスタジオ名\n大島スタジオ\n\n\nクラス\nKIDS HIPHOP\n\n\n講師名\nRIHONA\n\n\n日付\n9/12(金)→9/29(月)\n\n\n時間\n17:10-18:10\n\n\n\n  \n\n\n\nスタジオ名\n大島スタジオ\n\n\nクラス\nJAZZHIPHOP入門\n\n\n講師名\nRIHONA\n\n\n日付\n9/12(金)→9/29(月)\n\n\n時間\n18:20-19:20\n\n\n\n  \n\n\n\nスタジオ名\n大島スタジオ\n\n\nクラス\nJAZZHIPHOP応用\n\n\n講師名\nRIHONA\n\n\n日付\n9/12(金)→9/29(月)\n\n\n時間\n19:30-21:00
URL:https://quwands.jp/event/3891/
END:VEVENT
BEGIN:VEVENT
DTSTART;VALUE=DATE:20250912
DTEND;VALUE=DATE:20250913
DTSTAMP:20260426T005712
CREATED:20250825T064525Z
LAST-MODIFIED:20250829T011900Z
UID:3768-1757635200-1757721599@quwands.jp
SUMMARY:平井st 【ALISA/HARU】代講情報
DESCRIPTION:スタジオ名\n平井スタジオ\n\n\nクラス\nKIDS HIPHOP \n\n\n講師名\nALISA→HARU\n\n\n日付\n9/12(金)\n\n\n時間\n17:10-18:10\n\n\n\n  \n\n\n\nスタジオ名\n平井スタジオ\n\n\nクラス\nJAZZHIPHOP入門\n\n\n講師名\nALISA→HARU\n\n\n日付\n9/12(金)\n\n\n時間\n18:20-19:20\n\n\n\n  \n\n\n\nスタジオ名\n平井スタジオ\n\n\nクラス\nJAZZHIPHOP応用\n\n\n講師名\nALISA→HARU\n\n\n日付\n9/12(金)\n\n\n時間\n19:30-21:00\n\n\n\n 
URL:https://quwands.jp/event/3768/
END:VEVENT
BEGIN:VEVENT
DTSTART;VALUE=DATE:20250911
DTEND;VALUE=DATE:20250912
DTSTAMP:20260426T005712
CREATED:20250916T052249Z
LAST-MODIFIED:20250918T014934Z
UID:3996-1757548800-1757635199@quwands.jp
SUMMARY:砂銀Bスタジオ【Lón/newsteelo】代講情報
DESCRIPTION:スタジオ名\n砂銀Bスタジオ\n\n\nクラス\nブレイキン基礎応用\n\n\n講師名\nLón→newsteelo\n\n\n日付\n9/11(木)\n\n\n時間\n19:40-20:55\n\n\n\n 
URL:https://quwands.jp/event/3996/
END:VEVENT
BEGIN:VEVENT
DTSTART;VALUE=DATE:20250911
DTEND;VALUE=DATE:20250912
DTSTAMP:20260426T005712
CREATED:20250905T050931Z
LAST-MODIFIED:20250905T050931Z
UID:3938-1757548800-1757635199@quwands.jp
SUMMARY:新小岩スタジオ【aoi kasahara/Reira】代講情報
DESCRIPTION:スタジオ名\n新小岩スタジオ\n\n\nクラス\nKIDS JAZZ\n\n\n講師名\naoi kasahara→Reira\n\n\n日付\n9/11(木)\n\n\n時間\n17:10-18:10\n\n\n\n  \n\n\n\nスタジオ名\n新小岩スタジオ\n\n\nクラス\nJAZZ入門\n\n\n講師名\naoi kasahara→Reira\n\n\n日付\n9/11(木)\n\n\n時間\n18:20-19:20\n\n\n\n  \n\n\n\nスタジオ名\n新小岩スタジオ\n\n\nクラス\nJAZZ中級\n\n\n講師名\naoi kasahara→Reira\n\n\n日付\n9/11(木)\n\n\n時間\n19:30-20:45\n\n\n\n 
URL:https://quwands.jp/event/3938/
END:VEVENT
BEGIN:VEVENT
DTSTART;VALUE=DATE:20250911
DTEND;VALUE=DATE:20250912
DTSTAMP:20260426T005712
CREATED:20250825T071749Z
LAST-MODIFIED:20250825T071749Z
UID:3789-1757548800-1757635199@quwands.jp
SUMMARY:砂銀Bst 【CHIKA/MINORI合同】振替情報
DESCRIPTION:スタジオ名\n砂銀Aスタジオ→砂銀Bスタジオ\n\n\nクラス\nリトルキッズ体操\n\n\n講師名\nCHIKA、MINORI合同\n\n\n日付\n9/11(木)\n\n\n時間\n16:00-17:00\n\n\n\n 
URL:https://quwands.jp/event/3789/
END:VEVENT
END:VCALENDAR