BEGIN:VCALENDAR
VERSION:2.0
PRODID:-//QUWANDS - ECPv6.10.2//NONSGML v1.0//EN
CALSCALE:GREGORIAN
METHOD:PUBLISH
X-WR-CALNAME:QUWANDS
X-ORIGINAL-URL:https://quwands.jp
X-WR-CALDESC:QUWANDS のイベント
REFRESH-INTERVAL;VALUE=DURATION:PT1H
X-Robots-Tag:noindex
X-PUBLISHED-TTL:PT1H
BEGIN:VTIMEZONE
TZID:Asia/Tokyo
BEGIN:STANDARD
TZOFFSETFROM:+0900
TZOFFSETTO:+0900
TZNAME:JST
DTSTART:20260101T000000
END:STANDARD
END:VTIMEZONE
BEGIN:VEVENT
DTSTART;VALUE=DATE:20260121
DTEND;VALUE=DATE:20260122
DTSTAMP:20260425T212017
CREATED:20260106T054109Z
LAST-MODIFIED:20260106T054118Z
UID:4867-1768953600-1769039999@quwands.jp
SUMMARY:大島st【優美香/Luka】代講情報
DESCRIPTION:スタジオ名\n大島スタジオ\n\n\nクラス\nJAZZ入門 \n\n\n講師名\n優美香→Luka\n\n\n日付\n1/21(水)\n\n\n時間\n18:20-19:20\n\n\n\n  \n\n\n\nスタジオ名\n大島スタジオ\n\n\nクラス\nJAZZ中級\n\n\n講師名\n優美香→Luka\n\n\n日付\n1/21(水)\n\n\n時間\n19:30-21:00
URL:https://quwands.jp/event/4867/
END:VEVENT
BEGIN:VEVENT
DTSTART;VALUE=DATE:20260124
DTEND;VALUE=DATE:20260125
DTSTAMP:20260425T212017
CREATED:20251128T050823Z
LAST-MODIFIED:20251128T050823Z
UID:4599-1769212800-1769299199@quwands.jp
SUMMARY:砂銀Ast【CHIKA】振替情報
DESCRIPTION:スタジオ名\n砂銀Aスタジオ\n\n\nクラス\nリトルキッズ体操\n\n\n講師名\nCHIKA\n\n\n日付\n1/24(土)→1/12(月)\n\n\n時間\n10:00-11:00\n\n\n\n  \n\n\n\nスタジオ名\n砂銀Aスタジオ\n\n\nクラス\nリトルキッズダンス\n\n\n講師名\nCHIKA\n\n\n日付\n1/24(土)→1/12(月)\n\n\n時間\n11:10-12:10
URL:https://quwands.jp/event/4599/
END:VEVENT
BEGIN:VEVENT
DTSTART;VALUE=DATE:20260124
DTEND;VALUE=DATE:20260125
DTSTAMP:20260425T212017
CREATED:20260123T082128Z
LAST-MODIFIED:20260123T082128Z
UID:4974-1769212800-1769299199@quwands.jp
SUMMARY:大島st【Genki/Yuina】代講情報
DESCRIPTION:スタジオ名\n大島スタジオ\n\n\nクラス\nKIDS HIPHOP\n\n\n講師名\nGenki→Yuina\n\n\n日付\n1/24(土)\n\n\n時間\n14:10-15:10\n\n\n\n  \n\n\n\nスタジオ名\n大島スタジオ\n\n\nクラス\nHIPHOP入門\n\n\n講師名\nGenki→Yuina\n\n\n日付\n1/24(土)\n\n\n時間\n15:20-16:20\n\n\n\n  \n\n\n\nスタジオ名\n大島スタジオ\n\n\nクラス\nHIPHOP応用\n\n\n講師名\nGenki→Yuina\n\n\n日付\n1/24(土)\n\n\n時間\n16:30-18:00\n\n\n\n 
URL:https://quwands.jp/event/4974/
END:VEVENT
BEGIN:VEVENT
DTSTART;VALUE=DATE:20260125
DTEND;VALUE=DATE:20260126
DTSTAMP:20260425T212017
CREATED:20260119T091710Z
LAST-MODIFIED:20260119T091710Z
UID:4927-1769299200-1769385599@quwands.jp
SUMMARY:平井st【kazuki/CHIKA】代講情報
DESCRIPTION:スタジオ名\n平井スタジオ\n\n\nクラス\nキッズ体操\n\n\n講師名\nkazuki→CHIKA\n\n\n日付\n1/25(日)\n\n\n時間\n10:00-11:00\n\n\n\n  \n\n\n\nスタジオ名\n平井スタジオ\n\n\nクラス\nリトルキッズダンス\n\n\n講師名\nkazuki→CHIKA\n\n\n日付\n1/25(日)\n\n\n時間\n11:10-12:10\n\n\n\n 
URL:https://quwands.jp/event/4927/
END:VEVENT
BEGIN:VEVENT
DTSTART;VALUE=DATE:20260125
DTEND;VALUE=DATE:20260126
DTSTAMP:20260425T212017
CREATED:20251201T100034Z
LAST-MODIFIED:20251201T100034Z
UID:4643-1769299200-1769385599@quwands.jp
SUMMARY:新小岩st【Mayong K Sato】振替情報
DESCRIPTION:スタジオ名\n新小岩スタジオ\n\n\nクラス\nHIPHOP中級\n\n\n講師名\nMayong K Sato\n\n\n日付\n1/4(日)→1/25(日)\n\n\n時間\n14:50-16:05→16:05-17:20\n\n\n\n 
URL:https://quwands.jp/event/4643/
END:VEVENT
BEGIN:VEVENT
DTSTART;VALUE=DATE:20260126
DTEND;VALUE=DATE:20260127
DTSTAMP:20260425T212017
CREATED:20251215T064615Z
LAST-MODIFIED:20251215T064615Z
UID:4732-1769385600-1769471999@quwands.jp
SUMMARY:砂銀Bst 【kanae】振替情報
DESCRIPTION:スタジオ名\n平井スタジオ→砂銀Bスタジオ\n\n\nクラス\nKIDS K-POP\n\n\n講師名\nkanae\n\n\n日付\n1/26(月)→3/27(金)\n\n\n時間\n17:10-18:10→11:00-12:00\n\n\n\n  \n\n\n\nスタジオ名\n平井スタジオ→砂銀Bスタジオ\n\n\nクラス\nK-POP入門\n\n\n講師名\nkanae\n\n\n日付\n1/26(月)→3/27(金)\n\n\n時間\n18:20-19:20→12:10-13:10\n\n\n\n  \n\n\n\nスタジオ名\n平井スタジオ→砂銀Bスタジオ\n\n\nクラス\nK-POP応用\n\n\n講師名\nkanae\n\n\n日付\n1/26(月)→3/27(金)\n\n\n時間\n19:30-21:00→13:20-14:50
URL:https://quwands.jp/event/4732/
END:VEVENT
BEGIN:VEVENT
DTSTART;VALUE=DATE:20260126
DTEND;VALUE=DATE:20260127
DTSTAMP:20260425T212017
CREATED:20251223T060016Z
LAST-MODIFIED:20251226T101405Z
UID:4729-1769385600-1769471999@quwands.jp
SUMMARY:新小岩st【KAKERU/RYOGA】代講情報
DESCRIPTION:  \n\n\n\nスタジオ名\n新小岩スタジオ\n\n\nクラス\nリトルキッズ体操\n\n\n講師名\nKAKERU→RYOGA\n\n\n日付\n1/26(月)\n\n\n時間\n16:00-17:00\n\n\n\n  \n\n\n\nスタジオ名\n新小岩スタジオ\n\n\nクラス\nキッズ体操\n\n\n講師名\nKAKERU→RYOGA\n\n\n日付\n1/26(月)\n\n\n時間\n17:10-18:10\n\n\n\n  \n\n\n\nスタジオ名\n新小岩スタジオ\n\n\nクラス\n体操\n\n\n講師名\nKAKERU→RYOGA\n\n\n日付\n1/26(月)\n\n\n時間\n18:20-19:20\n\n\n\n 
URL:https://quwands.jp/event/4729/
END:VEVENT
BEGIN:VEVENT
DTSTART;VALUE=DATE:20260127
DTEND;VALUE=DATE:20260128
DTSTAMP:20260425T212017
CREATED:20260107T062226Z
LAST-MODIFIED:20260107T062226Z
UID:4906-1769472000-1769558399@quwands.jp
SUMMARY:平井st【manabu】振替情報
DESCRIPTION:スタジオ名\n平井スタジオ\n\n\nクラス\nHIPHOP応用\n\n\n講師名\nmanabu\n\n\n日付\n12/23(火)→1/27(火)\n\n\n時間\n19:30-21:00→19:30-21:30
URL:https://quwands.jp/event/4906/
END:VEVENT
BEGIN:VEVENT
DTSTART;VALUE=DATE:20260127
DTEND;VALUE=DATE:20260128
DTSTAMP:20260425T212017
CREATED:20260130T054335Z
LAST-MODIFIED:20260130T054335Z
UID:5077-1769472000-1769558399@quwands.jp
SUMMARY:新小岩st【Airi/Rino】代講情報
DESCRIPTION:スタジオ名\n新小岩スタジオ\n\n\nクラス\nKIDS HIPHOP\n\n\n講師名\nAiri→Rino\n\n\n日付\n1/27(火)\n\n\n時間\n17:10-18:10\n\n\n\n  \n\n\n\nスタジオ名\n新小岩スタジオ\n\n\nクラス\nHIPHOP入門\n\n\n講師名\nAiri→Rino\n\n\n日付\n1/27(火)\n\n\n時間\n18:20-19:20\n\n\n\n 
URL:https://quwands.jp/event/5077/
END:VEVENT
BEGIN:VEVENT
DTSTART;VALUE=DATE:20260129
DTEND;VALUE=DATE:20260130
DTSTAMP:20260425T212017
CREATED:20260127T052345Z
LAST-MODIFIED:20260127T052345Z
UID:4982-1769644800-1769731199@quwands.jp
SUMMARY:砂銀Bst【MINORI/CHIKA】代講情報
DESCRIPTION:スタジオ名\n砂銀Aスタジオ→砂銀Bスタジオ\n\n\nクラス\nリトルキッズ体操\n\n\n講師名\nMINORI→CHIKA\n\n\n日付\n1/29(木)\n\n\n時間\n16:00-17:00\n\n\n\n 
URL:https://quwands.jp/event/4982/
END:VEVENT
BEGIN:VEVENT
DTSTART;VALUE=DATE:20260129
DTEND;VALUE=DATE:20260130
DTSTAMP:20260425T212017
CREATED:20260130T054638Z
LAST-MODIFIED:20260130T054638Z
UID:5080-1769644800-1769731199@quwands.jp
SUMMARY:砂銀Bst【Lón】休講情報
DESCRIPTION:スタジオ名\n砂銀Bスタジオ\n\n\nクラス\nブレイキン\n\n\n講師名\nLón\n\n\n日付\n1/29(木)\n\n\n時間\n19:40-20:55\n\n\n\n 
URL:https://quwands.jp/event/5080/
END:VEVENT
BEGIN:VEVENT
DTSTART;VALUE=DATE:20260130
DTEND;VALUE=DATE:20260131
DTSTAMP:20260425T212017
CREATED:20260127T052632Z
LAST-MODIFIED:20260127T052632Z
UID:4984-1769731200-1769817599@quwands.jp
SUMMARY:砂銀Bst 【Hana*/Shark Miho】代講情報
DESCRIPTION:スタジオ名\n砂銀Bスタジオ\n\n\nクラス\nKIDS HIPHOP\n\n\n講師名\nHana*→Shark Miho\n\n\n日付\n1/30(金)\n\n\n時間\n17:10-18:10\n\n\n\n  \n\n\n\nスタジオ名\n砂銀Bスタジオ\n\n\nクラス\nHIPHOP入門\n\n\n講師名\nHana*→Shark Miho\n\n\n日付\n1/30(金)\n\n\n時間\n18:20-19:20\n\n\n\n  \n\n\n\nスタジオ名\n砂銀Bスタジオ\n\n\nクラス\nHIPHOP応用\n\n\n講師名\nHana*→Shark Miho\n\n\n日付\n1/30(金)\n\n\n時間\n19:30-21:00
URL:https://quwands.jp/event/4984/
END:VEVENT
BEGIN:VEVENT
DTSTART;VALUE=DATE:20260130
DTEND;VALUE=DATE:20260131
DTSTAMP:20260425T212017
CREATED:20260130T035312Z
LAST-MODIFIED:20260130T035312Z
UID:5060-1769731200-1769817599@quwands.jp
SUMMARY:砂銀Ast 【aoi kasahara/蛛水(もな)】代講情報
DESCRIPTION:  \n\n\n\nスタジオ名\n砂銀Aスタジオ\n\n\nクラス\nKIDS JAZZ\n\n\n講師名\naoi kasahara→蛛水(もな)\n\n\n日付\n1/30(金)\n\n\n時間\n17:10-18:10\n\n\n\n  \n\n\n\nスタジオ名\n砂銀Aスタジオ\n\n\nクラス\nJAZZ入門\n\n\n講師名\naoi kasahara→蛛水(もな)\n\n\n日付\n1/30(金)\n\n\n時間\n18:20-19:20\n\n\n\n  \n\n\n\nスタジオ名\n砂銀Aスタジオ\n\n\nクラス\nJAZZ中級\n\n\n講師名\naoi kasahara→蛛水(もな)\n\n\n日付\n1/30(金)\n\n\n時間\n19:30-20:45\n\n\n\n 
URL:https://quwands.jp/event/5060/
END:VEVENT
BEGIN:VEVENT
DTSTART;VALUE=DATE:20260201
DTEND;VALUE=DATE:20260202
DTSTAMP:20260425T212017
CREATED:20260122T083344Z
LAST-MODIFIED:20260122T083434Z
UID:4943-1769904000-1769990399@quwands.jp
SUMMARY:平井st【kazuki】代講情報
DESCRIPTION:スタジオ名\n平井スタジオ\n\n\nクラス\nキッズ体操\n\n\n講師名\nkazuki\n\n\n日付\n2/1(日)→3/29(日)\n\n\n時間\n10:00-11:00\n\n\n\n  \n\n\n\nスタジオ名\n平井スタジオ\n\n\nクラス\nリトルキッズダンス\n\n\n講師名\nkazuki\n\n\n日付\n2/1(日)→3/29(日)\n\n\n時間\n11:10-12:10\n\n\n\n 
URL:https://quwands.jp/event/4943/
END:VEVENT
BEGIN:VEVENT
DTSTART;VALUE=DATE:20260202
DTEND;VALUE=DATE:20260203
DTSTAMP:20260425T212017
CREATED:20260106T054255Z
LAST-MODIFIED:20260106T054255Z
UID:4869-1769990400-1770076799@quwands.jp
SUMMARY:新小岩st【KAKERU/RYOGA】代講情報
DESCRIPTION:  \n\n\n\nスタジオ名\n新小岩スタジオ\n\n\nクラス\nリトルキッズ体操\n\n\n講師名\nKAKERU→RYOGA\n\n\n日付\n2/2(月)\n\n\n時間\n16:00-17:00\n\n\n\n  \n\n\n\nスタジオ名\n新小岩スタジオ\n\n\nクラス\nキッズ体操\n\n\n講師名\nKAKERU→RYOGA\n\n\n日付\n2/2(月)\n\n\n時間\n17:10-18:10\n\n\n\n  \n\n\n\nスタジオ名\n新小岩スタジオ\n\n\nクラス\n体操\n\n\n講師名\nKAKERU→RYOGA\n\n\n日付\n2/2(月)\n\n\n時間\n18:20-19:20\n\n\n\n 
URL:https://quwands.jp/event/4869/
END:VEVENT
BEGIN:VEVENT
DTSTART;VALUE=DATE:20260202
DTEND;VALUE=DATE:20260203
DTSTAMP:20260425T212017
CREATED:20260203T055859Z
LAST-MODIFIED:20260203T060014Z
UID:5095-1769990400-1770076799@quwands.jp
SUMMARY:大島st【yu-ta/Sho-hey】代講情報
DESCRIPTION:スタジオ名\n大島スタジオ\n\n\nクラス\nキッズ体操\n\n\n講師名\nyu-ta→Sho-hey\n\n\n日付\n2/2(月)\n\n\n時間\n17:10-18:10\n\n\n\n  \n 
URL:https://quwands.jp/event/5095/
END:VEVENT
BEGIN:VEVENT
DTSTART;VALUE=DATE:20260203
DTEND;VALUE=DATE:20260204
DTSTAMP:20260425T212017
CREATED:20260107T062347Z
LAST-MODIFIED:20260107T062347Z
UID:4908-1770076800-1770163199@quwands.jp
SUMMARY:砂銀Ast 【SATOKO】休講情報
DESCRIPTION:  \n\n\n\nスタジオ名\n砂銀Aスタジオ\n\n\nクラス\nヨガ \n\n\n講師名\nSATOKO\n\n\n日付\n2/3(火)\n\n\n時間\n10:00-11:00\n\n\n\n 
URL:https://quwands.jp/event/4908/
END:VEVENT
BEGIN:VEVENT
DTSTART;VALUE=DATE:20260203
DTEND;VALUE=DATE:20260204
DTSTAMP:20260425T212017
CREATED:20260122T083846Z
LAST-MODIFIED:20260203T053700Z
UID:4949-1770076800-1770163199@quwands.jp
SUMMARY:新小岩st【Airi/Yuina】代講情報
DESCRIPTION:  \n\n\n\nスタジオ名\n新小岩スタジオ\n\n\nクラス\nKIDS HIPHOP\n\n\n講師名\nAiri→Yuina\n\n\n日付\n2/3(火)\n\n\n時間\n17:10-18:10\n\n\n\n  \n\n\n\nスタジオ名\n新小岩スタジオ\n\n\nクラス\nHIPHOP入門\n\n\n講師名\nAiri→Yuina\n\n\n日付\n2/3(火)\n\n\n時間\n18:20-19:20\n\n\n\n  \n\n\n\nスタジオ名\n新小岩スタジオ\n\n\nクラス\nHIPHOP中級\n\n\n講師名\nAiri→Yuina\n\n\n日付\n2/3(火)\n\n\n時間\n19:30-20:45\n\n\n\n 
URL:https://quwands.jp/event/4949/
END:VEVENT
BEGIN:VEVENT
DTSTART;VALUE=DATE:20260204
DTEND;VALUE=DATE:20260205
DTSTAMP:20260425T212017
CREATED:20260203T102842Z
LAST-MODIFIED:20260203T102842Z
UID:5098-1770163200-1770249599@quwands.jp
SUMMARY:大島st【優美香/Luka】代講情報
DESCRIPTION:スタジオ名\n大島スタジオ\n\n\nクラス\nJAZZ入門 \n\n\n講師名\n優美香→Luka\n\n\n日付\n2/4(水)\n\n\n時間\n18:20-19:20\n\n\n\n  \n\n\n\nスタジオ名\n大島スタジオ\n\n\nクラス\nJAZZ中級\n\n\n講師名\n優美香→Luka\n\n\n日付\n2/4(水)\n\n\n時間\n19:30-21:00
URL:https://quwands.jp/event/5098/
END:VEVENT
BEGIN:VEVENT
DTSTART;VALUE=DATE:20260206
DTEND;VALUE=DATE:20260207
DTSTAMP:20260425T212017
CREATED:20260127T052927Z
LAST-MODIFIED:20260127T094711Z
UID:4986-1770336000-1770422399@quwands.jp
SUMMARY:砂銀Ast【yuine/Shark Miho】代講情報
DESCRIPTION:スタジオ名\n砂銀Aスタジオ\n\n\nクラス\nKIDS JAZZ\n\n\n講師名\nyuine→Shark Miho\n\n\n日付\n2/6(金)\n\n\n時間\n17:10-18:10\n\n\n\n\n 
URL:https://quwands.jp/event/4986/
END:VEVENT
BEGIN:VEVENT
DTSTART;VALUE=DATE:20260207
DTEND;VALUE=DATE:20260208
DTSTAMP:20260425T212017
CREATED:20260122T084431Z
LAST-MODIFIED:20260122T084431Z
UID:4953-1770422400-1770508799@quwands.jp
SUMMARY:新小岩st【舞】時間変更情報
DESCRIPTION:  \n\n\n\nスタジオ名\n新小岩スタジオ\n\n\nクラス\nKIDS KPOP\n\n\n講師名\n舞\n\n\n日付\n2/7(土)\n\n\n時間\n15:10-16:10→12:00-13:00\n\n\n\n  \n\n\n\nスタジオ名\n新小岩スタジオ\n\n\nクラス\nKPOP入門\n\n\n講師名\n舞\n\n\n日付\n2/7(土)\n\n\n時間\n16:20-17:20→13:10-14:10\n\n\n\n 
URL:https://quwands.jp/event/4953/
END:VEVENT
BEGIN:VEVENT
DTSTART;VALUE=DATE:20260208
DTEND;VALUE=DATE:20260209
DTSTAMP:20260425T212017
CREATED:20260119T091845Z
LAST-MODIFIED:20260119T091845Z
UID:4930-1770508800-1770595199@quwands.jp
SUMMARY:平井st【kazuki/RYOGA】代講情報
DESCRIPTION:スタジオ名\n平井スタジオ\n\n\nクラス\nキッズ体操\n\n\n講師名\nkazuki→RYOGA\n\n\n日付\n2/8(日)\n\n\n時間\n10:00-11:00\n\n\n\n  \n\n\n\nスタジオ名\n平井スタジオ\n\n\nクラス\nリトルキッズダンス\n\n\n講師名\nkazuki→RYOGA\n\n\n日付\n2/8(日)\n\n\n時間\n11:10-12:10\n\n\n\n 
URL:https://quwands.jp/event/4930/
END:VEVENT
BEGIN:VEVENT
DTSTART;VALUE=DATE:20260208
DTEND;VALUE=DATE:20260209
DTSTAMP:20260425T212017
CREATED:20260213T053111Z
LAST-MODIFIED:20260213T053111Z
UID:5118-1770508800-1770595199@quwands.jp
SUMMARY:砂銀Bst【舞】振替情報
DESCRIPTION:スタジオ名\n砂銀Aスタジオ→砂銀Bスタジオ\n\n\nクラス\nKIDS KPOP\n\n\n講師名\n舞\n\n\n日付\n2/8(日)→3/1(日)\n\n\n時間\n13:00-14:00→10:50-11:50\n\n\n\n 
URL:https://quwands.jp/event/5118/
END:VEVENT
BEGIN:VEVENT
DTSTART;VALUE=DATE:20260208
DTEND;VALUE=DATE:20260209
DTSTAMP:20260425T212017
CREATED:20260206T054546Z
LAST-MODIFIED:20260206T060216Z
UID:4922-1770508800-1770595199@quwands.jp
SUMMARY:大島st【yu-ta/MINORI】代講情報
DESCRIPTION:スタジオ名\n大島スタジオ\n\n\nクラス\nキッズ体操\n\n\n講師名\nyu-ta→MINORI\n\n\n\n日付\n2/8(日)\n\n\n時間\n14:10-15:10\n\n\n\n  \n\n\n\nスタジオ名\n大島スタジオ\n\n\nクラス\n体操\n\n\n講師名\nyu-ta→MINORI\n\n\n日付\n2/8(日)\n\n\n時間\n15:20-16:20
URL:https://quwands.jp/event/4922/
END:VEVENT
BEGIN:VEVENT
DTSTART;VALUE=DATE:20260208
DTEND;VALUE=DATE:20260209
DTSTAMP:20260425T212017
CREATED:20260213T052521Z
LAST-MODIFIED:20260213T052521Z
UID:5115-1770508800-1770595199@quwands.jp
SUMMARY:大島st【COCO/Rino】代講情報
DESCRIPTION:  \n\n\n\nスタジオ名\n大島スタジオ\n\n\nクラス\nKIDS DANCE\n\n\n講師名\nCOCO→Rino\n\n\n日付\n2/8(日)\n\n\n時間\n10:00-11:00\n\n\n\n  \n\n\n\nスタジオ名\n大島スタジオ\n\n\nクラス\nJAZZHIPHOP入門\n\n\n講師名\nCOCO→Rino\n\n\n日付\n2/8(日)\n\n\n時間\n11:10-12:10\n\n\n\n 
URL:https://quwands.jp/event/5115/
END:VEVENT
BEGIN:VEVENT
DTSTART;VALUE=DATE:20260209
DTEND;VALUE=DATE:20260210
DTSTAMP:20260425T212017
CREATED:20260106T054328Z
LAST-MODIFIED:20260106T054328Z
UID:4871-1770595200-1770681599@quwands.jp
SUMMARY:新小岩st【KAKERU/RYOGA】代講情報
DESCRIPTION:  \n\n\n\nスタジオ名\n新小岩スタジオ\n\n\nクラス\nリトルキッズ体操\n\n\n講師名\nKAKERU→RYOGA\n\n\n日付\n2/9(月)\n\n\n時間\n16:00-17:00\n\n\n\n  \n\n\n\nスタジオ名\n新小岩スタジオ\n\n\nクラス\nキッズ体操\n\n\n講師名\nKAKERU→RYOGA\n\n\n日付\n2/9(月)\n\n\n時間\n17:10-18:10\n\n\n\n  \n\n\n\nスタジオ名\n新小岩スタジオ\n\n\nクラス\n体操\n\n\n講師名\nKAKERU→RYOGA\n\n\n日付\n2/9(月)\n\n\n時間\n18:20-19:20\n\n\n\n 
URL:https://quwands.jp/event/4871/
END:VEVENT
BEGIN:VEVENT
DTSTART;VALUE=DATE:20260210
DTEND;VALUE=DATE:20260211
DTSTAMP:20260425T212017
CREATED:20260213T053546Z
LAST-MODIFIED:20260217T030332Z
UID:5122-1770681600-1770767999@quwands.jp
SUMMARY:大島st 【HIKARU/Rino】代講情報
DESCRIPTION:スタジオ名\n大島スタジオ\n\n\nクラス\nKIDS KPOP\n\n\n講師名\nHIKARU→Rino\n\n\n日付\n2/10(火)\n\n\n時間\n17:10-18:10\n\n\n\n\n  \n\n\n\nスタジオ名\n大島スタジオ\n\n\nクラス\nKPOP入門\n\n\n講師名\nHIKARU→Rino\n\n\n日付\n2/10(火)\n\n\n時間\n18:20-19:20\n\n\n\n\n 
URL:https://quwands.jp/event/5122/
END:VEVENT
BEGIN:VEVENT
DTSTART;VALUE=DATE:20260210
DTEND;VALUE=DATE:20260211
DTSTAMP:20260425T212017
CREATED:20260217T030247Z
LAST-MODIFIED:20260218T102438Z
UID:5178-1770681600-1770767999@quwands.jp
SUMMARY:大島st 【HIKARU】休講情報
DESCRIPTION:スタジオ名\n大島スタジオ\n\n\nクラス\nKPOP応用\n\n\n講師名\nHIKARU\n\n\n日付\n2/10(火)\n\n\n時間\n19:30-21:00\n\n\n\n\n 
URL:https://quwands.jp/event/5178/
END:VEVENT
BEGIN:VEVENT
DTSTART;VALUE=DATE:20260212
DTEND;VALUE=DATE:20260213
DTSTAMP:20260425T212017
CREATED:20260213T053917Z
LAST-MODIFIED:20260213T053917Z
UID:5124-1770854400-1770940799@quwands.jp
SUMMARY:砂銀Bst【Lón】休講情報
DESCRIPTION:スタジオ名\n砂銀Bスタジオ\n\n\nクラス\nブレイキン\n\n\n講師名\nLón\n\n\n日付\n2/12(木)\n\n\n時間\n19:40-20:55\n\n\n\n 
URL:https://quwands.jp/event/5124/
END:VEVENT
BEGIN:VEVENT
DTSTART;VALUE=DATE:20260213
DTEND;VALUE=DATE:20260214
DTSTAMP:20260425T212017
CREATED:20260127T053334Z
LAST-MODIFIED:20260127T053334Z
UID:4993-1770940800-1771027199@quwands.jp
SUMMARY:砂銀Ast 【yuine】時間変更情報
DESCRIPTION:スタジオ名\n砂銀Aスタジオ\n\n\nクラス\nKIDS JAZZ\n\n\n講師名\nyuine\n\n\n日付\n2/13(金)\n\n\n時間\n17:10-18:10→17:00-18:00\n\n\n\n  \n 
URL:https://quwands.jp/event/4993/
END:VEVENT
END:VCALENDAR