BEGIN:VCALENDAR
VERSION:2.0
PRODID:-//QUWANDS - ECPv6.10.2//NONSGML v1.0//EN
CALSCALE:GREGORIAN
METHOD:PUBLISH
X-WR-CALNAME:QUWANDS
X-ORIGINAL-URL:https://quwands.jp
X-WR-CALDESC:QUWANDS のイベント
REFRESH-INTERVAL;VALUE=DURATION:PT1H
X-Robots-Tag:noindex
X-PUBLISHED-TTL:PT1H
BEGIN:VTIMEZONE
TZID:Asia/Tokyo
BEGIN:STANDARD
TZOFFSETFROM:+0900
TZOFFSETTO:+0900
TZNAME:JST
DTSTART:20250101T000000
END:STANDARD
END:VTIMEZONE
BEGIN:VEVENT
DTSTART;VALUE=DATE:20250329
DTEND;VALUE=DATE:20250330
DTSTAMP:20260426T085356
CREATED:20250206T071141Z
LAST-MODIFIED:20250206T071141Z
UID:2672-1743206400-1743292799@quwands.jp
SUMMARY:大島スタジオ【moeko】2025年3月29日の振替情報
DESCRIPTION:  \n\n\n\nスタジオ名\n大島スタジオ\n\n\nクラス\nKIDSK-POP\n\n\n講師名\nmoeko\n\n\n日付変更\n3/8(土)→3/29(土)\n\n\n時間変更\n10:00\n\n\n\n  \n\n\n\nスタジオ名\n大島スタジオ\n\n\nクラス\nK-POP入門\n\n\n講師名\nmoeko\n\n\n日付変更\n3/8(土)→3/29(土)\n\n\n時間変更\n11:10\n\n\n\n  \n\n\n\nスタジオ名\n大島スタジオ\n\n\nクラス\nK-POP応用\n\n\n講師名\nmoeko\n\n\n日付変更\n3/8(土)→3/29(土)\n\n\n時間変更\n12:30\n\n\n\n  \n 
URL:https://quwands.jp/event/2672/
END:VEVENT
BEGIN:VEVENT
DTSTART;VALUE=DATE:20250328
DTEND;VALUE=DATE:20250329
DTSTAMP:20260426T085356
CREATED:20250319T074953Z
LAST-MODIFIED:20250709T075703Z
UID:2799-1743120000-1743206399@quwands.jp
SUMMARY:新小岩スタジオ【Himeno/舞】2025年3月28日の振替情報
DESCRIPTION:スタジオ名\n新小岩スタジオ\n\n\nクラス\nリトルKPOP\n\n\n講師名\nHimeno→舞\n\n\n日付変更\n3/28(金)\n\n\n時間変更\n16:00\n\n\n\n  \n\n\n\nスタジオ名\n新小岩スタジオ\n\n\nクラス\nKIDSK-POP\n\n\n講師名\nHimeno→舞\n\n\n日付変更\n3/28(金)\n\n\n時間変更\n16:00\n\n\n\n  \n\n\n\nスタジオ名\n新小岩スタジオ\n\n\nクラス\nKPOP入門\n\n\n講師名\nHimeno→舞\n\n\n日付変更\n3/28(金)\n\n\n時間変更\n16:00\n\n\n\n  \n\n\n\nスタジオ名\n新小岩スタジオ\n\n\nクラス\nKPOP応用\n\n\n講師名\nHimeno→舞\n\n\n日付変更\n3/28(金)\n\n\n時間変更\n16:00→振替日調整中
URL:https://quwands.jp/event/2799/
END:VEVENT
BEGIN:VEVENT
DTSTART;VALUE=DATE:20250328
DTEND;VALUE=DATE:20250329
DTSTAMP:20260426T085356
CREATED:20250319T054834Z
LAST-MODIFIED:20250709T075627Z
UID:2771-1743120000-1743206399@quwands.jp
SUMMARY:砂銀Bスタジオ【dayo】2025年3月28日の振替情報
DESCRIPTION:スタジオ名\n砂銀Bスタジオ\n\n\nクラス\nキッズチア\n\n\n講師名\ndayo\n\n\n日付変更\n1/25(土)→3/28(金)\n\n\n時間変更\n16:40-17:40→15:00-16:00\n\n\n\n  \n\n\n\nスタジオ名\n砂銀Bスタジオ\n\n\nクラス\nJAZZ 基礎応用\n\n\n講師名\ndayo\n\n\n日付変更\n3/8(土)→3/28(金)\n\n\n時間変更\n17:50-19:20→13:20-14:50
URL:https://quwands.jp/event/2771/
END:VEVENT
BEGIN:VEVENT
DTSTART;VALUE=DATE:20250327
DTEND;VALUE=DATE:20250328
DTSTAMP:20260426T085356
CREATED:20250422T081634Z
LAST-MODIFIED:20250422T081634Z
UID:2897-1743033600-1743119999@quwands.jp
SUMMARY:新小岩スタジオ【Mayo】2025年4月27日の振替情報
DESCRIPTION:  \n\n\n\nスタジオ名\n新小岩スタジオ\n\n\nクラス\nキッズHIPHOP\n\n\n講師名\nMayo\n\n\n日付変更\n4/27(日) →4/29(火)(祝)\n\n\n時間変更\n12:30\n\n\n\n  \n\n\n\nスタジオ名\n新小岩スタジオ\n\n\nクラス\nHIPHOP入門\n\n\n講師名\nMayo\n\n\n日付変更\n4/27(日) →4/29(火)(祝)\n\n\n時間変更\n13:40\n\n\n\n  \n\n\n\nスタジオ名\n新小岩スタジオ\n\n\nクラス\nHIPHOP中級\n\n\n講師名\nMayo\n\n\n日付変更\n4/27(日) →4/29(火)(祝)\n\n\n時間変更\n14:50
URL:https://quwands.jp/event/2897/
END:VEVENT
BEGIN:VEVENT
DTSTART;VALUE=DATE:20250326
DTEND;VALUE=DATE:20250327
DTSTAMP:20260426T085356
CREATED:20250319T084654Z
LAST-MODIFIED:20250709T075535Z
UID:2820-1742947200-1743033599@quwands.jp
SUMMARY:大島スタジオ【yuine】2025年3月26日の代講情報
DESCRIPTION:スタジオ名\n大島スタジオ\n\n\nクラス\nキッズJAZZ\n\n\n講師名\nHIKARU\n\n\n日付変更\n4/30(火)→3/26(水)\n\n\n時間変更\n17:10\n\n\n\n  \n 
URL:https://quwands.jp/event/2820/
END:VEVENT
BEGIN:VEVENT
DTSTART;VALUE=DATE:20250326
DTEND;VALUE=DATE:20250327
DTSTAMP:20260426T085356
CREATED:20250319T073907Z
LAST-MODIFIED:20250709T075503Z
UID:2795-1742947200-1743033599@quwands.jp
SUMMARY:大島スタジオ【yuine】2025年3月26日の振替情報
DESCRIPTION:スタジオ名\n大島スタジオ\n\n\nクラス\nキッズJAZZ\n\n\n講師名\nyuine\n\n\n日付変更\n3/26(水)→4/30(水)\n\n\n時間変更\n17:10
URL:https://quwands.jp/event/2795/
END:VEVENT
BEGIN:VEVENT
DTSTART;VALUE=DATE:20250323
DTEND;VALUE=DATE:20250324
DTSTAMP:20260426T085356
CREATED:20250206T073023Z
LAST-MODIFIED:20250206T073023Z
UID:2691-1742688000-1742774399@quwands.jp
SUMMARY:砂Bスタジオ【Sho-hey/いろは】2025年3月23日の代講情報
DESCRIPTION:  \n\n\n\nスタジオ名\n砂Bスタジオ\n\n\nクラス\nKIDSDANCE\n\n\n講師名\nSho-hey→いろは\n\n\n日付変更\n3/23(日)\n\n\n時間変更\n10:00\n\n\n\n 
URL:https://quwands.jp/event/2691/
END:VEVENT
BEGIN:VEVENT
DTSTART;VALUE=DATE:20250322
DTEND;VALUE=DATE:20250323
DTSTAMP:20260426T085356
CREATED:20250313T071409Z
LAST-MODIFIED:20250313T073907Z
UID:2696-1742601600-1742687999@quwands.jp
SUMMARY:砂Aスタジオ【Mayo】2025年3月22日の振替情報
DESCRIPTION:  \n\n\n\nスタジオ名\n砂Aスタジオ\n\n\nクラス\n大人超初級\n\n\n講師名\nMayo\n\n\n日付変更\n4/19(土)→3/22(土)\n\n\n時間変更\n17:10→18:10-19:10\n\n\n\n 
URL:https://quwands.jp/event/2696/
END:VEVENT
BEGIN:VEVENT
DTSTART;VALUE=DATE:20250322
DTEND;VALUE=DATE:20250323
DTSTAMP:20260426T085356
CREATED:20250313T073130Z
LAST-MODIFIED:20250313T073130Z
UID:2705-1742601600-1742687999@quwands.jp
SUMMARY:平井スタジオ【YUKO】2025年3月22日の振替情報
DESCRIPTION:  \n\n\n\nスタジオ名\n平井スタジオ\n\n\nクラス\nヨガ\n\n\n講師名\nYUKO\n\n\n日付変更\n3/22(土)→3/29(土)\n\n\n時間変更\n9:30\n\n\n\n  \n\n\n\nスタジオ名\n平井スタジオ\n\n\nクラス\nヨガ\n\n\n講師名\nYUKO\n\n\n日付変更\n3/22(土)→3/29(土)\n\n\n時間変更\n10:40\n\n\n\n 
URL:https://quwands.jp/event/2705/
END:VEVENT
BEGIN:VEVENT
DTSTART;VALUE=DATE:20250322
DTEND;VALUE=DATE:20250323
DTSTAMP:20260426T085356
CREATED:20250206T072851Z
LAST-MODIFIED:20250318T070257Z
UID:2687-1742601600-1742687999@quwands.jp
SUMMARY:新小岩スタジオ【舞】2025年3月22日の振替情報
DESCRIPTION:  \n\n\n\nスタジオ名\n新小岩スタジオ\n\n\nクラス\nKIDSKPOP\n\n\n講師名\n舞\n\n\n日付変更\n3/22(土)→3/29(土)\n\n\n時間変更\n15:10 \n\n\n\n  \n\n\n\nスタジオ名\n新小岩スタジオ\n\n\nクラス\nKPOP入門\n\n\n講師名\n舞\n\n\n日付変更\n3/22(土)→3/29(土)\n\n\n時間変更\n16:20\n\n\n\n  \n\n\n\nスタジオ名\n新小岩スタジオ\n\n\nクラス\nKPOP中級\n\n\n講師名\n舞\n\n\n日付変更\n3/22(土)→3/29(土)\n\n\n時間変更\n17:30\n\n\n\n 
URL:https://quwands.jp/event/2687/
END:VEVENT
BEGIN:VEVENT
DTSTART;VALUE=DATE:20250320
DTEND;VALUE=DATE:20250321
DTSTAMP:20260426T085356
CREATED:20250319T060551Z
LAST-MODIFIED:20250709T075428Z
UID:2773-1742428800-1742515199@quwands.jp
SUMMARY:平井スタジオ【舞】クラス振替情報
DESCRIPTION:スタジオ名\n平井スタジオ\n\n\nクラス\nKIDSKPOP\n\n\n講師名\n舞\n\n\n日付変更\n3/20(木)→5/29(木)\n\n\n時間変更\n17:10-18:10\n\n\n\n  \n\n\n\nスタジオ名\n平井スタジオ\n\n\nクラス\nKPOP入門\n\n\n講師名\n舞\n\n\n日付変更\n3/20(木)→5/29(木)\n\n\n時間変更\n18:20-19:20\n\n\n\n  \n\n\n\nスタジオ名\n平井スタジオ\n\n\nクラス\nKPOP応用\n\n\n講師名\n舞\n\n\n日付変更\n3/20(木)→5/29(木)\n\n\n時間変更\n19:30-21:00\n\n\n\n 
URL:https://quwands.jp/event/2773/
END:VEVENT
BEGIN:VEVENT
DTSTART;VALUE=DATE:20250316
DTEND;VALUE=DATE:20250317
DTSTAMP:20260426T085356
CREATED:20250206T072435Z
LAST-MODIFIED:20250206T072435Z
UID:2685-1742083200-1742169599@quwands.jp
SUMMARY:砂Bスタジオ【Sho-hey】2025年3月16日の代講情報
DESCRIPTION:  \n\n\n\nスタジオ名\n砂Bスタジオ\n\n\nクラス\nKIDSDANCE\n\n\n講師名\n代講→Sho-hey\n\n\n日付変更\n3/16(日)\n\n\n時間変更\n10:00\n\n\n\n 
URL:https://quwands.jp/event/2685/
END:VEVENT
BEGIN:VEVENT
DTSTART;VALUE=DATE:20250314
DTEND;VALUE=DATE:20250315
DTSTAMP:20260426T085356
CREATED:20250319T072920Z
LAST-MODIFIED:20250319T085124Z
UID:2791-1741910400-1741996799@quwands.jp
SUMMARY:新小岩スタジオ【Himeno】2025年3月14日の振替情報
DESCRIPTION:スタジオ名\n新小岩スタジオ\n\n\nクラス\nリトルKPOP\n\n\n講師名\nHimeno\n\n\n日付変更\n3/14(金)→振替日調整中\n\n\n時間変更\n16:00\n\n\n\n  \n\n\n\nスタジオ名\n新小岩スタジオ\n\n\nクラス\nKIDSKPOP\n\n\n講師名\nHimeno\n\n\n日付変更\n3/14(金)→振替日調整中\n\n\n時間変更\n17:10\n\n\n\n  \n\n\n\nスタジオ名\n新小岩スタジオ\n\n\nクラス\nKPOP入門\n\n\n講師名\nHimeno\n\n\n日付変更\n3/14(金)→振替日調整中\n\n\n時間変更\n18:20\n\n\n\n  \n\n\n\nスタジオ名\n新小岩スタジオ\n\n\nクラス\nKPOP応用\n\n\n講師名\nHimeno\n\n\n日付変更\n3/14(金)→振替日調整中\n\n\n時間変更\n19:30
URL:https://quwands.jp/event/2791/
END:VEVENT
BEGIN:VEVENT
DTSTART;VALUE=DATE:20250309
DTEND;VALUE=DATE:20250310
DTSTAMP:20260426T085356
CREATED:20250206T072245Z
LAST-MODIFIED:20250206T072245Z
UID:2683-1741478400-1741564799@quwands.jp
SUMMARY:砂Bスタジオ【Sho-hey/いろは】2025年3月9日の代講情報
DESCRIPTION:  \n\n\n\nスタジオ名\n砂Bスタジオ\n\n\nクラス\nKIDSDANCE\n\n\n講師名\nSho-hey→いろは\n\n\n日付変更\n3/9(日)\n\n\n時間変更\n10:00\n\n\n\n 
URL:https://quwands.jp/event/2683/
END:VEVENT
BEGIN:VEVENT
DTSTART;VALUE=DATE:20250309
DTEND;VALUE=DATE:20250310
DTSTAMP:20260426T085356
CREATED:20250206T071926Z
LAST-MODIFIED:20250206T071926Z
UID:2679-1741478400-1741564799@quwands.jp
SUMMARY:大島スタジオ【moeko】2025年3月9日の振替情報
DESCRIPTION:  \n\n\n\nスタジオ名\n大島スタジオ\n\n\nクラス\nKIDSDANCE\n\n\n講師名\nmoeko\n\n\n日付変更\n3/9(日)→3/30(日)\n\n\n時間変更\n10:00\n\n\n\n  \n\n\n\nスタジオ名\n大島スタジオ\n\n\nクラス\nJAZZHIP入門\n\n\n講師名\nmoeko\n\n\n日付変更\n3/9(日)→3/30(日)\n\n\n時間変更\n11:10\n\n\n\n 
URL:https://quwands.jp/event/2679/
END:VEVENT
BEGIN:VEVENT
DTSTART;VALUE=DATE:20250309
DTEND;VALUE=DATE:20250310
DTSTAMP:20260426T085356
CREATED:20250206T071608Z
LAST-MODIFIED:20250206T071608Z
UID:2675-1741478400-1741564799@quwands.jp
SUMMARY:平井スタジオ【CHIKA】2025年3月9日の振替情報
DESCRIPTION:  \n\n\n\nスタジオ名\n平井スタジオ\n\n\nクラス\nリトルダンス\n\n\n講師名\nCHIKA\n\n\n日付変更\n3/9(日)→3/30(日)\n\n\n時間変更\n13:00\n\n\n\n  \n\n\n\nスタジオ名\n平井スタジオ\n\n\nクラス\nキッズ体操\n\n\n講師名\nCHIKA\n\n\n日付変更\n3/9(日)→3/30(日)\n\n\n時間変更\n14:10\n\n\n\n  \n\n\n\nスタジオ名\n平井スタジオ\n\n\nクラス\n体操\n\n\n講師名\nCHIKA\n\n\n日付変更\n3/9(日)→3/30(日)\n\n\n時間変更\n15:20\n\n\n\n 
URL:https://quwands.jp/event/2675/
END:VEVENT
BEGIN:VEVENT
DTSTART;VALUE=DATE:20250308
DTEND;VALUE=DATE:20250309
DTSTAMP:20260426T085356
CREATED:20250206T071053Z
LAST-MODIFIED:20250206T071105Z
UID:2669-1741392000-1741478399@quwands.jp
SUMMARY:大島スタジオ【moeko】2025年3月8日の振替情報
DESCRIPTION:  \n\n\n\nスタジオ名\n大島スタジオ\n\n\nクラス\nKIDSK-POP\n\n\n講師名\nmoeko\n\n\n日付変更\n3/8(土)→3/29(土)\n\n\n時間変更\n10:00\n\n\n\n  \n\n\n\nスタジオ名\n大島スタジオ\n\n\nクラス\nK-POP入門\n\n\n講師名\nmoeko\n\n\n日付変更\n3/8(土)→3/29(土)\n\n\n時間変更\n11:10\n\n\n\n  \n\n\n\nスタジオ名\n大島スタジオ\n\n\nクラス\nK-POP応用\n\n\n講師名\nmoeko\n\n\n日付変更\n3/8(土)→3/29(土)\n\n\n時間変更\n12:30\n\n\n\n  \n 
URL:https://quwands.jp/event/2669/
END:VEVENT
BEGIN:VEVENT
DTSTART;VALUE=DATE:20250304
DTEND;VALUE=DATE:20250305
DTSTAMP:20260426T085356
CREATED:20250109T082638Z
LAST-MODIFIED:20250206T070551Z
UID:2580-1741046400-1741132799@quwands.jp
SUMMARY:大島スタジオ【HIKARU】2025年3月4日の振替情報
DESCRIPTION:  \n\n\n\nスタジオ名\n大島スタジオ\n\n\nクラス\nKIDSKPOP\n\n\n講師名\nHIKARU\n\n\n日付変更\n3/4(火)→4/29(火)\n\n\n時間変更\n17:10\n\n\n\n  \n\n\n\nスタジオ名\n大島スタジオ\n\n\nクラス\nKPOP入門\n\n\n講師名\nHIKARU\n\n\n日付変更\n3/4(火)→4/29(火)\n\n\n時間変更\n18:20 \n\n\n\n  \n\n\n\nスタジオ名\n大島スタジオ\n\n\nクラス\nKPOP応用\n\n\n講師名\nHIKARU\n\n\n日付変更\n3/4(火)→4/29(火)\n\n\n時間変更\n19:30\n\n\n\n  \n 
URL:https://quwands.jp/event/2580/
END:VEVENT
BEGIN:VEVENT
DTSTART;VALUE=DATE:20250303
DTEND;VALUE=DATE:20250304
DTSTAMP:20260426T085356
CREATED:20250313T082853Z
LAST-MODIFIED:20250313T082853Z
UID:2738-1740960000-1741046399@quwands.jp
SUMMARY:大島スタジオ【yu-ta】2025年3月3日の振替情報
DESCRIPTION:  \n\n\n\nスタジオ名\n大島スタジオ\n\n\nクラス\nキッズ体操\n\n\n講師名\nyu-ta\n\n\n日付変更\n3/3(月)→3/31(月)\n\n\n時間変更\n17:10 \n\n\n\n  \n\n\n\nスタジオ名\n大島スタジオ\n\n\nクラス\n体操\n\n\n講師名\nyu-ta\n\n\n日付変更\n3/3(月)→3/31(月)\n\n\n時間変更\n18:20\n\n\n\n 
URL:https://quwands.jp/event/2738/
END:VEVENT
BEGIN:VEVENT
DTSTART;VALUE=DATE:20250302
DTEND;VALUE=DATE:20250303
DTSTAMP:20260426T085356
CREATED:20250206T070510Z
LAST-MODIFIED:20250206T070510Z
UID:2665-1740873600-1740959999@quwands.jp
SUMMARY:砂Bスタジオ【Sho-hey】2025年3月2日の代講情報
DESCRIPTION:  \n\n\n\nスタジオ名\n砂Bスタジオ\n\n\nクラス\nKIDSDANCE\n\n\n講師名\n代講→Sho-hey\n\n\n日付変更\n3/2(日)\n\n\n時間変更\n10:00\n\n\n\n  \n\n\n\nスタジオ名\n砂Bスタジオ\n\n\nクラス\n体操\n\n\n講師名\n代講→Sho-hey\n\n\n日付変更\n3/2(日)\n\n\n時間変更\n12:30\n\n\n\n  \n\n\n\nスタジオ名\n砂Bスタジオ\n\n\nクラス\nキッズ体操\n\n\n講師名\n代講→Sho-hey\n\n\n日付変更\n3/2(日)\n\n\n時間変更\n11:10\n\n\n\n 
URL:https://quwands.jp/event/2665/
END:VEVENT
BEGIN:VEVENT
DTSTART;VALUE=DATE:20250301
DTEND;VALUE=DATE:20250302
DTSTAMP:20260426T085356
CREATED:20250313T083006Z
LAST-MODIFIED:20250313T083006Z
UID:2740-1740787200-1740873599@quwands.jp
SUMMARY:砂Bスタジオ【PASSION】2025年3月1日の振替情報
DESCRIPTION:  \n\n\n\nスタジオ名\n砂Aスタジオ→砂Bスタジオ\n\n\nクラス\nJAZZHIPHOP\n\n\n講師名\nPASSION\n\n\n日付変更\n3/1(土)→3/31(月)\n\n\n時間変更\n19:30→19:30-21:00\n\n\n\n 
URL:https://quwands.jp/event/2740/
END:VEVENT
BEGIN:VEVENT
DTSTART;VALUE=DATE:20250224
DTEND;VALUE=DATE:20250225
DTSTAMP:20260426T085356
CREATED:20250206T032141Z
LAST-MODIFIED:20250206T032526Z
UID:2637-1740355200-1740441599@quwands.jp
SUMMARY:砂Bスタジオ【dayo】2025年2月24日の振替情報
DESCRIPTION:  \n\n\n\nスタジオ名\n砂Bスタジオ\n\n\nクラス\nキッズチア\n\n\n講師名\ndayo\n\n\n日付変更\n1/25(土)→2/24(月)\n\n\n時間変更\n16:40→10:00-11:00\n\n\n\n  \n\n\n\nスタジオ名\n砂Bスタジオ\n\n\nクラス\nJAZZ基礎応用\n\n\n講師名\ndayo\n\n\n日付変更\n1/25(土)→2/24(月)\n\n\n時間変更\n17:50→11:10-12:40\n\n\n\n  \n 
URL:https://quwands.jp/event/2637/
END:VEVENT
BEGIN:VEVENT
DTSTART;VALUE=DATE:20250224
DTEND;VALUE=DATE:20250225
DTSTAMP:20260426T085356
CREATED:20250206T065903Z
LAST-MODIFIED:20250206T065903Z
UID:2661-1740355200-1740441599@quwands.jp
SUMMARY:新小岩スタジオ【KENTA】2025年2月24日の振替情報
DESCRIPTION:  \n\n\n\nスタジオ名\n新小岩スタジオ\n\n\nクラス\nリトル体操\n\n\n講師名\nKENTA\n\n\n日付変更\n2/24(月)→3/31(月)\n\n\n時間変更\n16:00\n\n\n\n  \n\n\n\nスタジオ名\n新小岩スタジオ\n\n\nクラス\nキッズ体操\n\n\n講師名\nKENTA\n\n\n日付変更\n2/24(月)→3/31(月)\n\n\n時間変更\n17:10\n\n\n\n  \n\n\n\nスタジオ名\n新小岩スタジオ\n\n\nクラス\n体操\n\n\n講師名\nKENTA\n\n\n日付変更\n2/24(月)→3/31(月)\n\n\n時間変更\n18:20
URL:https://quwands.jp/event/2661/
END:VEVENT
BEGIN:VEVENT
DTSTART;VALUE=DATE:20250223
DTEND;VALUE=DATE:20250224
DTSTAMP:20260426T085356
CREATED:20250206T052610Z
LAST-MODIFIED:20250206T062650Z
UID:2659-1740268800-1740355199@quwands.jp
SUMMARY:砂Bスタジオ【Sho-hey/いろは】2025年2月23日の代講情報
DESCRIPTION:  \n\n\n\nスタジオ名\n砂Bスタジオ\n\n\nクラス\nKIDSDANCE\n\n\n講師名\nSho-hey→いろは\n\n\n日付変更\n2/23(日)\n\n\n時間変更\n10:00\n\n\n\n 
URL:https://quwands.jp/event/2659/
END:VEVENT
BEGIN:VEVENT
DTSTART;VALUE=DATE:20250215
DTEND;VALUE=DATE:20250216
DTSTAMP:20260426T085356
CREATED:20250206T040023Z
LAST-MODIFIED:20250206T040023Z
UID:2656-1739577600-1739663999@quwands.jp
SUMMARY:砂Aスタジオ【CHIKA/MINORI】2025年2月15日の振替情報
DESCRIPTION:  \n\n\n\nスタジオ名\n砂Aスタジオ\n\n\nクラス\nリトル体操\n\n\n講師名\nCHIKA→MINORI\n\n\n日付変更\n2/15(土)\n\n\n時間変更\n10:00\n\n\n\n  \n\n\n\nスタジオ名\n砂Aスタジオ\n\n\nクラス\nリトルダンス\n\n\n講師名\nCHIKA→MINORI\n\n\n日付変更\n2/15(土)\n\n\n時間変更\n11:10
URL:https://quwands.jp/event/2656/
END:VEVENT
BEGIN:VEVENT
DTSTART;VALUE=DATE:20250211
DTEND;VALUE=DATE:20250212
DTSTAMP:20260426T085356
CREATED:20250206T035514Z
LAST-MODIFIED:20250206T035514Z
UID:2652-1739232000-1739318399@quwands.jp
SUMMARY:砂Bスタジオ【SATOKO】2025年2月11日の休講情報
DESCRIPTION:  \n\n\n\nスタジオ名\n砂Bスタジオ\n\n\nクラス\nヨガ\n\n\n講師名\nSATOKO\n\n\n日付変更\n2/11(火)→休講\n\n\n時間変更\n10:00→休講\n\n\n\n 
URL:https://quwands.jp/event/2652/
END:VEVENT
BEGIN:VEVENT
DTSTART;VALUE=DATE:20250204
DTEND;VALUE=DATE:20250205
DTSTAMP:20260426T085356
CREATED:20250206T035140Z
LAST-MODIFIED:20250206T035140Z
UID:2650-1738627200-1738713599@quwands.jp
SUMMARY:大島スタジオ【HIKARU/cono】2025年2月4日の代講情報
DESCRIPTION:  \n\n\n\nスタジオ名\n大島スタジオ\n\n\nクラス\nKIDSKPOP\n\n\n講師名\nHIKARU→cono\n\n\n日付変更\n2/4(火)\n\n\n時間変更\n17:10\n\n\n\n  \n\n\n\nスタジオ名\n大島スタジオ\n\n\nクラス\nKPOP入門\n\n\n講師名\nHIKARU→cono\n\n\n日付変更\n2/4(火)\n\n\n時間変更\n18:20\n\n\n\n  \n\n\n\nスタジオ名\n大島スタジオ\n\n\nクラス\nKPOP応用\n\n\n講師名\nHIKARU→cono\n\n\n日付変更\n2/4(火)\n\n\n時間変更\n18:201
URL:https://quwands.jp/event/2650/
END:VEVENT
BEGIN:VEVENT
DTSTART;VALUE=DATE:20250202
DTEND;VALUE=DATE:20250203
DTSTAMP:20260426T085356
CREATED:20250206T034047Z
LAST-MODIFIED:20250206T034158Z
UID:2645-1738454400-1738540799@quwands.jp
SUMMARY:砂Bスタジオ【Sho-hey】2025年2月2日の代講情報
DESCRIPTION:  \n\n\n\nスタジオ名\n砂Bスタジオ\n\n\nクラス\nKIDSDANCE\n\n\n講師名\n代講→Sho-hey\n\n\n日付変更\n2/2(日)\n\n\n時間変更\n10:00\n\n\n\n  \n\n\n\nスタジオ名\n砂Bスタジオ\n\n\nクラス\nキッズ体操\n\n\n講師名\n代講→Sho-hey\n\n\n日付変更\n2/2(日)\n\n\n時間変更\n11:10\n\n\n\n  \n\n\n\nスタジオ名\n砂Bスタジオ\n\n\nクラス\n体操\n\n\n講師名\n代講→Sho-hey\n\n\n日付変更\n2/2(日)\n\n\n時間変更\n12:30
URL:https://quwands.jp/event/2645/
END:VEVENT
BEGIN:VEVENT
DTSTART;VALUE=DATE:20250202
DTEND;VALUE=DATE:20250203
DTSTAMP:20260426T085356
CREATED:20250206T034523Z
LAST-MODIFIED:20250206T034536Z
UID:2648-1738454400-1738540799@quwands.jp
SUMMARY:新小岩スタジオ【kimkim】2025年2月2日の休講情報
DESCRIPTION:  \n\n\n\nスタジオ名\n新小岩スタジオ\n\n\nクラス\nJAZZFUNK\n\n\n講師名\nkimkim\n\n\n日付変更\n2/2(日)→休講\n\n\n時間変更\n18:40→休講\n\n\n\n 
URL:https://quwands.jp/event/2648/
END:VEVENT
BEGIN:VEVENT
DTSTART;VALUE=DATE:20250202
DTEND;VALUE=DATE:20250203
DTSTAMP:20260426T085356
CREATED:20250206T033630Z
LAST-MODIFIED:20250206T033714Z
UID:2642-1738454400-1738540799@quwands.jp
SUMMARY:平井スタジオ【CHIKA/MEI/NANAMI】2025年2月2日の振替代講情報
DESCRIPTION:  \n\n\n\nスタジオ名\n平井スタジオ\n\n\nクラス\nリトルダンス\n\n\n講師名\nCHIKA→CHIKA\,MEI合同\n\n\n日付変更\n2/2(日)\n\n\n時間変更\n13:00→11:10-12:10\n\n\n\n  \n\n\n\nスタジオ名\n平井スタジオ\n\n\nクラス\nキッズ体操\n\n\n講師名\nCHIKA→NANAMI\n\n\n日付変更\n1/2(日)\n\n\n時間変更\n14:10\n\n\n\n  \n\n\n\nスタジオ名\n平井スタジオ\n\n\nクラス\n体操\n\n\n講師名\nCHIKA→NANAMI\n\n\n日付変更\n1/2(日)\n\n\n時間変更\n15:20
URL:https://quwands.jp/event/2642/
END:VEVENT
END:VCALENDAR