BEGIN:VCALENDAR
VERSION:2.0
PRODID:-//QUWANDS - ECPv6.10.2//NONSGML v1.0//EN
CALSCALE:GREGORIAN
METHOD:PUBLISH
X-WR-CALNAME:QUWANDS
X-ORIGINAL-URL:https://quwands.jp
X-WR-CALDESC:QUWANDS のイベント
REFRESH-INTERVAL;VALUE=DURATION:PT1H
X-Robots-Tag:noindex
X-PUBLISHED-TTL:PT1H
BEGIN:VTIMEZONE
TZID:Asia/Tokyo
BEGIN:STANDARD
TZOFFSETFROM:+0900
TZOFFSETTO:+0900
TZNAME:JST
DTSTART:20250101T000000
END:STANDARD
END:VTIMEZONE
BEGIN:VEVENT
DTSTART;VALUE=DATE:20251130
DTEND;VALUE=DATE:20251201
DTSTAMP:20260425T203703
CREATED:20250916T053124Z
LAST-MODIFIED:20251015T053620Z
UID:4004-1764460800-1764547199@quwands.jp
SUMMARY:砂銀st【舞】振替情報
DESCRIPTION:スタジオ名\n砂銀Aスタジオ\n\n\nクラス\nKIDS KPOP\n\n\n講師名\n舞\n\n\n日付\n10/26(日)→11/30(日)\n\n\n時間\n13:00-14:00\n\n\n\n  \n\n\n\nスタジオ名\n砂銀Bスタジオ\n\n\nクラス\nKPOP入門\n\n\n講師名\n舞\n\n\n日付\n10/26(日)→11/30(日)\n\n\n時間\n14:20-15:20\n\n\n\n  \n\n\n\nスタジオ名\n砂銀Bスタジオ\n\n\nクラス\nKPOP応用\n\n\n講師名\n舞\n\n\n日付\n10/26(日)→11/30(日)\n\n\n時間\n15:30-17:00
URL:https://quwands.jp/event/4004/
END:VEVENT
BEGIN:VEVENT
DTSTART;VALUE=DATE:20251129
DTEND;VALUE=DATE:20251130
DTSTAMP:20260425T203703
CREATED:20251127T055250Z
LAST-MODIFIED:20251128T070900Z
UID:4592-1764374400-1764460799@quwands.jp
SUMMARY:砂銀Bst【KAKERU】振替情報
DESCRIPTION:スタジオ名\n砂銀Bスタジオ\n\n\nクラス\nキッズ体操\n\n\n講師名\nKAKERU\n\n\n日付\n12/27(土)→11/29(土)\n\n\n時間\n10:00-11:00
URL:https://quwands.jp/event/4592/
END:VEVENT
BEGIN:VEVENT
DTSTART;VALUE=DATE:20251129
DTEND;VALUE=DATE:20251130
DTSTAMP:20260425T203703
CREATED:20251127T020412Z
LAST-MODIFIED:20251128T070203Z
UID:4580-1764374400-1764460799@quwands.jp
SUMMARY:砂銀Bst【Sho-hey】振替情報
DESCRIPTION:スタジオ名\n砂銀Bスタジオ\n\n\nクラス\n体操\n\n\n講師名\nSho-hey\n\n\n日付\n12/27(土)→11/29(土)\n\n\n時間\n10:00-11:00\n\n\n\n  \n\n\n\nスタジオ名\n砂銀Bスタジオ\n\n\nクラス\nKIDS DANCE\n\n\n講師名\nSho-hey\n\n\n日付\n12/27(土)→11/29(土)\n\n\n時間\n11:10-12:10
URL:https://quwands.jp/event/4580/
END:VEVENT
BEGIN:VEVENT
DTSTART;VALUE=DATE:20251129
DTEND;VALUE=DATE:20251130
DTSTAMP:20260425T203703
CREATED:20251029T065139Z
LAST-MODIFIED:20251030T094208Z
UID:4340-1764374400-1764460799@quwands.jp
SUMMARY:平井st 【YUKO】振替情報
DESCRIPTION:スタジオ名\n平井スタジオ\n\n\nクラス\nヨガストレッチ\n\n\n講師名\nYUKO\n\n\n日付\n11/1(土)→11/29(土)\n\n\n時間\n9:30-10:30\n\n\n\n  \n\n\n\nスタジオ名\n平井スタジオ\n\n\nクラス\nヨガ\n\n\n講師名\nYUKO\n\n\n日付\n11/1(土)→11/29(土)\n\n\n時間\n10:40-11:40\n\n\n\n  \n\n\n\nスタジオ名\n平井スタジオ\n\n\nクラス\nヨガ\n\n\n講師名\nYUKO\n\n\n日付\n11/26(水)→11/29(土)\n\n\n時間\n20:00-21:00\n\n\n\n 
URL:https://quwands.jp/event/4340/
END:VEVENT
BEGIN:VEVENT
DTSTART;VALUE=DATE:20251129
DTEND;VALUE=DATE:20251130
DTSTAMP:20260425T203703
CREATED:20251010T064431Z
LAST-MODIFIED:20251010T064431Z
UID:4186-1764374400-1764460799@quwands.jp
SUMMARY:砂銀Ast【PASSION】振替情報
DESCRIPTION:スタジオ名\n砂銀Aスタジオ\n\n\nクラス\nJAZZHIPHOP基礎応用\n\n\n講師名\nPASSION\n\n\n日付\n10/18(土)→11/29(土)\n\n\n時間\n19:30-21:00\n\n\n\n 
URL:https://quwands.jp/event/4186/
END:VEVENT
BEGIN:VEVENT
DTSTART;VALUE=DATE:20251129
DTEND;VALUE=DATE:20251130
DTSTAMP:20260425T203703
CREATED:20250925T074237Z
LAST-MODIFIED:20251125T060456Z
UID:4124-1764374400-1764460799@quwands.jp
SUMMARY:砂銀Bst 【dayo】振替情報
DESCRIPTION:スタジオ名\n砂銀Bスタジオ\n\n\nクラス\nキッズチア\n\n\n講師名\ndayo\n\n\n日付\n10/18(土)→11/29(土)\n\n\n時間\n16:40-17:40\n\n\n\n  \n\n\n\nスタジオ名\n砂銀Bスタジオ\n\n\nクラス\nJAZZ 基礎応用\n\n\n講師名\ndayo\n\n\n日付\n10/18(土)→11/29(土)\n\n\n時間\n17:50-19:20
URL:https://quwands.jp/event/4124/
END:VEVENT
BEGIN:VEVENT
DTSTART;VALUE=DATE:20251129
DTEND;VALUE=DATE:20251130
DTSTAMP:20260425T203703
CREATED:20251010T065440Z
LAST-MODIFIED:20251015T053601Z
UID:4196-1764374400-1764460799@quwands.jp
SUMMARY:砂銀Ast【CHIKA】振替情報
DESCRIPTION:スタジオ名\n砂銀Aスタジオ\n\n\nクラス\nリトルキッズ体操\n\n\n講師名\nCHIKA\n\n\n日付\n11/1(土)→11/29(土)\n\n\n時間\n10:00-11:00\n\n\n\n  \n\n\n\nスタジオ名\n砂銀Aスタジオ\n\n\nクラス\nリトルキッズダンス\n\n\n講師名\nCHIKA\n\n\n日付\n11/1(土)→11/29(土)\n\n\n時間\n11:10-12:10
URL:https://quwands.jp/event/4196/
END:VEVENT
BEGIN:VEVENT
DTSTART;VALUE=DATE:20251129
DTEND;VALUE=DATE:20251130
DTSTAMP:20260425T203703
CREATED:20250916T053615Z
LAST-MODIFIED:20251015T053633Z
UID:4011-1764374400-1764460799@quwands.jp
SUMMARY:新小岩st【舞】振替情報
DESCRIPTION:スタジオ名\n新小岩スタジオ\n\n\nクラス\nKIDS KPOP\n\n\n講師名\n舞\n\n\n日付\n10/25(土)→11/29(土)\n\n\n時間\n15:10-16:10\n\n\n\n  \n\n\n\nスタジオ名\n新小岩スタジオ\n\n\nクラス\nKPOP入門\n\n\n講師名\n舞\n\n\n日付\n10/25(土)→11/29(土)\n\n\n時間\n16:20-17:20\n\n\n\n  \n\n\n\nスタジオ名\n新小岩スタジオ\n\n\nクラス\nKPOP中級\n\n\n講師名\n舞\n\n\n日付\n10/25(土)→11/29(土)\n\n\n時間\n17:30-18:45
URL:https://quwands.jp/event/4011/
END:VEVENT
BEGIN:VEVENT
DTSTART;VALUE=DATE:20251129
DTEND;VALUE=DATE:20251130
DTSTAMP:20260425T203703
CREATED:20250909T054721Z
LAST-MODIFIED:20250909T054721Z
UID:3963-1764374400-1764460799@quwands.jp
SUMMARY:砂銀Ast 【Mayong K Sato】振替情報
DESCRIPTION:スタジオ名\n砂銀Aスタジオ\n\n\nクラス\nHIPHOP入門\n\n\n講師名\nMayong K Sato\n\n\n日付\n10/11(土)→11/29(土)\n\n\n時間\n14:10-15:10\n\n\n\n  \n\n\n\nスタジオ名\n砂銀Aスタジオ\n\n\nクラス\nHIPHOP応用\n\n\n講師名\nMayong K Sato\n\n\n日付\n10/11(土)→11/29(土)\n\n\n時間\n15:20-16:50\n\n\n\n  \n\n\n\nスタジオ名\n砂銀Aスタジオ\n\n\nクラス\n大人超初級ダンス\n\n\n講師名\nMayong K Sato\n\n\n日付\n10/11(土)→11/29(土)\n\n\n時間\n17:10-18:10
URL:https://quwands.jp/event/3963/
END:VEVENT
BEGIN:VEVENT
DTSTART;VALUE=DATE:20251128
DTEND;VALUE=DATE:20251129
DTSTAMP:20260425T203703
CREATED:20251127T054824Z
LAST-MODIFIED:20251127T054824Z
UID:4586-1764288000-1764374399@quwands.jp
SUMMARY:砂銀Bst 【Hana*/Shark Miho】代講情報
DESCRIPTION:スタジオ名\n砂銀Bスタジオ\n\n\nクラス\nKIDS HIPHOP\n\n\n講師名\nHana*→Shark Miho\n\n\n日付\n11/28(金)\n\n\n時間\n17:10-18:10\n\n\n\n  \n\n\n\nスタジオ名\n砂銀Bスタジオ\n\n\nクラス\nHIPHOP入門\n\n\n講師名\nHana*→Shark Miho\n\n\n日付\n11/28(金)\n\n\n時間\n18:20-19:20\n\n\n\n  \n\n\n\nスタジオ名\n砂銀Bスタジオ\n\n\nクラス\nHIPHOP応用\n\n\n講師名\nHana*→Shark Miho\n\n\n日付\n11/28(金)\n\n\n時間\n19:30-21:00
URL:https://quwands.jp/event/4586/
END:VEVENT
BEGIN:VEVENT
DTSTART;VALUE=DATE:20251127
DTEND;VALUE=DATE:20251128
DTSTAMP:20260425T203703
CREATED:20251112T101735Z
LAST-MODIFIED:20251112T101735Z
UID:4457-1764201600-1764287999@quwands.jp
SUMMARY:砂銀Ast 【MINORI/kazuki】代講情報
DESCRIPTION:スタジオ名\n砂銀Aスタジオ\n\n\nクラス\nリトルキッズ体操\n\n\n講師名\nMINORI→kazuki\n\n\n日付\n11/27(木)\n\n\n時間\n16:00-17:00\n\n\n\n 
URL:https://quwands.jp/event/4457/
END:VEVENT
BEGIN:VEVENT
DTSTART;VALUE=DATE:20251126
DTEND;VALUE=DATE:20251127
DTSTAMP:20260425T203703
CREATED:20251125T060028Z
LAST-MODIFIED:20251125T094145Z
UID:4534-1764115200-1764201599@quwands.jp
SUMMARY:砂銀Ast 【Genki/SAKURA】代講情報
DESCRIPTION:スタジオ名\n砂銀Aスタジオ\n\n\nクラス\nHIPHOP中級\n\n\n講師名\nGenki→SAKURA\n\n\n日付\n11/26(水)\n\n\n時間\n19:30-20:45\n\n\n\n 
URL:https://quwands.jp/event/4534/
END:VEVENT
BEGIN:VEVENT
DTSTART;VALUE=DATE:20251126
DTEND;VALUE=DATE:20251127
DTSTAMP:20260425T203703
CREATED:20251125T055844Z
LAST-MODIFIED:20251125T055844Z
UID:4532-1764115200-1764201599@quwands.jp
SUMMARY:新小岩スタジオ【Ari_pown/ELuNa】代講情報
DESCRIPTION:スタジオ名\n新小岩スタジオ\n\n\nクラス\nKIDS HIPHOP\n\n\n講師名\nAri_pown→ELuNa\n\n\n日付\n11/26(水)\n\n\n時間\n17:10-18:10\n\n\n\n  \n\n\n\nスタジオ名\n新小岩スタジオ\n\n\nクラス\nHIPHOP入門\n\n\n講師名\nAri_pown→ELuNa\n\n\n日付\n11/26(水)\n\n\n時間\n18:20-19:20\n\n\n\n  \n\n\n\nスタジオ名\n新小岩スタジオ\n\n\nクラス\nHIPHOP応用\n\n\n講師名\nAri_pown→ELuNa\n\n\n日付\n11/26(水)\n\n\n時間\n19:30-21:00\n\n\n\n 
URL:https://quwands.jp/event/4532/
END:VEVENT
BEGIN:VEVENT
DTSTART;VALUE=DATE:20251126
DTEND;VALUE=DATE:20251127
DTSTAMP:20260425T203703
CREATED:20251030T093314Z
LAST-MODIFIED:20251030T093314Z
UID:4387-1764115200-1764201599@quwands.jp
SUMMARY:平井st 【YUKO】振替情報
DESCRIPTION:スタジオ名\n平井スタジオ\n\n\nクラス\nヨガ\n\n\n講師名\nYUKO\n\n\n日付\n11/26(水)→11/29(土)\n\n\n時間\n20:00-21:00\n\n\n\n 
URL:https://quwands.jp/event/4387/
END:VEVENT
BEGIN:VEVENT
DTSTART;VALUE=DATE:20251126
DTEND;VALUE=DATE:20251127
DTSTAMP:20260425T203703
CREATED:20251029T064229Z
LAST-MODIFIED:20251030T093845Z
UID:4337-1764115200-1764201599@quwands.jp
SUMMARY:大島st 【優美香/Luka】代講情報
DESCRIPTION:スタジオ名\n大島スタジオ\n\n\nクラス\nJAZZ入門\n\n\n講師名\n優美香→Luka\n\n\n日付\n11/26(水)\n\n\n時間\n18:20-19:20\n\n\n\n  \n\n\n\nスタジオ名\n大島スタジオ\n\n\nクラス\nJAZZ中級\n\n\n講師名\n優美香→Luka\n\n\n日付\n11/26(水)\n\n\n時間\n19:30-21:00\n\n\n\n 
URL:https://quwands.jp/event/4337/
END:VEVENT
BEGIN:VEVENT
DTSTART;VALUE=DATE:20251125
DTEND;VALUE=DATE:20251126
DTSTAMP:20260425T203703
CREATED:20251125T100419Z
LAST-MODIFIED:20251125T100419Z
UID:4571-1764028800-1764115199@quwands.jp
SUMMARY:新小岩スタジオ【Airi/Rino】代講情報
DESCRIPTION:スタジオ名\n新小岩スタジオ\n\n\nクラス\nKIDS HIPHOP\n\n\n講師名\nAiri→Rino\n\n\n日付\n11/25(火)\n\n\n時間\n17:10-18:10
URL:https://quwands.jp/event/4571/
END:VEVENT
BEGIN:VEVENT
DTSTART;VALUE=DATE:20251124
DTEND;VALUE=DATE:20251125
DTSTAMP:20260425T203703
CREATED:20251117T054007Z
LAST-MODIFIED:20251117T054029Z
UID:4503-1763942400-1764028799@quwands.jp
SUMMARY:平井st 【kanae/RIHONA】代講情報
DESCRIPTION:スタジオ名\n平井スタジオ\n\n\nクラス\nKIDS K-POP\n\n\n講師名\nkanae→RIHONA\n\n\n日付\n11/24(月)\n\n\n時間\n17:10-18:10\n\n\n\n  \n\n\n\nスタジオ名\n平井スタジオ\n\n\nクラス\nK-POP入門\n\n\n講師名\nkanae→RIHONA\n\n\n日付\n11/24(月)\n\n\n時間\n18:20-19:20\n\n\n\n  \n\n\n\nスタジオ名\n平井スタジオ\n\n\nクラス\nK-POP応用\n\n\n講師名\nkanae→RIHONA\n\n\n日付\n11/24(月)\n\n\n時間\n19:30-21:00\n\n\n\n 
URL:https://quwands.jp/event/4503/
END:VEVENT
BEGIN:VEVENT
DTSTART;VALUE=DATE:20251124
DTEND;VALUE=DATE:20251125
DTSTAMP:20260425T203703
CREATED:20251112T100322Z
LAST-MODIFIED:20251112T100322Z
UID:4448-1763942400-1764028799@quwands.jp
SUMMARY:砂銀Bst【Sho-hey】振替情報
DESCRIPTION:スタジオ名\n砂銀Bスタジオ\n\n\nクラス\nHIPHOP中級 \n\n\n講師名\nSho-hey\n\n\n日付\n10/25(土)→11/24(月)\n\n\n時間\n12:30-13:45→10:00-11:15\n\n\n\n 
URL:https://quwands.jp/event/4448/
END:VEVENT
BEGIN:VEVENT
DTSTART;VALUE=DATE:20251122
DTEND;VALUE=DATE:20251123
DTSTAMP:20260425T203703
CREATED:20251114T105947Z
LAST-MODIFIED:20251114T105947Z
UID:4488-1763769600-1763855999@quwands.jp
SUMMARY:大島st 【Genki/Retro】代講情報
DESCRIPTION:スタジオ名\n大島スタジオ\n\n\nクラス\nKIDS HIPHOP\n\n\n講師名\nGenki→Retro\n\n\n日付\n11/22(土)\n\n\n時間\n14:10-15:10\n\n\n\n  \n\n\n\nスタジオ名\n大島スタジオ\n\n\nクラス\nHIPHOP入門\n\n\n講師名\nGenki→Retro\n\n\n日付\n11/22(土)\n\n\n時間\n15:20-16:20\n\n\n\n  \n\n\n\nスタジオ名\n大島スタジオ\n\n\nクラス\nHIPHOP応用\n\n\n講師名\nGenki→Retro\n\n\n日付\n11/22(土)\n\n\n時間\n16:30-18:00
URL:https://quwands.jp/event/4488/
END:VEVENT
BEGIN:VEVENT
DTSTART;VALUE=DATE:20251122
DTEND;VALUE=DATE:20251123
DTSTAMP:20260425T203703
CREATED:20251010T064548Z
LAST-MODIFIED:20260302T072629Z
UID:4190-1763769600-1763855999@quwands.jp
SUMMARY:砂銀Ast【PASSION】休講情報
DESCRIPTION:スタジオ名\n砂銀Aスタジオ\n\n\nクラス\nJAZZHIPHOP基礎応用\n\n\n講師名\nPASSION\n\n\n日付\n11/22(土)→休講\n\n\n時間\n19:30-21:00\n\n\n\n 
URL:https://quwands.jp/event/4190/
END:VEVENT
BEGIN:VEVENT
DTSTART;VALUE=DATE:20251122
DTEND;VALUE=DATE:20251123
DTSTAMP:20260425T203703
CREATED:20251024T062807Z
LAST-MODIFIED:20251024T062807Z
UID:4305-1763769600-1763855999@quwands.jp
SUMMARY:砂銀Ast 【Mayong K Sato】振替情報
DESCRIPTION:スタジオ名\n砂銀Aスタジオ\n\n\nクラス\nHIPHOP入門\n\n\n講師名\nMayong K Sato\n\n\n日付\n12/20(土)→11/22(土)\n\n\n時間\n14:10-15:10→15:10-16:10\n\n\n\n\n  \n\n\n\nスタジオ名\n砂銀Aスタジオ\n\n\nクラス\nHIPHOP応用\n\n\n講師名\nMayong K Sato\n\n\n日付\n11/22(土)\n\n\n時間\n15:20-16:50→16:20-17:50\n\n\n\n  \n\n\n\nスタジオ名\n砂銀Aスタジオ\n\n\nクラス\n大人超初級ダンス\n\n\n講師名\nMayong K Sato\n\n\n日付\n11/22(土)\n\n\n時間\n17:10-18:10→18:10-19:10
URL:https://quwands.jp/event/4305/
END:VEVENT
BEGIN:VEVENT
DTSTART;VALUE=DATE:20251120
DTEND;VALUE=DATE:20251121
DTSTAMP:20260425T203703
CREATED:20251120T060847Z
LAST-MODIFIED:20251120T060903Z
UID:4519-1763596800-1763683199@quwands.jp
SUMMARY:大島st 【yu-ta/CHIKA】代講情報
DESCRIPTION:  \n\n\n\nスタジオ名\n大島スタジオ\n\n\nクラス\nキッズ体操\n\n\n講師名\nyu-ta→CHIKA\n\n\n日付\n11/20(木)\n\n\n時間\n16:00-17:00\n\n\n\n  \n\n\n\nスタジオ名\n大島スタジオ\n\n\nクラス\n体操\n\n\n講師名\nyu-ta→CHIKA\n\n\n日付\n11/20(木)\n\n\n時間\n17:10-18:10
URL:https://quwands.jp/event/4519/
END:VEVENT
BEGIN:VEVENT
DTSTART;VALUE=DATE:20251120
DTEND;VALUE=DATE:20251121
DTSTAMP:20260425T203703
CREATED:20251120T060640Z
LAST-MODIFIED:20251120T060640Z
UID:4515-1763596800-1763683199@quwands.jp
SUMMARY:砂銀Bst【CHIKA/Sho-hey】代講情報
DESCRIPTION:  \n\n\n\nスタジオ名\n砂銀Bスタジオ\n\n\nクラス\nキッズ体操\n\n\n講師名\nCHIKA→Sho-hey\n\n\n日付\n11/20(木)\n\n\n時間\n16:00-17:00\n\n\n\n 
URL:https://quwands.jp/event/4515/
END:VEVENT
BEGIN:VEVENT
DTSTART;VALUE=DATE:20251120
DTEND;VALUE=DATE:20251121
DTSTAMP:20260425T203703
CREATED:20251112T101046Z
LAST-MODIFIED:20251112T101046Z
UID:4454-1763596800-1763683199@quwands.jp
SUMMARY:砂銀Bst 【Satodai/Sho-hey】代講情報
DESCRIPTION:スタジオ名\n砂銀Bスタジオ\n\n\nクラス\nジュニア体操\n\n\n講師名\nSatodai→Sho-hey\n\n\n日付\n11/20(木)\n\n\n時間\n17:10-18:10\n\n\n\n  \n  \n\n\n\nスタジオ名\n砂銀Bスタジオ\n\n\nクラス\n体操\n\n\n講師名\nSatodai→Sho-hey\n\n\n日付\n11/20(木)\n\n\n時間\n18:20-19:20\n\n\n\n 
URL:https://quwands.jp/event/4454/
END:VEVENT
BEGIN:VEVENT
DTSTART;VALUE=DATE:20251120
DTEND;VALUE=DATE:20251121
DTSTAMP:20260425T203703
CREATED:20251112T100744Z
LAST-MODIFIED:20251125T062208Z
UID:4451-1763596800-1763683199@quwands.jp
SUMMARY:砂銀Bst 【MINORI/Sho-hey】代講情報
DESCRIPTION:スタジオ名\n砂銀Aスタジオ→砂銀Bスタジオ\n\n\nクラス\nリトルキッズ体操\n\n\n講師名\nMINORI→Sho-hey\n\n\n日付\n11/20(木)\n\n\n時間\n16:00-17:00\n\n\n\n 
URL:https://quwands.jp/event/4451/
END:VEVENT
BEGIN:VEVENT
DTSTART;VALUE=DATE:20251120
DTEND;VALUE=DATE:20251121
DTSTAMP:20260425T203703
CREATED:20251022T054917Z
LAST-MODIFIED:20251128T050713Z
UID:4259-1763596800-1763683199@quwands.jp
SUMMARY:砂銀Ast 【舞/kanae】代講情報
DESCRIPTION:スタジオ名\n砂銀Aスタジオ\n\n\nクラス\nKIDS KPOP\n\n\n講師名\n舞→kanae\n\n\n日付\n11/20(木)\n\n\n時間\n17:10-18:10\n\n\n\n  \n\n\n\nスタジオ名\n砂銀Aスタジオ\n\n\nクラス\nKPOP入門\n\n\n講師名\n舞→kanae\n\n\n日付\n11/20(木)\n\n\n時間\n18:20-19:20\n\n\n\n 
URL:https://quwands.jp/event/4259/
END:VEVENT
BEGIN:VEVENT
DTSTART;VALUE=DATE:20251120
DTEND;VALUE=DATE:20251121
DTSTAMP:20260425T203703
CREATED:20251120T061739Z
LAST-MODIFIED:20251120T061747Z
UID:4521-1763596800-1763683199@quwands.jp
SUMMARY:砂銀Bst【Lón/newsteelo】代講情報
DESCRIPTION:スタジオ名\n砂銀Bスタジオ\n\n\nクラス\nブレイキン\n\n\n講師名\nLón→newsteelo\n\n\n日付\n11/20(木)\n\n\n時間\n19:40-20:55\n\n\n\n 
URL:https://quwands.jp/event/4521/
END:VEVENT
BEGIN:VEVENT
DTSTART;VALUE=DATE:20251119
DTEND;VALUE=DATE:20251120
DTSTAMP:20260425T203703
CREATED:20251030T093106Z
LAST-MODIFIED:20251125T062136Z
UID:4381-1763510400-1763596799@quwands.jp
SUMMARY:平井st 【YUKO】休講情報
DESCRIPTION:スタジオ名\n平井スタジオ\n\n\nクラス\nヨガ\n\n\n講師名\nYUKO\n\n\n日付\n休講\n\n\n時間\n20:00-21:00\n\n\n\n 
URL:https://quwands.jp/event/4381/
END:VEVENT
BEGIN:VEVENT
DTSTART;VALUE=DATE:20251119
DTEND;VALUE=DATE:20251120
DTSTAMP:20260425T203703
CREATED:20251029T063456Z
LAST-MODIFIED:20251030T093757Z
UID:4330-1763510400-1763596799@quwands.jp
SUMMARY:大島st 【優美香/Luka】代講情報
DESCRIPTION:スタジオ名\n大島スタジオ\n\n\nクラス\nJAZZ入門\n\n\n講師名\n優美香→Luka\n\n\n日付\n11/19(水)\n\n\n時間\n18:20-19:20\n\n\n\n  \n\n\n\nスタジオ名\n大島スタジオ\n\n\nクラス\nJAZZ中級\n\n\n講師名\n優美香→Luka\n\n\n日付\n11/19(水)\n\n\n時間\n19:30-21:00\n\n\n\n 
URL:https://quwands.jp/event/4330/
END:VEVENT
BEGIN:VEVENT
DTSTART;VALUE=DATE:20251115
DTEND;VALUE=DATE:20251116
DTSTAMP:20260425T203703
CREATED:20251114T092812Z
LAST-MODIFIED:20251117T054711Z
UID:4482-1763164800-1763251199@quwands.jp
SUMMARY:大島st 【Genki】休講情報
DESCRIPTION:スタジオ名\n大島スタジオ\n\n\nクラス\nKIDS HIPHOP\n\n\n講師名\nGenki\n\n\n日付\n11/15(土)\n\n\n時間\n14:10-15:10\n\n\n\n  \n\n\n\nスタジオ名\n大島スタジオ\n\n\nクラス\nHIPHOP入門\n\n\n講師名\nGenki\n\n\n日付\n11/15(土)\n\n\n時間\n15:20-16:20\n\n\n\n  \n\n\n\nスタジオ名\n大島スタジオ\n\n\nクラス\nHIPHOP応用\n\n\n講師名\nGenki\n\n\n日付\n11/15(土)\n\n\n時間\n16:30-18:00\n\n\n\n 
URL:https://quwands.jp/event/4482/
END:VEVENT
END:VCALENDAR