BEGIN:VCALENDAR
VERSION:2.0
PRODID:-//QUWANDS - ECPv6.10.2//NONSGML v1.0//EN
CALSCALE:GREGORIAN
METHOD:PUBLISH
X-WR-CALNAME:QUWANDS
X-ORIGINAL-URL:https://quwands.jp
X-WR-CALDESC:QUWANDS のイベント
REFRESH-INTERVAL;VALUE=DURATION:PT1H
X-Robots-Tag:noindex
X-PUBLISHED-TTL:PT1H
BEGIN:VTIMEZONE
TZID:Asia/Tokyo
BEGIN:STANDARD
TZOFFSETFROM:+0900
TZOFFSETTO:+0900
TZNAME:JST
DTSTART:20260101T000000
END:STANDARD
END:VTIMEZONE
BEGIN:VEVENT
DTSTART;VALUE=DATE:20260315
DTEND;VALUE=DATE:20260316
DTSTAMP:20260425T204104
CREATED:20260122T084702Z
LAST-MODIFIED:20260126T040159Z
UID:4956-1773532800-1773619199@quwands.jp
SUMMARY:砂銀st【舞】振替情報
DESCRIPTION:スタジオ名\n砂銀Aスタジオ\n\n\nクラス\nKIDS KPOP\n\n\n講師名\n舞\n\n\n日付\n3/15(日)→3/29(日)\n\n\n時間\n13:00-14:00\n\n\n\n  \n\n\n\nスタジオ名\n砂銀Bスタジオ\n\n\nクラス\nKPOP入門\n\n\n講師名\n舞\n\n\n日付\n3/15(日)→3/29(日)\n\n\n時間\n14:20-15:20\n\n\n\n  \n\n\n\nスタジオ名\n砂銀Bスタジオ\n\n\nクラス\nKPOP応用\n\n\n講師名\n舞\n\n\n日付\n3/15(日)→3/29(日)\n\n\n時間\n15:30-17:00
URL:https://quwands.jp/event/4956/
END:VEVENT
BEGIN:VEVENT
DTSTART;VALUE=DATE:20260315
DTEND;VALUE=DATE:20260316
DTSTAMP:20260425T204104
CREATED:20260306T071628Z
LAST-MODIFIED:20260306T071628Z
UID:5318-1773532800-1773619199@quwands.jp
SUMMARY:大島st 【yu-ta/RYOGA】代講情報
DESCRIPTION:スタジオ名\n大島スタジオ\n\n\nクラス\nキッズ体操\n\n\n講師名\nyu-ta→RYOGA\n\n\n日付\n3/15(日)\n\n\n時間\n14:10-15:10\n\n\n\n  \n\n\n\nスタジオ名\n大島スタジオ\n\n\nクラス\n体操\n\n\n講師名\nyu-ta→RYOGA\n\n\n日付\n3/15(日)\n\n\n時間\n15:20-16:20\n\n\n\n 
URL:https://quwands.jp/event/5318/
END:VEVENT
BEGIN:VEVENT
DTSTART;VALUE=DATE:20260317
DTEND;VALUE=DATE:20260318
DTSTAMP:20260425T204104
CREATED:20260130T053745Z
LAST-MODIFIED:20260130T053745Z
UID:5070-1773705600-1773791999@quwands.jp
SUMMARY:大島st 【HIKARU/cono】代講情報
DESCRIPTION:スタジオ名\n大島スタジオ\n\n\nクラス\nKIDS KPOP\n\n\n講師名\nHIKARU→cono\n\n\n日付\n3/17(火)\n\n\n時間\n17:10-18:10\n\n\n\n\n  \n\n\n\nスタジオ名\n大島スタジオ\n\n\nクラス\nKPOP入門\n\n\n講師名\nHIKARU→cono\n\n\n日付\n3/17(火)\n\n\n時間\n18:20-19:20\n\n\n\n  \n\n\n\nスタジオ名\n大島スタジオ\n\n\nクラス\nKPOP応用\n\n\n講師名\nHIKARU→cono\n\n\n日付\n3/17(火)\n\n\n時間\n19:30-21:00\n\n\n\n 
URL:https://quwands.jp/event/5070/
END:VEVENT
BEGIN:VEVENT
DTSTART;VALUE=DATE:20260318
DTEND;VALUE=DATE:20260319
DTSTAMP:20260425T204104
CREATED:20260317T051650Z
LAST-MODIFIED:20260317T051825Z
UID:5375-1773792000-1773878399@quwands.jp
SUMMARY:平井st【YUKO】休講情報
DESCRIPTION:スタジオ名\n平井スタジオ\n\n\nクラス\nヨガ\n\n\n講師名\nYUKO\n\n\n日付\n3/18(水)→休講\n\n\n時間\n20:00-21:00\n\n\n\n 
URL:https://quwands.jp/event/5375/
END:VEVENT
BEGIN:VEVENT
DTSTART;VALUE=DATE:20260319
DTEND;VALUE=DATE:20260320
DTSTAMP:20260425T204104
CREATED:20260217T024905Z
LAST-MODIFIED:20260217T024905Z
UID:5168-1773878400-1773964799@quwands.jp
SUMMARY:平井st【舞】振替情報
DESCRIPTION:スタジオ名\n平井スタジオ→新小岩スタジオ\n\n\nクラス\nKIDS KPOP\n\n\n講師名\n舞\n\n\n日付\n3/19(木)→3/21(土)\n\n\n時間\n17:10-18:10→17:30-18:30\n\n\n\n  \n\n\n\nスタジオ名\n平井スタジオ→新小岩スタジオ\n\n\nクラス\nKPOP入門\n\n\n講師名\n舞\n\n\n日付\n3/19(木)→3/21(土)\n\n\n時間\n18:20-19:20→18:40-19:40\n\n\n\n 
URL:https://quwands.jp/event/5168/
END:VEVENT
BEGIN:VEVENT
DTSTART;VALUE=DATE:20260319
DTEND;VALUE=DATE:20260320
DTSTAMP:20260425T204104
CREATED:20260305T030620Z
LAST-MODIFIED:20260305T030620Z
UID:5298-1773878400-1773964799@quwands.jp
SUMMARY:砂銀Ast【MINORI/RYOGA】代講情報
DESCRIPTION:スタジオ名\n砂銀Aスタジオ\n\n\nクラス\nリトルキッズ体操\n\n\n講師名\nMINORI→RYOGA\n\n\n日付\n3/19(木)\n\n\n時間\n16:00-17:00\n\n\n\n\n 
URL:https://quwands.jp/event/5298/
END:VEVENT
BEGIN:VEVENT
DTSTART;VALUE=DATE:20260320
DTEND;VALUE=DATE:20260321
DTSTAMP:20260425T204104
CREATED:20260127T054220Z
LAST-MODIFIED:20260127T054220Z
UID:4999-1773964800-1774051199@quwands.jp
SUMMARY:砂銀Ast 【yuine】時間変更情報
DESCRIPTION:スタジオ名\n砂銀Aスタジオ\n\n\nクラス\nKIDS JAZZ\n\n\n講師名\nyuine\n\n\n日付\n3/20(金)\n\n\n時間\n17:10-18:10→17:00-18:00\n\n\n\n  \n 
URL:https://quwands.jp/event/4999/
END:VEVENT
BEGIN:VEVENT
DTSTART;VALUE=DATE:20260320
DTEND;VALUE=DATE:20260321
DTSTAMP:20260425T204104
CREATED:20260224T104003Z
LAST-MODIFIED:20260225T050800Z
UID:5231-1773964800-1774051199@quwands.jp
SUMMARY:砂銀Ast【Shark Miho/yuna*】代講情報
DESCRIPTION:スタジオ名\n砂銀Aスタジオ\n\n\nクラス\nJAZZFUNK入門\n\n\n講師名\nShark Miho→yuna*\n\n\n日付\n3/20(金)\n\n\n時間\n18:20-19:20\n\n\n\n\n  \n\n\n\nスタジオ名\n砂銀Aスタジオ\n\n\nクラス\nJAZZFUNK中級\n\n\n講師名\nShark Miho→yuna*\n\n\n日付\n3/20(金)\n\n\n時間\n19:30-20:45\n\n\n\n\n 
URL:https://quwands.jp/event/5231/
END:VEVENT
BEGIN:VEVENT
DTSTART;VALUE=DATE:20260321
DTEND;VALUE=DATE:20260322
DTSTAMP:20260425T204104
CREATED:20260213T074757Z
LAST-MODIFIED:20260217T024747Z
UID:5145-1774051200-1774137599@quwands.jp
SUMMARY:平井st【舞】振替情報
DESCRIPTION:スタジオ名\n平井スタジオ→新小岩スタジオ\n\n\nクラス\nKIDS KPOP\n\n\n講師名\n舞\n\n\n日付\n3/19(木)→3/21(土)\n\n\n時間\n17:10-18:10→17:30-18:30\n\n\n\n  \n\n\n\nスタジオ名\n平井スタジオ→新小岩スタジオ\n\n\nクラス\nKPOP入門\n\n\n講師名\n舞\n\n\n日付\n3/19(木)→3/21(土)\n\n\n時間\n18:20-19:20→18:40-19:40\n\n\n\n 
URL:https://quwands.jp/event/5145/
END:VEVENT
BEGIN:VEVENT
DTSTART;VALUE=DATE:20260321
DTEND;VALUE=DATE:20260322
DTSTAMP:20260425T204104
CREATED:20260227T080545Z
LAST-MODIFIED:20260409T062843Z
UID:5263-1774051200-1774137599@quwands.jp
SUMMARY:砂銀Ast【PASSION】休講情報
DESCRIPTION:スタジオ名\n砂銀Aスタジオ\n\n\nクラス\nJAZZHIPHOP基礎応用\n\n\n講師名\nPASSION\n\n\n日付\n3/21(土)→休講\n\n\n時間\n19:30-21:00\n\n\n\n\n 
URL:https://quwands.jp/event/5263/
END:VEVENT
BEGIN:VEVENT
DTSTART;VALUE=DATE:20260322
DTEND;VALUE=DATE:20260323
DTSTAMP:20260425T204104
CREATED:20260305T031024Z
LAST-MODIFIED:20260305T031024Z
UID:5301-1774137600-1774223999@quwands.jp
SUMMARY:砂銀Ast【MINORI】振替情報
DESCRIPTION:スタジオ名\n砂銀Aスタジオ\n\n\nクラス\nリトルキッズダンス\n\n\n講師名\nMINORI\n\n\n日付\n3/22(日)→3/29(日)\n\n\n時間\n10:00-11:00\n\n\n\n\n  \n\n\n\nスタジオ名\n砂銀Aスタジオ\n\n\nクラス\nリトルキッズ体操\n\n\n講師名\nMINORI\n\n\n日付\n3/22(日)→3/29(日)\n\n\n時間\n11:10-12:10\n\n\n\n\n 
URL:https://quwands.jp/event/5301/
END:VEVENT
BEGIN:VEVENT
DTSTART;VALUE=DATE:20260322
DTEND;VALUE=DATE:20260323
DTSTAMP:20260425T204104
CREATED:20260306T071710Z
LAST-MODIFIED:20260306T071710Z
UID:5319-1774137600-1774223999@quwands.jp
SUMMARY:大島st 【yu-ta/RYOGA】代講情報
DESCRIPTION:スタジオ名\n大島スタジオ\n\n\nクラス\nキッズ体操\n\n\n講師名\nyu-ta→RYOGA\n\n\n日付\n3/22(日)\n\n\n時間\n14:10-15:10\n\n\n\n  \n\n\n\nスタジオ名\n大島スタジオ\n\n\nクラス\n体操\n\n\n講師名\nyu-ta→RYOGA\n\n\n日付\n3/22(日)\n\n\n時間\n15:20-16:20\n\n\n\n 
URL:https://quwands.jp/event/5319/
END:VEVENT
BEGIN:VEVENT
DTSTART;VALUE=DATE:20260322
DTEND;VALUE=DATE:20260323
DTSTAMP:20260425T204104
CREATED:20260316T063932Z
LAST-MODIFIED:20260316T063932Z
UID:5368-1774137600-1774223999@quwands.jp
SUMMARY:砂銀Bst 【MiYuu】スタジオ・時間変更情報
DESCRIPTION:スタジオ名\n大島スタジオ→砂銀Bスタジオ\n\n\nクラス\nHIPHOP入門\n\n\n講師名\nMiYuu\n\n\n日付\n3/22(日)\n\n\n時間\n16:30-17:30→17:15-18:15\n\n\n\n\n  \n\n\n\nスタジオ名\n大島スタジオ→砂銀Bスタジオ\n\n\nクラス\nHIPHOP応用\n\n\n講師名\nMiYuu\n\n\n日付\n3/22(日)\n\n\n時間\n17:40-19:10→18:25-19:55\n\n\n\n 
URL:https://quwands.jp/event/5368/
END:VEVENT
BEGIN:VEVENT
DTSTART;VALUE=DATE:20260324
DTEND;VALUE=DATE:20260325
DTSTAMP:20260425T204104
CREATED:20260130T055158Z
LAST-MODIFIED:20260130T055158Z
UID:5083-1774310400-1774396799@quwands.jp
SUMMARY:大島st 【HIKARU/cono】代講情報
DESCRIPTION:スタジオ名\n大島スタジオ\n\n\nクラス\nKIDS KPOP\n\n\n講師名\nHIKARU→cono\n\n\n日付\n3/24(火)\n\n\n時間\n17:10-18:10\n\n\n\n\n  \n\n\n\nスタジオ名\n大島スタジオ\n\n\nクラス\nKPOP入門\n\n\n講師名\nHIKARU→cono\n\n\n日付\n3/24(火)\n\n\n時間\n18:20-19:20\n\n\n\n  \n\n\n\nスタジオ名\n大島スタジオ\n\n\nクラス\nKPOP応用\n\n\n講師名\nHIKARU→cono\n\n\n日付\n3/24(火)\n\n\n時間\n19:30-21:00\n\n\n\n 
URL:https://quwands.jp/event/5083/
END:VEVENT
BEGIN:VEVENT
DTSTART;VALUE=DATE:20260324
DTEND;VALUE=DATE:20260325
DTSTAMP:20260425T204104
CREATED:20260318T055037Z
LAST-MODIFIED:20260326T092816Z
UID:5383-1774310400-1774396799@quwands.jp
SUMMARY:新小岩st【Airi】代講・振替情報
DESCRIPTION:スタジオ名\n新小岩スタジオ\n\n\nクラス\nKIDS HIPHOP\n\n\n講師名\nAiri→Sho-hey\n\n\n日付\n3/24(火)\n\n\n時間\n17:10-18:10\n\n\n\n  \n\n\n\nスタジオ名\n新小岩スタジオ\n\n\nクラス\nHIPHOP入門\n\n\n講師名\nAiri\n\n\n日付\n3/24(火)→3/26(木)\n\n\n時間\n18:20-19:20→11:00-12:00\n\n\n\n  \n\n\n\nスタジオ名\n新小岩スタジオ\n\n\nクラス\nHIPHOP中級\n\n\n講師名\nAiri\n\n\n日付\n3/24(火)→3/26(木)\n\n\n時間\n19:30-20:45→13:30-14:45\n\n\n\n 
URL:https://quwands.jp/event/5383/
END:VEVENT
BEGIN:VEVENT
DTSTART;VALUE=DATE:20260325
DTEND;VALUE=DATE:20260326
DTSTAMP:20260425T204104
CREATED:20260302T083024Z
LAST-MODIFIED:20260302T083230Z
UID:5281-1774396800-1774483199@quwands.jp
SUMMARY:新小岩st【Ari_pown】振替・時間変更情報
DESCRIPTION:スタジオ名\n新小岩スタジオ\n\n\nクラス\nKIDS HIPHOP\n\n\n講師名\nAri_pown\n\n\n日付\n2/18(水)→3/25(水)\n\n\n時間\n17:10-18:10→13:40-14:40\n\n\n\n  \n\n\n\nスタジオ名\n新小岩スタジオ\n\n\nクラス\nKIDS HIPHOP\n\n\n講師名\nAri_pown\n\n\n日付\n3/25(水)\n\n\n時間\n17:10-18:10→14:40-15:40\n\n\n\n  \n\n\n\nスタジオ名\n新小岩スタジオ\n\n\nクラス\nHIPHOP入門\n\n\n講師名\nAri_pown\n\n\n日付\n2/18(水)→3/25(水)\n\n\n時間\n18:20-19:20→15:50-16:50\n\n\n\n  \n\n\n\nスタジオ名\n新小岩スタジオ\n\n\nクラス\nHIPHOP入門\n\n\n講師名\nAri_pown\n\n\n日付\n3/25(水)\n\n\n時間\n18:20-19:20→16:50-17:50\n\n\n\n  \n\n\n\nスタジオ名\n新小岩スタジオ\n\n\nクラス\nHIPHOP応用\n\n\n講師名\nAri_pown\n\n\n日付\n2/18(水)→3/25(水)\n\n\n時間\n19:30-21:00→18:00-19:30\n\n\n\n 
URL:https://quwands.jp/event/5281/
END:VEVENT
BEGIN:VEVENT
DTSTART;VALUE=DATE:20260325
DTEND;VALUE=DATE:20260326
DTSTAMP:20260425T204104
CREATED:20260312T032313Z
LAST-MODIFIED:20260312T032313Z
UID:5343-1774396800-1774483199@quwands.jp
SUMMARY:砂銀Ast【Genki】休講情報
DESCRIPTION:スタジオ名\n砂銀Aスタジオ\n\n\nクラス\nHIPHOP中級\n\n\n講師名\nGenki\n\n\n日付\n3/25(水)\n\n\n時間\n19:30-20:45\n\n\n\n\n 
URL:https://quwands.jp/event/5343/
END:VEVENT
BEGIN:VEVENT
DTSTART;VALUE=DATE:20260326
DTEND;VALUE=DATE:20260327
DTSTAMP:20260425T204104
CREATED:20260217T025051Z
LAST-MODIFIED:20260217T025051Z
UID:5173-1774483200-1774569599@quwands.jp
SUMMARY:平井st【舞】振替情報
DESCRIPTION:スタジオ名\n平井スタジオ→新小岩スタジオ\n\n\nクラス\nKIDS KPOP\n\n\n講師名\n舞\n\n\n日付\n3/26(木)→3/28(土)\n\n\n時間\n17:10-18:10→17:30-18:30\n\n\n\n 
URL:https://quwands.jp/event/5173/
END:VEVENT
BEGIN:VEVENT
DTSTART;VALUE=DATE:20260326
DTEND;VALUE=DATE:20260327
DTSTAMP:20260425T204104
CREATED:20260326T033245Z
LAST-MODIFIED:20260326T092309Z
UID:5413-1774483200-1774569599@quwands.jp
SUMMARY:砂銀Bst 【Lón】休講情報
DESCRIPTION:スタジオ名\n砂銀Bスタジオ\n\n\nクラス\nブレイキン\n\n\n講師名\nLón\n\n\n日付\n3/26(木)\n\n\n時間\n19:40-20:55\n\n\n\n  \n 
URL:https://quwands.jp/event/5413/
END:VEVENT
BEGIN:VEVENT
DTSTART;VALUE=DATE:20260326
DTEND;VALUE=DATE:20260327
DTSTAMP:20260425T204104
CREATED:20260326T092900Z
LAST-MODIFIED:20260326T093130Z
UID:5451-1774483200-1774569599@quwands.jp
SUMMARY:新小岩st【Airi】振替情報
DESCRIPTION:スタジオ名\n新小岩スタジオ\n\n\nクラス\nHIPHOP入門\n\n\n講師名\nAiri\n\n\n日付\n3/24(火)→3/26(木)\n\n\n時間\n18:20-19:20→11:00-12:00\n\n\n\n  \n\n\n\nスタジオ名\n新小岩スタジオ\n\n\nクラス\nHIPHOP中級\n\n\n講師名\nAiri\n\n\n日付\n3/24(火)→3/26(木)\n\n\n時間\n19:30-20:45→13:30-14:45\n\n\n\n 
URL:https://quwands.jp/event/5451/
END:VEVENT
BEGIN:VEVENT
DTSTART;VALUE=DATE:20260327
DTEND;VALUE=DATE:20260328
DTSTAMP:20260425T204104
CREATED:20251215T064629Z
LAST-MODIFIED:20251215T064629Z
UID:4734-1774569600-1774655999@quwands.jp
SUMMARY:砂銀Bst 【kanae】振替情報
DESCRIPTION:スタジオ名\n平井スタジオ→砂銀Bスタジオ\n\n\nクラス\nKIDS K-POP\n\n\n講師名\nkanae\n\n\n日付\n1/26(月)→3/27(金)\n\n\n時間\n17:10-18:10→11:00-12:00\n\n\n\n  \n\n\n\nスタジオ名\n平井スタジオ→砂銀Bスタジオ\n\n\nクラス\nK-POP入門\n\n\n講師名\nkanae\n\n\n日付\n1/26(月)→3/27(金)\n\n\n時間\n18:20-19:20→12:10-13:10\n\n\n\n  \n\n\n\nスタジオ名\n平井スタジオ→砂銀Bスタジオ\n\n\nクラス\nK-POP応用\n\n\n講師名\nkanae\n\n\n日付\n1/26(月)→3/27(金)\n\n\n時間\n19:30-21:00→13:20-14:50
URL:https://quwands.jp/event/4734/
END:VEVENT
BEGIN:VEVENT
DTSTART;VALUE=DATE:20260327
DTEND;VALUE=DATE:20260328
DTSTAMP:20260425T204104
CREATED:20260127T054354Z
LAST-MODIFIED:20260224T102408Z
UID:5005-1774569600-1774655999@quwands.jp
SUMMARY:砂銀Ast【yuine/yuna*】代講情報
DESCRIPTION:スタジオ名\n砂銀Aスタジオ\n\n\nクラス\nKIDS JAZZ\n\n\n講師名\nyuine→yuna*\n\n\n日付\n3/27(金)\n\n\n時間\n17:10-18:10\n\n\n\n\n 
URL:https://quwands.jp/event/5005/
END:VEVENT
BEGIN:VEVENT
DTSTART;VALUE=DATE:20260327
DTEND;VALUE=DATE:20260328
DTSTAMP:20260425T204104
CREATED:20260224T104309Z
LAST-MODIFIED:20260224T104309Z
UID:5234-1774569600-1774655999@quwands.jp
SUMMARY:砂銀Ast【Shark Miho/rin】代講情報
DESCRIPTION:スタジオ名\n砂銀Aスタジオ\n\n\nクラス\nJAZZFUNK入門\n\n\n講師名\nShark Miho→rin\n\n\n日付\n3/27(金)\n\n\n時間\n18:20-19:20\n\n\n\n\n  \n\n\n\nスタジオ名\n砂銀Aスタジオ\n\n\nクラス\nJAZZFUNK中級\n\n\n講師名\nShark Miho→rin\n\n\n日付\n3/27(金)\n\n\n時間\n19:30-20:45\n\n\n\n\n 
URL:https://quwands.jp/event/5234/
END:VEVENT
BEGIN:VEVENT
DTSTART;VALUE=DATE:20260328
DTEND;VALUE=DATE:20260329
DTSTAMP:20260425T204104
CREATED:20260213T074944Z
LAST-MODIFIED:20260217T025006Z
UID:5147-1774656000-1774742399@quwands.jp
SUMMARY:平井st【舞】振替情報
DESCRIPTION:スタジオ名\n平井スタジオ→新小岩スタジオ\n\n\nクラス\nKIDS KPOP\n\n\n講師名\n舞\n\n\n日付\n3/26(木)→3/28(土)\n\n\n時間\n17:10-18:10→17:30-18:30\n\n\n\n  \n 
URL:https://quwands.jp/event/5147/
END:VEVENT
BEGIN:VEVENT
DTSTART;VALUE=DATE:20260328
DTEND;VALUE=DATE:20260329
DTSTAMP:20260425T204104
CREATED:20260306T071230Z
LAST-MODIFIED:20260306T071230Z
UID:5313-1774656000-1774742399@quwands.jp
SUMMARY:平井st 【yu-ta/KAKERU】代講情報
DESCRIPTION:スタジオ名\n平井スタジオ\n\n\nクラス\nキッズ体操\n\n\n講師名\nyu-ta→KAKERU\n\n\n日付\n3/28(土)\n\n\n時間\n14:10-15:10\n\n\n\n  \n\n\n\nスタジオ名\n平井スタジオ\n\n\nクラス\n体操\n\n\n講師名\nyu-ta→KAKERU\n\n\n日付\n3/28(土)\n\n\n時間\n15:20-16:50\n\n\n\n 
URL:https://quwands.jp/event/5313/
END:VEVENT
BEGIN:VEVENT
DTSTART;VALUE=DATE:20260328
DTEND;VALUE=DATE:20260329
DTSTAMP:20260425T204104
CREATED:20260330T100309Z
LAST-MODIFIED:20260409T062342Z
UID:5472-1774656000-1774742399@quwands.jp
SUMMARY:大島st 【Genki】振替情報
DESCRIPTION:スタジオ名\n大島スタジオ\n\n\nクラス\nHIPHOP応用\n\n\n講師名\nGenki\n\n\n日付\n3/28(土)→4/25(土)\n\n\n時間\n16:30-18:00\n\n\n\n\n 
URL:https://quwands.jp/event/5472/
END:VEVENT
BEGIN:VEVENT
DTSTART;VALUE=DATE:20260329
DTEND;VALUE=DATE:20260330
DTSTAMP:20260425T204104
CREATED:20251225T051038Z
LAST-MODIFIED:20251225T051038Z
UID:4809-1774742400-1774828799@quwands.jp
SUMMARY:砂銀Ast【ALISA】振替情報
DESCRIPTION:スタジオ名\n砂銀Aスタジオ\n\n\nクラス\nKIDS HIPHOP\n\n\n講師名\nALISA\n\n\n日付\n12/21(日)→3/29(日)\n\n\n時間\n17:10-18:10\n\n\n\n  \n\n\n\nスタジオ名\n砂銀Aスタジオ\n\n\nクラス\nJAZZHIPHOP入門\n\n\n講師名\nALISA\n\n\n日付\n12/21(日)→3/29(日)\n\n\n時間\n18:20-19:20\n\n\n\n  \n\n\n\nスタジオ名\n砂銀Aスタジオ\n\n\nクラス\nJAZZ基礎応用\n\n\n講師名\nALISA\n\n\n日付\n12/21(日)→3/29(日)\n\n\n時間\n19:30-21:00\n\n\n\n 
URL:https://quwands.jp/event/4809/
END:VEVENT
BEGIN:VEVENT
DTSTART;VALUE=DATE:20260329
DTEND;VALUE=DATE:20260330
DTSTAMP:20260425T204104
CREATED:20260122T083454Z
LAST-MODIFIED:20260122T083454Z
UID:4946-1774742400-1774828799@quwands.jp
SUMMARY:平井st【kazuki】代講情報
DESCRIPTION:スタジオ名\n平井スタジオ\n\n\nクラス\nキッズ体操\n\n\n講師名\nkazuki\n\n\n日付\n2/1(日)→3/29(日)\n\n\n時間\n10:00-11:00\n\n\n\n  \n\n\n\nスタジオ名\n平井スタジオ\n\n\nクラス\nリトルキッズダンス\n\n\n講師名\nkazuki\n\n\n日付\n2/1(日)→3/29(日)\n\n\n時間\n11:10-12:10\n\n\n\n 
URL:https://quwands.jp/event/4946/
END:VEVENT
BEGIN:VEVENT
DTSTART;VALUE=DATE:20260329
DTEND;VALUE=DATE:20260330
DTSTAMP:20260425T204104
CREATED:20260122T084727Z
LAST-MODIFIED:20260127T054550Z
UID:4959-1774742400-1774828799@quwands.jp
SUMMARY:砂銀st【舞】振替情報
DESCRIPTION:スタジオ名\n砂銀Aスタジオ\n\n\nクラス\nKIDS KPOP\n\n\n講師名\n舞\n\n\n日付\n3/15(日)→3/29(日)\n\n\n時間\n13:00-14:00\n\n\n\n  \n\n\n\nスタジオ名\n砂銀Bスタジオ\n\n\nクラス\nKPOP入門\n\n\n講師名\n舞\n\n\n日付\n3/15(日)→3/29(日)\n\n\n時間\n14:20-15:20\n\n\n\n  \n\n\n\nスタジオ名\n砂銀Bスタジオ\n\n\nクラス\nKPOP応用\n\n\n講師名\n舞\n\n\n日付\n3/15(日)→3/29(日)\n\n\n時間\n15:30-17:00\n\n\n\n 
URL:https://quwands.jp/event/4959/
END:VEVENT
BEGIN:VEVENT
DTSTART;VALUE=DATE:20260329
DTEND;VALUE=DATE:20260330
DTSTAMP:20260425T204104
CREATED:20260219T053430Z
LAST-MODIFIED:20260220T052222Z
UID:5198-1774742400-1774828799@quwands.jp
SUMMARY:新小岩st 【Mayong K Sato】振替情報
DESCRIPTION:スタジオ名\n新小岩スタジオ\n\n\nクラス\nKIDS HIPHOP\n\n\n講師名\nMayong K Sato\n\n\n日付\n4/19(日)→3/29(日)\n\n\n時間\n12:30-13:30\n\n\n\n  \n\n\n\nスタジオ名\n新小岩スタジオ\n\n\nクラス\nHIPHOP入門\n\n\n講師名\nMayong K Sato\n\n\n日付\n4/19(日)→3/29(日)\n\n\n時間\n13:40-14:40\n\n\n\n  \n\n\n\nスタジオ名\n新小岩スタジオ\n\n\nクラス\nHIPHOP中級\n\n\n講師名\nMayong K Sato\n\n\n日付\n4/19(日)→3/29(日)\n\n\n時間\n14:50-16:05\n\n\n\n 
URL:https://quwands.jp/event/5198/
END:VEVENT
END:VCALENDAR