BEGIN:VCALENDAR
VERSION:2.0
PRODID:-//QUWANDS - ECPv6.10.2//NONSGML v1.0//EN
CALSCALE:GREGORIAN
METHOD:PUBLISH
X-WR-CALNAME:QUWANDS
X-ORIGINAL-URL:https://quwands.jp
X-WR-CALDESC:QUWANDS のイベント
REFRESH-INTERVAL;VALUE=DURATION:PT1H
X-Robots-Tag:noindex
X-PUBLISHED-TTL:PT1H
BEGIN:VTIMEZONE
TZID:Asia/Tokyo
BEGIN:STANDARD
TZOFFSETFROM:+0900
TZOFFSETTO:+0900
TZNAME:JST
DTSTART:20260101T000000
END:STANDARD
END:VTIMEZONE
BEGIN:VEVENT
DTSTART;VALUE=DATE:20260416
DTEND;VALUE=DATE:20260417
DTSTAMP:20260425T204625
CREATED:20260417T065233Z
LAST-MODIFIED:20260417T065233Z
UID:5608-1776297600-1776383999@quwands.jp
SUMMARY:大島st 【yamato/COCO】代講情報
DESCRIPTION:スタジオ名\n大島スタジオ\n\n\nクラス\nHIPHOP入門\n\n\n講師名\nyamato→COCO\n\n\n日付\n4/16(木)\n\n\n時間\n18:20-19:20\n\n\n\n\n  \n\n\n\nスタジオ名\n大島スタジオ\n\n\nクラス\nHIPHOP中級\n\n\n講師名\nyamato→COCO\n\n\n日付\n4/16(木)\n\n\n時間\n19:30-20:45\n\n\n\n\n 
URL:https://quwands.jp/event/5608/
END:VEVENT
BEGIN:VEVENT
DTSTART;VALUE=DATE:20260417
DTEND;VALUE=DATE:20260418
DTSTAMP:20260425T204625
CREATED:20260402T035907Z
LAST-MODIFIED:20260414T065227Z
UID:5501-1776384000-1776470399@quwands.jp
SUMMARY:砂銀Ast 【Shark Miho/Yurica】代講情報
DESCRIPTION:スタジオ名\n砂銀Aスタジオ\n\n\nクラス\nJAZZFUNK入門\n\n\n講師名\nShark Miho→Yurica\n\n\n日付\n4/17(金)\n\n\n時間\n18:20-19:20\n\n\n\n  \n\n\n\nスタジオ名\n砂銀Aスタジオ\n\n\nクラス\nJAZZFUNK中級\n\n\n講師名\nShark Miho→Yurica\n\n\n日付\n4/17(金)\n\n\n時間\n19:30-20:45\n\n\n\n 
URL:https://quwands.jp/event/5501/
END:VEVENT
BEGIN:VEVENT
DTSTART;VALUE=DATE:20260417
DTEND;VALUE=DATE:20260418
DTSTAMP:20260425T204625
CREATED:20260402T035507Z
LAST-MODIFIED:20260409T062000Z
UID:5496-1776384000-1776470399@quwands.jp
SUMMARY:砂銀Bst【Hana*/kaisei】代講情報
DESCRIPTION:スタジオ名\n砂銀Bスタジオ\n\n\nクラス\nKIDS HIPHOP\n\n\n講師名\nHana*→kaisei\n\n\n日付\n4/17(金)\n\n\n時間\n17:10-18:10\n\n\n\n  \n\n\n\nスタジオ名\n砂銀Bスタジオ\n\n\nクラス\nHIPHOP入門\n\n\n講師名\nHana*→kaisei\n\n\n日付\n4/17(金)\n\n\n時間\n18:20-19:20\n\n\n\n  \n\n\n\nスタジオ名\n砂銀Bスタジオ\n\n\nクラス\nHIPHOP応用\n\n\n講師名\nHana*→kaisei\n\n\n日付\n4/17(金)\n\n\n時間\n19:30-21:00\n\n\n\n 
URL:https://quwands.jp/event/5496/
END:VEVENT
BEGIN:VEVENT
DTSTART;VALUE=DATE:20260418
DTEND;VALUE=DATE:20260419
DTSTAMP:20260425T204625
CREATED:20260219T104737Z
LAST-MODIFIED:20260220T051746Z
UID:5207-1776470400-1776556799@quwands.jp
SUMMARY:砂銀Ast 【Mayong K Sato】振替情報
DESCRIPTION:スタジオ名\n砂銀Aスタジオ\n\n\nクラス\nKIDS HIPHOP\n\n\n講師名\nMayong K Sato\n\n\n日付\n4/18(土)→4/29(水・祝)\n\n\n時間\n13:00-14:00\n\n\n\n  \n\n\n\nスタジオ名\n砂銀Aスタジオ\n\n\nクラス\nHIPHOP入門\n\n\n講師名\nMayong K Sato\n\n\n日付\n4/18(土)→4/29(水・祝)\n\n\n時間\n14:10-15:10\n\n\n\n  \n\n\n\nスタジオ名\n砂銀Aスタジオ\n\n\nクラス\nHIPHOP応用\n\n\n講師名\nMayong K Sato\n\n\n日付\n4/18(土)→4/29(水・祝)\n\n\n時間\n15:20-16:50\n\n\n\n  \n\n\n\nスタジオ名\n砂銀Aスタジオ\n\n\nクラス\n大人超初級ダンス\n\n\n講師名\nMayong K Sato\n\n\n日付\n4/18(土)→4/11(土)\n\n\n時間\n17:10-18:10→18:10-19:10
URL:https://quwands.jp/event/5207/
END:VEVENT
BEGIN:VEVENT
DTSTART;VALUE=DATE:20260418
DTEND;VALUE=DATE:20260419
DTSTAMP:20260425T204625
CREATED:20260407T071038Z
LAST-MODIFIED:20260407T071038Z
UID:5517-1776470400-1776556799@quwands.jp
SUMMARY:平井st【yu-ta/KAKERU】代講情報
DESCRIPTION:スタジオ名\n平井スタジオ\n\n\nクラス\nキッズ体操\n\n\n講師名\nyu-ta→KAKERU\n\n\n日付\n4/18(土)\n\n\n時間\n14:10-15:10\n\n\n\n  \n\n\n\nスタジオ名\n平井スタジオ\n\n\nクラス\n体操\n\n\n講師名\nyu-ta→KAKERU\n\n\n日付\n4/18(土)\n\n\n時間\n15:20-16:50\n\n\n\n 
URL:https://quwands.jp/event/5517/
END:VEVENT
BEGIN:VEVENT
DTSTART;VALUE=DATE:20260418
DTEND;VALUE=DATE:20260419
DTSTAMP:20260425T204625
CREATED:20260409T060748Z
LAST-MODIFIED:20260413T051738Z
UID:5538-1776470400-1776556799@quwands.jp
SUMMARY:砂銀Ast 【PASSION】振替情報
DESCRIPTION:スタジオ名\n砂銀Aスタジオ\n\n\nクラス\nJAZZHIPHOP基礎応用\n\n\n講師名\nPASSION\n\n\n日付\n4/18(土)→4/30(木)\n\n\n時間\n19:30-21:00→18:20-19:50\n\n\n\n 
URL:https://quwands.jp/event/5538/
END:VEVENT
BEGIN:VEVENT
DTSTART;VALUE=DATE:20260419
DTEND;VALUE=DATE:20260420
DTSTAMP:20260425T204625
CREATED:20260219T053406Z
LAST-MODIFIED:20260220T052406Z
UID:5196-1776556800-1776643199@quwands.jp
SUMMARY:新小岩st 【Mayong K Sato】振替情報
DESCRIPTION:スタジオ名\n新小岩スタジオ\n\n\nクラス\nKIDS HIPHOP\n\n\n講師名\nMayong K Sato\n\n\n日付\n4/19(日)→3/29(日)\n\n\n時間\n12:30-13:30\n\n\n\n  \n\n\n\nスタジオ名\n新小岩スタジオ\n\n\nクラス\nHIPHOP入門\n\n\n講師名\nMayong K Sato\n\n\n日付\n4/19(日)→3/29(日)\n\n\n時間\n13:40-14:40\n\n\n\n  \n\n\n\nスタジオ名\n新小岩スタジオ\n\n\nクラス\nHIPHOP中級\n\n\n講師名\nMayong K Sato\n\n\n日付\n4/19(日)→3/29(日)\n\n\n時間\n14:50-16:05\n\n\n\n 
URL:https://quwands.jp/event/5196/
END:VEVENT
BEGIN:VEVENT
DTSTART;VALUE=DATE:20260419
DTEND;VALUE=DATE:20260420
DTSTAMP:20260425T204625
CREATED:20260318T090320Z
LAST-MODIFIED:20260318T090320Z
UID:5401-1776556800-1776643199@quwands.jp
SUMMARY:平井st【CHIKA/たまゆず】代講情報
DESCRIPTION:スタジオ名\n平井スタジオ\n\n\nクラス\nリトルキッズダンス\n\n\n講師名\nCHIKA→たまゆず\n\n\n日付\n4/19(日)\n\n\n時間\n13:00-14:00\n\n\n\n  \n\n\n\nスタジオ名\n平井スタジオ\n\n\nクラス\nキッズ体操\n\n\n講師名\nCHIKA→たまゆず\n\n\n日付\n4/19(日)\n\n\n時間\n14:10-15:10\n\n\n\n  \n\n\n\nスタジオ名\n平井スタジオ\n\n\nクラス\n体操\n\n\n講師名\nCHIKA→たまゆず\n\n\n日付\n4/19(日)\n\n\n時間\n15:20-16:50\n\n\n\n 
URL:https://quwands.jp/event/5401/
END:VEVENT
BEGIN:VEVENT
DTSTART;VALUE=DATE:20260419
DTEND;VALUE=DATE:20260420
DTSTAMP:20260425T204625
CREATED:20260407T072145Z
LAST-MODIFIED:20260417T090523Z
UID:5526-1776556800-1776643199@quwands.jp
SUMMARY:大島st 【yu-ta/Sho-hey】代講情報
DESCRIPTION:スタジオ名\n大島スタジオ\n\n\nクラス\nキッズ体操\n\n\n講師名\nyu-ta→Sho-hey\n\n\n日付\n4/19(日)\n\n\n時間\n14:10-15:10\n\n\n\n\n  \n\n\n\nスタジオ名\n大島スタジオ\n\n\nクラス\n体操\n\n\n講師名\nyu-ta→Sho-hey\n\n\n日付\n4/19(日)\n\n\n時間\n15:20-16:20\n\n\n\n\n 
URL:https://quwands.jp/event/5526/
END:VEVENT
BEGIN:VEVENT
DTSTART;VALUE=DATE:20260420
DTEND;VALUE=DATE:20260421
DTSTAMP:20260425T204625
CREATED:20260422T053320Z
LAST-MODIFIED:20260422T053320Z
UID:5652-1776643200-1776729599@quwands.jp
SUMMARY:大島st 【yu-ta/Sho-hey】代講情報
DESCRIPTION:スタジオ名\n大島スタジオ\n\n\nクラス\nキッズ体操\n\n\n講師名\nyu-ta→Sho-hey\n\n\n日付\n4/20(月)\n\n\n時間\n17:10-18:10\n\n\n\n\n  \n\n\n\nスタジオ名\n大島スタジオ\n\n\nクラス\n体操\n\n\n講師名\nyu-ta→Sho-hey\n\n\n日付\n4/20(月)\n\n\n時間\n18:20-19:20\n\n\n\n\n 
URL:https://quwands.jp/event/5652/
END:VEVENT
BEGIN:VEVENT
DTSTART;VALUE=DATE:20260421
DTEND;VALUE=DATE:20260422
DTSTAMP:20260425T204625
CREATED:20260330T095937Z
LAST-MODIFIED:20260401T100629Z
UID:5466-1776729600-1776815999@quwands.jp
SUMMARY:大島st 【HIKARU/cono】代講情報
DESCRIPTION:スタジオ名\n大島スタジオ\n\n\nクラス\nKIDS KPOP\n\n\n講師名\nHIKARU→cono\n\n\n日付\n4/21(火)\n\n\n時間\n17:10-18:10\n\n\n\n\n  \n\n\n\nスタジオ名\n大島スタジオ\n\n\nクラス\nKPOP入門\n\n\n講師名\nHIKARU→cono\n\n\n日付\n4/21(火)\n\n\n時間\n18:20-19:20\n\n\n\n\n  \n\n\n\nスタジオ名\n大島スタジオ\n\n\nクラス\nKPOP中級\n\n\n講師名\nHIKARU→cono\n\n\n日付\n4/21(火)\n\n\n時間\n19:30-20:45\n\n\n\n\n 
URL:https://quwands.jp/event/5466/
END:VEVENT
BEGIN:VEVENT
DTSTART;VALUE=DATE:20260422
DTEND;VALUE=DATE:20260423
DTSTAMP:20260425T204625
CREATED:20260330T095506Z
LAST-MODIFIED:20260330T095541Z
UID:5460-1776816000-1776902399@quwands.jp
SUMMARY:大島st 【yuine】振替情報
DESCRIPTION:スタジオ名\n大島スタジオ\n\n\nクラス\nKIDS JAZZ\n\n\n講師名\nyuine\n\n\n日付\n4/22(水)→4/29(水)\n\n\n時間\n17:00-18:00\n\n\n\n\n 
URL:https://quwands.jp/event/5460/
END:VEVENT
BEGIN:VEVENT
DTSTART;VALUE=DATE:20260422
DTEND;VALUE=DATE:20260423
DTSTAMP:20260425T204625
CREATED:20260424T062506Z
LAST-MODIFIED:20260424T062506Z
UID:5673-1776816000-1776902399@quwands.jp
SUMMARY:新小岩st【Airi/Sho-hey/Rino】代講情報
DESCRIPTION:スタジオ名\n新小岩スタジオ\n\n\nクラス\nKIDS HIPHOP\n\n\n講師名\nAiri→Sho-hey\n\n\n日付\n4/22(水)\n\n\n時間\n17:10-18:10\n\n\n\n  \n\n\n\nスタジオ名\n新小岩スタジオ\n\n\nクラス\nHIPHOP入門\n\n\n講師名\nAiri→Sho-hey\n\n\n日付\n4/22(水)\n\n\n時間\n18:20-19:20\n\n\n\n  \n\n\n\nスタジオ名\n新小岩スタジオ\n\n\nクラス\nHIPHOP中級\n\n\n講師名\nAiri→Rino\n\n\n日付\n4/22(水)\n\n\n時間\n19:30-20:45
URL:https://quwands.jp/event/5673/
END:VEVENT
BEGIN:VEVENT
DTSTART;VALUE=DATE:20260423
DTEND;VALUE=DATE:20260424
DTSTAMP:20260425T204625
CREATED:20260326T034140Z
LAST-MODIFIED:20260326T034140Z
UID:5418-1776902400-1776988799@quwands.jp
SUMMARY:平井st【舞】振替情報
DESCRIPTION:スタジオ名\n平井スタジオ\n\n\nクラス\nKIDS K-POP\n\n\n講師名\n舞\n\n\n日付\n4/23(木)→4/30(木)\n\n\n時間\n17:10-18:10\n\n\n\n  \n\n\n\nスタジオ名\n平井スタジオ\n\n\nクラス\nK-POP入門\n\n\n講師名\n舞\n\n\n日付\n4/23(木)→4/30(木)\n\n\n時間\n18:20-19:20\n\n\n\n  \n\n\n\nスタジオ名\n平井スタジオ\n\n\nクラス\nK-POP中級\n\n\n講師名\n舞\n\n\n日付\n4/23(木)→4/30(木)\n\n\n時間\n19:30-20:45\n\n\n\n 
URL:https://quwands.jp/event/5418/
END:VEVENT
BEGIN:VEVENT
DTSTART;VALUE=DATE:20260423
DTEND;VALUE=DATE:20260424
DTSTAMP:20260425T204625
CREATED:20260417T065327Z
LAST-MODIFIED:20260417T065327Z
UID:5610-1776902400-1776988799@quwands.jp
SUMMARY:砂銀Bst 【Lón】休講情報
DESCRIPTION:スタジオ名\n砂銀Bスタジオ\n\n\nクラス\nブレイキン\n\n\n講師名\nLón\n\n\n日付\n4/23(木)\n\n\n時間\n19:40-20:55\n\n\n\n  \n 
URL:https://quwands.jp/event/5610/
END:VEVENT
BEGIN:VEVENT
DTSTART;VALUE=DATE:20260423
DTEND;VALUE=DATE:20260424
DTSTAMP:20260425T204625
CREATED:20260421T091305Z
LAST-MODIFIED:20260421T092311Z
UID:5623-1776902400-1776988799@quwands.jp
SUMMARY:砂銀Bst 【Satodai/MINORI/yu-ta】代講情報
DESCRIPTION:スタジオ名\n砂銀Bスタジオ\n\n\nクラス\nジュニア体操\n\n\n講師名\nSatodai→MINORI\n\n\n日付\n4/23(木)\n\n\n時間\n17:10-18:10\n\n\n\n  \n\n\n\nスタジオ名\n砂銀Bスタジオ\n\n\nクラス\n体操\n\n\n講師名\nSatodai→yu-ta\n\n\n日付\n4/23(木)\n\n\n時間\n18:20-19:20\n\n\n\n\n 
URL:https://quwands.jp/event/5623/
END:VEVENT
BEGIN:VEVENT
DTSTART;VALUE=DATE:20260424
DTEND;VALUE=DATE:20260425
DTSTAMP:20260425T204625
CREATED:20260402T040010Z
LAST-MODIFIED:20260413T051951Z
UID:5504-1776988800-1777075199@quwands.jp
SUMMARY:砂銀Ast 【Shark Miho/Yurica】代講情報
DESCRIPTION:スタジオ名\n砂銀Aスタジオ\n\n\nクラス\nJAZZFUNK入門\n\n\n講師名\nShark Miho→Yurica\n\n\n日付\n4/24(金)\n\n\n時間\n18:20-19:20\n\n\n\n  \n\n\n\nスタジオ名\n砂銀Aスタジオ\n\n\nクラス\nJAZZFUNK中級\n\n\n講師名\nShark Miho→Yurica\n\n\n日付\n4/24(金)\n\n\n時間\n19:30-20:45\n\n\n\n 
URL:https://quwands.jp/event/5504/
END:VEVENT
BEGIN:VEVENT
DTSTART;VALUE=DATE:20260425
DTEND;VALUE=DATE:20260426
DTSTAMP:20260425T204625
CREATED:20260326T051308Z
LAST-MODIFIED:20260326T051507Z
UID:5436-1777075200-1777161599@quwands.jp
SUMMARY:砂銀Ast 【Mayong K Sato】振替情報
DESCRIPTION:スタジオ名\n砂銀Aスタジオ\n\n\nクラス\nKIDS HIPHOP\n\n\n講師名\nMayong K Sato\n\n\n日付\n4/25(土)→5/30(土)\n\n\n時間\n13:00-14:00\n\n\n\n  \n\n\n\nスタジオ名\n砂銀Aスタジオ\n\n\nクラス\nHIPHOP入門\n\n\n講師名\nMayong K Sato\n\n\n日付\n4/25(土)→5/30(土)\n\n\n時間\n14:10-15:10\n\n\n\n  \n\n\n\nスタジオ名\n砂銀Aスタジオ\n\n\nクラス\nHIPHOP応用\n\n\n講師名\nMayong K Sato\n\n\n日付\n4/25(土)→5/30(土)\n\n\n時間\n15:20-16:50\n\n\n\n  \n\n\n\nスタジオ名\n砂銀Aスタジオ\n\n\nクラス\n大人超初級DANCE\n\n\n講師名\nMayong K Sato\n\n\n日付\n4/25(土)→5/30(土)\n\n\n時間\n17:10-18:10\n\n\n\n 
URL:https://quwands.jp/event/5436/
END:VEVENT
BEGIN:VEVENT
DTSTART;VALUE=DATE:20260425
DTEND;VALUE=DATE:20260426
DTSTAMP:20260425T204625
CREATED:20260409T061406Z
LAST-MODIFIED:20260409T061406Z
UID:5544-1777075200-1777161599@quwands.jp
SUMMARY:大島st 【Genki】振替情報
DESCRIPTION:スタジオ名\n大島スタジオ\n\n\nクラス\nHIPHOP応用\n\n\n講師名\nGenki\n\n\n日付\n3/28(土)→4/25(土)\n\n\n時間\n16:30-18:00\n\n\n\n\n 
URL:https://quwands.jp/event/5544/
END:VEVENT
BEGIN:VEVENT
DTSTART;VALUE=DATE:20260426
DTEND;VALUE=DATE:20260427
DTSTAMP:20260425T204625
CREATED:20260326T052421Z
LAST-MODIFIED:20260326T052604Z
UID:5443-1777161600-1777247999@quwands.jp
SUMMARY:新小岩st 【Mayong K Sato】振替情報
DESCRIPTION:スタジオ名\n新小岩スタジオ\n\n\nクラス\nKIDS HIPHOP\n\n\n講師名\nMayong K Sato\n\n\n日付\n4/26(日)→5/31(日)\n\n\n時間\n12:30-13:30\n\n\n\n  \n\n\n\nスタジオ名\n新小岩スタジオ\n\n\nクラス\nKIDS HIPHOP\n\n\n講師名\nMayong K Sato\n\n\n日付\n4/26(日)→5/31(日)\n\n\n時間\n13:40-14:40\n\n\n\n  \n\n\n\nスタジオ名\n新小岩スタジオ\n\n\nクラス\nKIDS HIPHOP\n\n\n講師名\nMayong K Sato\n\n\n日付\n4/26(日)→5/31(日)\n\n\n時間\n14:50-16:05\n\n\n\n 
URL:https://quwands.jp/event/5443/
END:VEVENT
BEGIN:VEVENT
DTSTART;VALUE=DATE:20260428
DTEND;VALUE=DATE:20260429
DTSTAMP:20260425T204625
CREATED:20260330T100025Z
LAST-MODIFIED:20260422T051950Z
UID:5469-1777334400-1777420799@quwands.jp
SUMMARY:大島st 【HIKARU】振替情報
DESCRIPTION:スタジオ名\n大島スタジオ\n\n\nクラス\nKIDS KPOP\n\n\n講師名\nHIKARU\n\n\n日付\n4/28(火)→6/30(火)\n\n\n時間\n17:10-18:10\n\n\n\n\n  \n\n\n\nスタジオ名\n大島スタジオ\n\n\nクラス\nKPOP入門\n\n\n講師名\nHIKARU\n\n\n日付\n4/28(火)→6/30(火)\n\n\n時間\n18:20-19:20\n\n\n\n\n  \n\n\n\nスタジオ名\n大島スタジオ\n\n\nクラス\nKPOP中級\n\n\n講師名\nHIKARU\n\n\n日付\n4/28(火)→6/30(火)\n\n\n時間\n19:30-20:45\n\n\n\n\n 
URL:https://quwands.jp/event/5469/
END:VEVENT
BEGIN:VEVENT
DTSTART;VALUE=DATE:20260429
DTEND;VALUE=DATE:20260430
DTSTAMP:20260425T204625
CREATED:20260219T052500Z
LAST-MODIFIED:20260220T051945Z
UID:5189-1777420800-1777507199@quwands.jp
SUMMARY:砂銀Ast 【Mayong K Sato】振替情報
DESCRIPTION:スタジオ名\n砂銀Aスタジオ\n\n\nクラス\nKIDS HIPHOP\n\n\n講師名\nMayong K Sato\n\n\n日付\n4/18(土)→4/29(水・祝)\n\n\n時間\n13:00-14:00\n\n\n\n  \n\n\n\nスタジオ名\n砂銀Aスタジオ\n\n\nクラス\nHIPHOP入門\n\n\n講師名\nMayong K Sato\n\n\n日付\n4/18(土)→4/29(水・祝)\n\n\n時間\n14:10-15:10\n\n\n\n  \n\n\n\nスタジオ名\n砂銀Aスタジオ\n\n\nクラス\nHIPHOP応用\n\n\n講師名\nMayong K Sato\n\n\n日付\n4/18(土)→4/29(水・祝)\n\n\n時間\n15:20-16:50\n\n\n\n 
URL:https://quwands.jp/event/5189/
END:VEVENT
BEGIN:VEVENT
DTSTART;VALUE=DATE:20260429
DTEND;VALUE=DATE:20260430
DTSTAMP:20260425T204625
CREATED:20260318T085245Z
LAST-MODIFIED:20260318T085303Z
UID:5392-1777420800-1777507199@quwands.jp
SUMMARY:平井st【CHIKA】振替情報
DESCRIPTION:スタジオ名\n平井スタジオ\n\n\nクラス\nキッズ体操\n\n\n講師名\nCHIKA\n\n\n日付\n4/1(水)→4/29(水)\n\n\n時間\n16:40-17:40\n\n\n\n  \n\n\n\nスタジオ名\n平井スタジオ\n\n\nクラス\n体操\n\n\n講師名\nCHIKA\n\n\n日付\n4/1(水)→4/29(水)\n\n\n時間\n17:50-19:20\n\n\n\n 
URL:https://quwands.jp/event/5392/
END:VEVENT
BEGIN:VEVENT
DTSTART;VALUE=DATE:20260429
DTEND;VALUE=DATE:20260430
DTSTAMP:20260425T204625
CREATED:20260330T095601Z
LAST-MODIFIED:20260330T095601Z
UID:5463-1777420800-1777507199@quwands.jp
SUMMARY:大島st 【yuine】振替情報
DESCRIPTION:スタジオ名\n大島スタジオ\n\n\nクラス\nKIDS JAZZ\n\n\n講師名\nyuine\n\n\n日付\n4/22(水)→4/29(水)\n\n\n時間\n17:00-18:00\n\n\n\n\n 
URL:https://quwands.jp/event/5463/
END:VEVENT
BEGIN:VEVENT
DTSTART;VALUE=DATE:20260429
DTEND;VALUE=DATE:20260430
DTSTAMP:20260425T204625
CREATED:20260401T050652Z
LAST-MODIFIED:20260401T050652Z
UID:5478-1777420800-1777507199@quwands.jp
SUMMARY:新小岩st【Airi】振替情報
DESCRIPTION:スタジオ名\n新小岩スタジオ\n\n\nクラス\nKIDS HIPHOP\n\n\n講師名\nAiri\n\n\n日付\n4/1(水)→4/29(水)\n\n\n時間\n17:10-18:10\n\n\n\n  \n\n\n\nスタジオ名\n新小岩スタジオ\n\n\nクラス\nHIPHOP入門\n\n\n講師名\nAiri\n\n\n日付\n4/1(水)→4/29(水)\n\n\n時間\n18:20-19:20\n\n\n\n  \n\n\n\nスタジオ名\n新小岩スタジオ\n\n\nクラス\nHIPHOP中級\n\n\n講師名\nAiri\n\n\n日付\n4/1(水)→4/29(水)\n\n\n時間\n19:30-20:45\n\n\n\n 
URL:https://quwands.jp/event/5478/
END:VEVENT
BEGIN:VEVENT
DTSTART;VALUE=DATE:20260429
DTEND;VALUE=DATE:20260430
DTSTAMP:20260425T204625
CREATED:20260417T065114Z
LAST-MODIFIED:20260422T052433Z
UID:5606-1777420800-1777507199@quwands.jp
SUMMARY:砂銀Bst 【kanae】振替情報
DESCRIPTION:スタジオ名\n砂銀Bスタジオ\n\n\nクラス\nリトルキッズK-POP\n\n\n講師名\nkanae\n\n\n日付\n4/15(水)→4/29(水)\n\n\n時間\n16:00-17:00→11:50-12:50\n\n\n\n  \n\n\n\nスタジオ名\n砂銀Bスタジオ\n\n\nクラス\nKIDS K-POP\n\n\n講師名\nkanae\n\n\n日付\n4/15(水)→4/29(水)\n\n\n時間\n17:10-18:10→13:00-14:00\n\n\n\n  \n\n\n\nスタジオ名\n砂銀Bスタジオ\n\n\nクラス\nBOYS K-POP入門\n\n\n講師名\nkanae\n\n\n日付\n4/15(水)→4/29(水)\n\n\n時間\n18:20-19:20→14:10-15:10\n\n\n\n  \n\n\n\nスタジオ名\n砂銀Bスタジオ\n\n\nクラス\nBOYS K-POP応用\n\n\n講師名\nkanae\n\n\n日付\n4/15(水)→4/29(水)\n\n\n時間\n19:30-21:00→15:20-16:50
URL:https://quwands.jp/event/5606/
END:VEVENT
BEGIN:VEVENT
DTSTART;VALUE=DATE:20260430
DTEND;VALUE=DATE:20260501
DTSTAMP:20260425T204625
CREATED:20260306T072149Z
LAST-MODIFIED:20260306T072149Z
UID:5324-1777507200-1777593599@quwands.jp
SUMMARY:新小岩st 【Reira】振替情報
DESCRIPTION:スタジオ名\n新小岩スタジオ\n\n\nクラス\nKIDS JAZZ\n\n\n講師名\nReira\n\n\n日付\n4/2(木)→4/30(木)\n\n\n時間\n17:10-18:10\n\n\n\n  \n\n\n\nスタジオ名\n新小岩スタジオ\n\n\nクラス\nJAZZ入門\n\n\n講師名\nReira\n\n\n日付\n4/2(木)→4/30(木)\n\n\n時間\n18:20-19:20\n\n\n\n  \n\n\n\nスタジオ名\n新小岩スタジオ\n\n\nクラス\nJAZZ中級\n\n\n講師名\nReira\n\n\n日付\n4/2(木)→4/30(木)\n\n\n時間\n19:30-20:45
URL:https://quwands.jp/event/5324/
END:VEVENT
BEGIN:VEVENT
DTSTART;VALUE=DATE:20260430
DTEND;VALUE=DATE:20260501
DTSTAMP:20260425T204625
CREATED:20260326T034201Z
LAST-MODIFIED:20260326T034201Z
UID:5421-1777507200-1777593599@quwands.jp
SUMMARY:平井st【舞】振替情報
DESCRIPTION:スタジオ名\n平井スタジオ\n\n\nクラス\nKIDS K-POP\n\n\n講師名\n舞\n\n\n日付\n4/23(木)→4/30(木)\n\n\n時間\n17:10-18:10\n\n\n\n  \n\n\n\nスタジオ名\n平井スタジオ\n\n\nクラス\nK-POP入門\n\n\n講師名\n舞\n\n\n日付\n4/23(木)→4/30(木)\n\n\n時間\n18:20-19:20\n\n\n\n  \n\n\n\nスタジオ名\n平井スタジオ\n\n\nクラス\nK-POP中級\n\n\n講師名\n舞\n\n\n日付\n4/23(木)→4/30(木)\n\n\n時間\n19:30-20:45\n\n\n\n 
URL:https://quwands.jp/event/5421/
END:VEVENT
BEGIN:VEVENT
DTSTART;VALUE=DATE:20260430
DTEND;VALUE=DATE:20260501
DTSTAMP:20260425T204625
CREATED:20260409T060909Z
LAST-MODIFIED:20260409T060909Z
UID:5541-1777507200-1777593599@quwands.jp
SUMMARY:砂銀Ast 【PASSION】振替情報
DESCRIPTION:スタジオ名\n砂銀Aスタジオ\n\n\nクラス\nJAZZHIPHOP基礎応用\n\n\n講師名\nPASSION\n\n\n日付\n4/18(土)→4/30(木)\n\n\n時間\n19:30-21:00→18:20-19:50\n\n\n\n 
URL:https://quwands.jp/event/5541/
END:VEVENT
BEGIN:VEVENT
DTSTART;VALUE=DATE:20260501
DTEND;VALUE=DATE:20260502
DTSTAMP:20260425T204625
CREATED:20260424T055548Z
LAST-MODIFIED:20260424T055548Z
UID:5659-1777593600-1777679999@quwands.jp
SUMMARY:大島Bst【Hana* 】振替情報
DESCRIPTION:スタジオ名\n大島Bスタジオ\n\n\nクラス\nKIDS HIPHOP\n\n\n講師名\nHana* \n\n\n日付\n5/1(金)→5/29(金)\n\n\n時間\n17:10-18:10\n\n\n\n  \n\n\n\nスタジオ名\n大島Bスタジオ\n\n\nクラス\nHIPHOP入門 \n\n\n講師名\nHana* \n\n\n日付\n5/1(金)→5/29(金)\n\n\n時間\n18:20-19:20\n\n\n\n  \n\n\n\nスタジオ名\n大島Bスタジオ\n\n\nクラス\nHIPHOP応用 \n\n\n講師名\nHana* \n\n\n日付\n5/1(金)→5/29(金)\n\n\n時間\n19:30-21:00\n\n\n\n 
URL:https://quwands.jp/event/5659/
END:VEVENT
END:VCALENDAR