BEGIN:VCALENDAR
VERSION:2.0
PRODID:-//QUWANDS - ECPv6.10.2//NONSGML v1.0//EN
CALSCALE:GREGORIAN
METHOD:PUBLISH
X-WR-CALNAME:QUWANDS
X-ORIGINAL-URL:https://quwands.jp
X-WR-CALDESC:QUWANDS のイベント
REFRESH-INTERVAL;VALUE=DURATION:PT1H
X-Robots-Tag:noindex
X-PUBLISHED-TTL:PT1H
BEGIN:VTIMEZONE
TZID:Asia/Tokyo
BEGIN:STANDARD
TZOFFSETFROM:+0900
TZOFFSETTO:+0900
TZNAME:JST
DTSTART:20250101T000000
END:STANDARD
END:VTIMEZONE
BEGIN:VEVENT
DTSTART;VALUE=DATE:20251120
DTEND;VALUE=DATE:20251121
DTSTAMP:20260426T005850
CREATED:20251112T100744Z
LAST-MODIFIED:20251125T062208Z
UID:4451-1763596800-1763683199@quwands.jp
SUMMARY:砂銀Bst 【MINORI/Sho-hey】代講情報
DESCRIPTION:スタジオ名\n砂銀Aスタジオ→砂銀Bスタジオ\n\n\nクラス\nリトルキッズ体操\n\n\n講師名\nMINORI→Sho-hey\n\n\n日付\n11/20(木)\n\n\n時間\n16:00-17:00\n\n\n\n 
URL:https://quwands.jp/event/4451/
END:VEVENT
BEGIN:VEVENT
DTSTART;VALUE=DATE:20251120
DTEND;VALUE=DATE:20251121
DTSTAMP:20260426T005850
CREATED:20251022T054917Z
LAST-MODIFIED:20251128T050713Z
UID:4259-1763596800-1763683199@quwands.jp
SUMMARY:砂銀Ast 【舞/kanae】代講情報
DESCRIPTION:スタジオ名\n砂銀Aスタジオ\n\n\nクラス\nKIDS KPOP\n\n\n講師名\n舞→kanae\n\n\n日付\n11/20(木)\n\n\n時間\n17:10-18:10\n\n\n\n  \n\n\n\nスタジオ名\n砂銀Aスタジオ\n\n\nクラス\nKPOP入門\n\n\n講師名\n舞→kanae\n\n\n日付\n11/20(木)\n\n\n時間\n18:20-19:20\n\n\n\n 
URL:https://quwands.jp/event/4259/
END:VEVENT
BEGIN:VEVENT
DTSTART;VALUE=DATE:20251120
DTEND;VALUE=DATE:20251121
DTSTAMP:20260426T005850
CREATED:20251120T061739Z
LAST-MODIFIED:20251120T061747Z
UID:4521-1763596800-1763683199@quwands.jp
SUMMARY:砂銀Bst【Lón/newsteelo】代講情報
DESCRIPTION:スタジオ名\n砂銀Bスタジオ\n\n\nクラス\nブレイキン\n\n\n講師名\nLón→newsteelo\n\n\n日付\n11/20(木)\n\n\n時間\n19:40-20:55\n\n\n\n 
URL:https://quwands.jp/event/4521/
END:VEVENT
BEGIN:VEVENT
DTSTART;VALUE=DATE:20251119
DTEND;VALUE=DATE:20251120
DTSTAMP:20260426T005850
CREATED:20251030T093106Z
LAST-MODIFIED:20251125T062136Z
UID:4381-1763510400-1763596799@quwands.jp
SUMMARY:平井st 【YUKO】休講情報
DESCRIPTION:スタジオ名\n平井スタジオ\n\n\nクラス\nヨガ\n\n\n講師名\nYUKO\n\n\n日付\n休講\n\n\n時間\n20:00-21:00\n\n\n\n 
URL:https://quwands.jp/event/4381/
END:VEVENT
BEGIN:VEVENT
DTSTART;VALUE=DATE:20251119
DTEND;VALUE=DATE:20251120
DTSTAMP:20260426T005850
CREATED:20251029T063456Z
LAST-MODIFIED:20251030T093757Z
UID:4330-1763510400-1763596799@quwands.jp
SUMMARY:大島st 【優美香/Luka】代講情報
DESCRIPTION:スタジオ名\n大島スタジオ\n\n\nクラス\nJAZZ入門\n\n\n講師名\n優美香→Luka\n\n\n日付\n11/19(水)\n\n\n時間\n18:20-19:20\n\n\n\n  \n\n\n\nスタジオ名\n大島スタジオ\n\n\nクラス\nJAZZ中級\n\n\n講師名\n優美香→Luka\n\n\n日付\n11/19(水)\n\n\n時間\n19:30-21:00\n\n\n\n 
URL:https://quwands.jp/event/4330/
END:VEVENT
BEGIN:VEVENT
DTSTART;VALUE=DATE:20251115
DTEND;VALUE=DATE:20251116
DTSTAMP:20260426T005850
CREATED:20251114T092812Z
LAST-MODIFIED:20251117T054711Z
UID:4482-1763164800-1763251199@quwands.jp
SUMMARY:大島st 【Genki】休講情報
DESCRIPTION:スタジオ名\n大島スタジオ\n\n\nクラス\nKIDS HIPHOP\n\n\n講師名\nGenki\n\n\n日付\n11/15(土)\n\n\n時間\n14:10-15:10\n\n\n\n  \n\n\n\nスタジオ名\n大島スタジオ\n\n\nクラス\nHIPHOP入門\n\n\n講師名\nGenki\n\n\n日付\n11/15(土)\n\n\n時間\n15:20-16:20\n\n\n\n  \n\n\n\nスタジオ名\n大島スタジオ\n\n\nクラス\nHIPHOP応用\n\n\n講師名\nGenki\n\n\n日付\n11/15(土)\n\n\n時間\n16:30-18:00\n\n\n\n 
URL:https://quwands.jp/event/4482/
END:VEVENT
BEGIN:VEVENT
DTSTART;VALUE=DATE:20251115
DTEND;VALUE=DATE:20251116
DTSTAMP:20260426T005850
CREATED:20251010T064517Z
LAST-MODIFIED:20251226T075848Z
UID:4188-1763164800-1763251199@quwands.jp
SUMMARY:砂銀Ast【PASSION】振替情報
DESCRIPTION:スタジオ名\n砂銀Aスタジオ\n\n\nクラス\nJAZZHIPHOP基礎応用\n\n\n講師名\nPASSION\n\n\n日付\n11/15(土)→12/29(月)\n\n\n時間\n19:30-21:00→17:00-18:30\n\n\n\n 
URL:https://quwands.jp/event/4188/
END:VEVENT
BEGIN:VEVENT
DTSTART;VALUE=DATE:20251115
DTEND;VALUE=DATE:20251116
DTSTAMP:20260426T005850
CREATED:20251024T062532Z
LAST-MODIFIED:20251024T062532Z
UID:4303-1763164800-1763251199@quwands.jp
SUMMARY:砂銀Ast 【Mayong K Sato】振替情報
DESCRIPTION:スタジオ名\n砂銀Aスタジオ\n\n\nクラス\n大人超初級ダンス\n\n\n講師名\nMayong K Sato\n\n\n日付\n12/20(土)→11/15(土)\n\n\n時間\n17:10-18:10→18:10-19:10
URL:https://quwands.jp/event/4303/
END:VEVENT
BEGIN:VEVENT
DTSTART;VALUE=DATE:20251113
DTEND;VALUE=DATE:20251114
DTSTAMP:20260426T005850
CREATED:20251114T110442Z
LAST-MODIFIED:20251120T060720Z
UID:4495-1762992000-1763078399@quwands.jp
SUMMARY:砂銀Bst 【CHIKA/Satodai】代講情報
DESCRIPTION:  \n\n\n\nスタジオ名\n砂銀Bスタジオ\n\n\nクラス\nキッズ体操\n\n\n講師名\nCHIKA→Satodai\n\n\n日付\n11/13(木)\n\n\n時間\n16:00-17:00\n\n\n\n 
URL:https://quwands.jp/event/4495/
END:VEVENT
BEGIN:VEVENT
DTSTART;VALUE=DATE:20251113
DTEND;VALUE=DATE:20251114
DTSTAMP:20260426T005850
CREATED:20251114T110247Z
LAST-MODIFIED:20251114T110321Z
UID:4492-1762992000-1763078399@quwands.jp
SUMMARY:大島st 【yu-ta/CHIKA】代講情報
DESCRIPTION:  \n\n\n\nスタジオ名\n大島スタジオ\n\n\nクラス\nキッズ体操\n\n\n講師名\nyu-ta→CHIKA\n\n\n日付\n11/13(木)\n\n\n時間\n16:00-17:00\n\n\n\n  \n\n\n\nスタジオ名\n大島スタジオ\n\n\nクラス\n体操\n\n\n講師名\nyu-ta→CHIKA\n\n\n日付\n11/13(木)\n\n\n時間\n17:10-18:10
URL:https://quwands.jp/event/4492/
END:VEVENT
BEGIN:VEVENT
DTSTART;VALUE=DATE:20251112
DTEND;VALUE=DATE:20251113
DTSTAMP:20260426T005850
CREATED:20251114T110118Z
LAST-MODIFIED:20251114T110118Z
UID:4490-1762905600-1762991999@quwands.jp
SUMMARY:大島st 【Genki/Yuina】代講情報
DESCRIPTION:  \n\n\n\nスタジオ名\n大島スタジオ\n\n\nクラス\nHIPHOP中級\n\n\n講師名\nGenki→Yuina\n\n\n日付\n11/12(水)\n\n\n時間\n19:30-20:45\n\n\n\n 
URL:https://quwands.jp/event/4490/
END:VEVENT
BEGIN:VEVENT
DTSTART;VALUE=DATE:20251112
DTEND;VALUE=DATE:20251113
DTSTAMP:20260426T005850
CREATED:20251029T064124Z
LAST-MODIFIED:20251030T093718Z
UID:4334-1762905600-1762991999@quwands.jp
SUMMARY:大島st 【優美香/Luka】代講情報
DESCRIPTION:スタジオ名\n大島スタジオ\n\n\nクラス\nJAZZ入門\n\n\n講師名\n優美香→Luka\n\n\n日付\n11/12(水)\n\n\n時間\n18:20-19:20\n\n\n\n  \n\n\n\nスタジオ名\n大島スタジオ\n\n\nクラス\nJAZZ中級\n\n\n講師名\n優美香→Luka\n\n\n日付\n11/12(水)\n\n\n時間\n19:30-21:00\n\n\n\n 
URL:https://quwands.jp/event/4334/
END:VEVENT
BEGIN:VEVENT
DTSTART;VALUE=DATE:20251111
DTEND;VALUE=DATE:20251112
DTSTAMP:20260426T005850
CREATED:20251127T055051Z
LAST-MODIFIED:20251127T055051Z
UID:4588-1762819200-1762905599@quwands.jp
SUMMARY:砂銀Ast【KYOKA/Shark Miho】代講情報
DESCRIPTION:スタジオ名\n砂銀Aスタジオ\n\n\nクラス\nKIDS HIPHOP \n\n\n講師名\nKYOKA→Shark Miho\n\n\n日付\n11/11(火)\n\n\n時間\n17:10-18:10\n\n\n\n  \n\n\n\nスタジオ名\n砂銀Aスタジオ\n\n\nクラス\nHIPHOP入門\n\n\n講師名\nKYOKA→Shark Miho\n\n\n日付\n11/11(火)\n\n\n時間\n18:20-19:20\n\n\n\n  \n\n\n\nスタジオ名\n砂銀Aスタジオ\n\n\nクラス\nHIPHOP中級\n\n\n講師名\nKYOKA→Shark Miho\n\n\n日付\n11/11(火)\n\n\n時間\n19:30-20:45
URL:https://quwands.jp/event/4588/
END:VEVENT
BEGIN:VEVENT
DTSTART;TZID=Asia/Tokyo:20251108T000000
DTEND;TZID=Asia/Tokyo:20251108T235900
DTSTAMP:20260426T005850
CREATED:20251107T065405Z
LAST-MODIFIED:20251112T104400Z
UID:4427-1762560000-1762646340@quwands.jp
SUMMARY:大島st 【Genki/Tetsuro】代講情報
DESCRIPTION:スタジオ名\n大島スタジオ\n\n\nクラス\nKIDS HIPHOP\n\n\n講師名\nGenki→Tetsuro\n\n\n日付\n11/8(土)\n\n\n時間\n14:10-15:10\n\n\n\n  \n\n\n\nスタジオ名\n大島スタジオ\n\n\nクラス\nHIPHOP入門\n\n\n講師名\nGenki→Tetsuro\n\n\n日付\n11/8(土)\n\n\n時間\n15:20-16:20\n\n\n\n  \n\n\n\nスタジオ名\n大島スタジオ\n\n\nクラス\nHHIPHOP応用\n\n\n講師名\nGenki→Tetsuro\n\n\n日付\n11/8(土)\n\n\n時間\n16:30-18:00
URL:https://quwands.jp/event/4427/
END:VEVENT
BEGIN:VEVENT
DTSTART;VALUE=DATE:20251106
DTEND;VALUE=DATE:20251107
DTSTAMP:20260426T005850
CREATED:20251022T054559Z
LAST-MODIFIED:20251022T054559Z
UID:4257-1762387200-1762473599@quwands.jp
SUMMARY:砂銀Ast【mana/MINORI】代講情報
DESCRIPTION:スタジオ名\n砂銀Aスタジオ\n\n\nクラス\nリトルキッズダンス\n\n\n講師名\nmana→MINORI\n\n\n日付\n11/6(木)\n\n\n時間\n17:10-18:10\n\n\n\n  \n  \n 
URL:https://quwands.jp/event/4257/
END:VEVENT
BEGIN:VEVENT
DTSTART;VALUE=DATE:20251105
DTEND;VALUE=DATE:20251106
DTSTAMP:20260426T005850
CREATED:20251029T063215Z
LAST-MODIFIED:20251030T093628Z
UID:4327-1762300800-1762387199@quwands.jp
SUMMARY:大島st 【優美香/Luka】代講情報
DESCRIPTION:スタジオ名\n大島スタジオ\n\n\nクラス\nJAZZ入門\n\n\n講師名\n優美香→Luka\n\n\n日付\n11/5(水)\n\n\n時間\n18:20-19:20\n\n\n\n  \n\n\n\nスタジオ名\n大島スタジオ\n\n\nクラス\nJAZZ中級\n\n\n講師名\n優美香→Luka\n\n\n日付\n11/5(水)\n\n\n時間\n19:30-21:00\n\n\n\n 
URL:https://quwands.jp/event/4327/
END:VEVENT
BEGIN:VEVENT
DTSTART;VALUE=DATE:20251105
DTEND;VALUE=DATE:20251106
DTSTAMP:20260426T005850
CREATED:20251024T062158Z
LAST-MODIFIED:20251024T062158Z
UID:4299-1762300800-1762387199@quwands.jp
SUMMARY:砂銀Ast【Genki】クラス振替情報
DESCRIPTION:スタジオ名\n砂銀Aスタジオ\n\n\nクラス\nHIPHOP中級\n\n\n講師名\nGenki\n\n\n日付\n11/5(水)→10/29(水)\n\n\n時間\n19:30-20:45\n\n\n\n 
URL:https://quwands.jp/event/4299/
END:VEVENT
BEGIN:VEVENT
DTSTART;VALUE=DATE:20251104
DTEND;VALUE=DATE:20251105
DTSTAMP:20260426T005850
CREATED:20251114T101412Z
LAST-MODIFIED:20251114T101412Z
UID:4484-1762214400-1762300799@quwands.jp
SUMMARY:砂銀Ast 【SATOKO】休講情報
DESCRIPTION:  \n\n\n\nスタジオ名\n砂銀Aスタジオ\n\n\nクラス\nヨガ \n\n\n講師名\nSATOKO\n\n\n日付\n11/4(火)\n\n\n時間\n10:00-11:00\n\n\n\n 
URL:https://quwands.jp/event/4484/
END:VEVENT
BEGIN:VEVENT
DTSTART;VALUE=DATE:20251104
DTEND;VALUE=DATE:20251105
DTSTAMP:20260426T005850
CREATED:20251107T070624Z
LAST-MODIFIED:20251107T070624Z
UID:4439-1762214400-1762300799@quwands.jp
SUMMARY:新小岩st【Airi】休講情報
DESCRIPTION:スタジオ名\n新小岩スタジオ\n\n\nクラス\nKIDS HIPHOP\n\n\n講師名\nAiri\n\n\n日付\n11/4(火)\n\n\n時間\n17:10-18:10\n\n\n\n  \n\n\n\nスタジオ名\n新小岩スタジオ\n\n\nクラス\nHIPHOP入門\n\n\n講師名\nAiri\n\n\n日付\n11/4(火)\n\n\n時間\n18:20-19:20\n\n\n\n  \n\n\n\nスタジオ名\n新小岩スタジオ\n\n\nクラス\nHIPHOP中級\n\n\n講師名\nAiri\n\n\n日付\n11/4(火)\n\n\n時間\n19:30-20:45
URL:https://quwands.jp/event/4439/
END:VEVENT
BEGIN:VEVENT
DTSTART;VALUE=DATE:20251104
DTEND;VALUE=DATE:20251105
DTSTAMP:20260426T005850
CREATED:20250917T052741Z
LAST-MODIFIED:20250917T052741Z
UID:4024-1762214400-1762300799@quwands.jp
SUMMARY:大島st 【HIKARU/cono】代講情報
DESCRIPTION:スタジオ名\n大島スタジオ\n\n\nクラス\nKIDS KPOP\n\n\n講師名\nHIKARU→cono\n\n\n日付\n11/4(火)\n\n\n時間\n17:10-18:10\n\n\n\n  \n\n\n\nスタジオ名\n大島スタジオ\n\n\nクラス\nKPOP入門\n\n\n講師名\nHIKARU→cono\n\n\n日付\n11/4(火)\n\n\n時間\n18:20-19:20\n\n\n\n  \n\n\n\nスタジオ名\n大島スタジオ\n\n\nクラス\nKPOP応用\n\n\n講師名\nHIKARU→cono\n\n\n日付\n11/4(火)\n\n\n時間\n19:30-21:00
URL:https://quwands.jp/event/4024/
END:VEVENT
BEGIN:VEVENT
DTSTART;VALUE=DATE:20251103
DTEND;VALUE=DATE:20251104
DTSTAMP:20260426T005850
CREATED:20251107T065937Z
LAST-MODIFIED:20251107T065937Z
UID:4433-1762128000-1762214399@quwands.jp
SUMMARY:大島st 【yu-ta】振替情報
DESCRIPTION:  \n\n\n\nスタジオ名\n大島スタジオ\n\n\nクラス\nキッズ体操\n\n\n講師名\nyu-ta\n\n\n日付\n11/3(月)→11/30(日)\n\n\n時間\n17:10-18:10\n\n\n\n  \n\n\n\nスタジオ名\n大島スタジオ\n\n\nクラス\n体操\n\n\n講師名\nyu-ta\n\n\n日付\n11/3(月)→11/30(日)\n\n\n時間\n18:20-19:20\n\n\n\n 
URL:https://quwands.jp/event/4433/
END:VEVENT
BEGIN:VEVENT
DTSTART;VALUE=DATE:20251103
DTEND;VALUE=DATE:20251104
DTSTAMP:20260426T005850
CREATED:20251103T041930Z
LAST-MODIFIED:20251103T041930Z
UID:4418-1762128000-1762214399@quwands.jp
SUMMARY:大島st 【yu-ta】休講情報
DESCRIPTION:スタジオ名\n大島スタジオ\n\n\nクラス\nキッズ体操\n\n\n講師名\nyu-ta\n\n\n日付\n休講\n\n\n時間\n17:10-18:10\n\n\n\n  \n\n\n\nスタジオ名\n大島スタジオ\n\n\nクラス\n体操\n\n\n講師名\nyu-ta\n\n\n日付\n休講\n\n\n時間\n18:20-19:20\n\n\n\n 
URL:https://quwands.jp/event/4418/
END:VEVENT
BEGIN:VEVENT
DTSTART;VALUE=DATE:20251103
DTEND;VALUE=DATE:20251104
DTSTAMP:20260426T005850
CREATED:20251103T041048Z
LAST-MODIFIED:20251103T041100Z
UID:4411-1762128000-1762214399@quwands.jp
SUMMARY:新小岩st【newsteelo】振替情報
DESCRIPTION:スタジオ名\n新小岩スタジオ\n\n\nクラス\nBREAKIN\n\n\n講師名\nnewsteelo\n\n\n日付\n11/3(月)→12/29(月)予定\n\n\n時間\n19:30-20:45\n\n\n\n 
URL:https://quwands.jp/event/4411/
END:VEVENT
BEGIN:VEVENT
DTSTART;VALUE=DATE:20251103
DTEND;VALUE=DATE:20251104
DTSTAMP:20260426T005850
CREATED:20251103T032519Z
LAST-MODIFIED:20251103T043529Z
UID:4403-1762128000-1762214399@quwands.jp
SUMMARY:砂銀Bst 【manabu】振替情報
DESCRIPTION:スタジオ名\n砂銀Bスタジオ\n\n\nクラス\nキッズHIPHOP\n\n\n講師名\nmanabu\n\n\n日付\n11/3(月)→11/30(日)\n\n\n時間\n17:10-18:10\n\n\n\n  \n\n\n\nスタジオ名\n砂銀Bスタジオ\n\n\nクラス\nHIPHOP入門\n\n\n講師名\nmanabu\n\n\n日付\n11/3(月)→11/30(日)\n\n\n時間\n18:20-19:20\n\n\n\n  \n\n\n\nスタジオ名\n砂銀Bスタジオ\n\n\nクラス\nHIPHOP応用\n\n\n講師名\nmanabu\n\n\n日付\n11/3(月)→11/30(日)\n\n\n時間\n19:30-21:00
URL:https://quwands.jp/event/4403/
END:VEVENT
BEGIN:VEVENT
DTSTART;VALUE=DATE:20251103
DTEND;VALUE=DATE:20251104
DTSTAMP:20260426T005850
CREATED:20250909T052955Z
LAST-MODIFIED:20251015T053647Z
UID:3947-1762128000-1762214399@quwands.jp
SUMMARY:新小岩st【Mayong K Sato】振替情報
DESCRIPTION:スタジオ名\n新小岩スタジオ\n\n\nクラス\nKIDSHIPHOP\n\n\n講師名\nMayong K Sato\n\n\n日付\n10/5(日)→11/3(月)\n\n\n時間\n12:30-13:30→12:15-13:15\n\n\n\n  \n\n\n\nスタジオ名\n新小岩スタジオ\n\n\nクラス\nHIPHOP入門\n\n\n講師名\nMayong K Sato\n\n\n日付\n10/5(日)→11/3(月)\n\n\n時間\n13:40-14:40→13:25-14:25\n\n\n\n  \n\n\n\nスタジオ名\n新小岩スタジオ\n\n\nクラス\nHIPHOP中級\n\n\n講師名\nMayong K Sato\n\n\n日付\n10/5(日)→11/3(月)\n\n\n時間\n14:50-16:05→14:35-15:50\n\n\n\n 
URL:https://quwands.jp/event/3947/
END:VEVENT
BEGIN:VEVENT
DTSTART;VALUE=DATE:20251102
DTEND;VALUE=DATE:20251103
DTSTAMP:20260426T005850
CREATED:20251024T064249Z
LAST-MODIFIED:20251101T081403Z
UID:4319-1762041600-1762127999@quwands.jp
SUMMARY:砂銀Bst 【KAKERU/Sho-hey】代講情報
DESCRIPTION:スタジオ名\n砂銀Bスタジオ\n\n\nクラス\nキッズ体操\n\n\n講師名\nKAKERU→Sho-hey\n\n\n日付\n11/2(日)\n\n\n時間\n11:10-12:10\n\n\n\n  \n\n\n\nスタジオ名\n砂銀Bスタジオ\n\n\nクラス\n体操\n\n\n講師名\nKAKERU→Sho-hey\n\n\n日付\n11/2(日)\n\n\n時間\n12:30-13:30
URL:https://quwands.jp/event/4319/
END:VEVENT
BEGIN:VEVENT
DTSTART;VALUE=DATE:20251102
DTEND;VALUE=DATE:20251103
DTSTAMP:20260426T005850
CREATED:20251010T070902Z
LAST-MODIFIED:20251010T070902Z
UID:4200-1762041600-1762127999@quwands.jp
SUMMARY:平井st 【CHIKA→HARU/MINORI】代講情報
DESCRIPTION:スタジオ名\n平井スタジオ\n\n\nクラス\nリトルキッズダンス \n\n\n講師名\nCHIKA→HARU\n\n\n日付\n11/2(日)\n\n\n時間\n13:00-14:00\n\n\n\n  \n\n\n\nスタジオ名\n平井スタジオ\n\n\nクラス\nキッズ体操\n\n\n講師名\nCHIKA→MINORI\n\n\n日付\n11/2(日)\n\n\n時間\n14:10-15:10\n\n\n\n  \n\n\n\nスタジオ名\n平井スタジオ\n\n\nクラス\n体操\n\n\n講師名\nCHIKA→MINORI\n\n\n日付\n11/2(日)\n\n\n時間\n15:20-16:50
URL:https://quwands.jp/event/4200/
END:VEVENT
BEGIN:VEVENT
DTSTART;VALUE=DATE:20251101
DTEND;VALUE=DATE:20251102
DTSTAMP:20260426T005850
CREATED:20251030T092709Z
LAST-MODIFIED:20251030T092820Z
UID:4373-1761955200-1762041599@quwands.jp
SUMMARY:平井st 【YUKO】振替情報
DESCRIPTION:スタジオ名\n平井スタジオ\n\n\nクラス\nヨガストレッチ\n\n\n講師名\nYUKO\n\n\n日付\n11/1(土)→11/29(土)\n\n\n時間\n9:30-10:30\n\n\n\n  \n\n\n\nスタジオ名\n平井スタジオ\n\n\nクラス\nヨガ\n\n\n講師名\nYUKO\n\n\n日付\n11/1(土)→11/29(土)\n\n\n時間\n10:40-11:40\n\n\n\n 
URL:https://quwands.jp/event/4373/
END:VEVENT
BEGIN:VEVENT
DTSTART;VALUE=DATE:20251101
DTEND;VALUE=DATE:20251102
DTSTAMP:20260426T005850
CREATED:20251024T064028Z
LAST-MODIFIED:20251101T081207Z
UID:4317-1761955200-1762041599@quwands.jp
SUMMARY:砂銀Bst 【KAKERU/Sho-hey】代講情報
DESCRIPTION:スタジオ名\n砂銀Bスタジオ\n\n\nクラス\nキッズ体操\n\n\n講師名\nKAKERU→Sho-hey\n\n\n日付\n11/1(土)\n\n\n時間\n10:00-11:00\n\n\n\n 
URL:https://quwands.jp/event/4317/
END:VEVENT
BEGIN:VEVENT
DTSTART;TZID=Asia/Tokyo:20251101T000000
DTEND;TZID=Asia/Tokyo:20251101T235900
DTSTAMP:20260426T005850
CREATED:20251107T065551Z
LAST-MODIFIED:20251107T065551Z
UID:4429-1761955200-1762041540@quwands.jp
SUMMARY:大島st 【Genki/RYOSUKE】代講情報
DESCRIPTION:スタジオ名\n大島スタジオ\n\n\nクラス\nKIDS HIPHOP\n\n\n講師名\nGenki→RYOSUKE\n\n\n日付\n11/1(土)\n\n\n時間\n14:10-15:10\n\n\n\n  \n\n\n\nスタジオ名\n大島スタジオ\n\n\nクラス\nHIPHOP入門\n\n\n講師名\nGenki→RYOSUKE\n\n\n日付\n11/1(土)\n\n\n時間\n15:20-16:20\n\n\n\n  \n\n\n\nスタジオ名\n大島スタジオ\n\n\nクラス\nHHIPHOP応用\n\n\n講師名\nGenki→RYOSUKE\n\n\n日付\n11/1(土)\n\n\n時間\n16:30-18:00
URL:https://quwands.jp/event/4429/
END:VEVENT
END:VCALENDAR