BEGIN:VCALENDAR
VERSION:2.0
PRODID:-//QUWANDS - ECPv6.10.2//NONSGML v1.0//EN
CALSCALE:GREGORIAN
METHOD:PUBLISH
X-WR-CALNAME:QUWANDS
X-ORIGINAL-URL:https://quwands.jp
X-WR-CALDESC:QUWANDS のイベント
REFRESH-INTERVAL;VALUE=DURATION:PT1H
X-Robots-Tag:noindex
X-PUBLISHED-TTL:PT1H
BEGIN:VTIMEZONE
TZID:Asia/Tokyo
BEGIN:STANDARD
TZOFFSETFROM:+0900
TZOFFSETTO:+0900
TZNAME:JST
DTSTART:20250101T000000
END:STANDARD
END:VTIMEZONE
BEGIN:VEVENT
DTSTART;VALUE=DATE:20260124
DTEND;VALUE=DATE:20260125
DTSTAMP:20260426T004345
CREATED:20251128T050823Z
LAST-MODIFIED:20251128T050823Z
UID:4599-1769212800-1769299199@quwands.jp
SUMMARY:砂銀Ast【CHIKA】振替情報
DESCRIPTION:スタジオ名\n砂銀Aスタジオ\n\n\nクラス\nリトルキッズ体操\n\n\n講師名\nCHIKA\n\n\n日付\n1/24(土)→1/12(月)\n\n\n時間\n10:00-11:00\n\n\n\n  \n\n\n\nスタジオ名\n砂銀Aスタジオ\n\n\nクラス\nリトルキッズダンス\n\n\n講師名\nCHIKA\n\n\n日付\n1/24(土)→1/12(月)\n\n\n時間\n11:10-12:10
URL:https://quwands.jp/event/4599/
END:VEVENT
BEGIN:VEVENT
DTSTART;VALUE=DATE:20260121
DTEND;VALUE=DATE:20260122
DTSTAMP:20260426T004345
CREATED:20260106T054109Z
LAST-MODIFIED:20260106T054118Z
UID:4867-1768953600-1769039999@quwands.jp
SUMMARY:大島st【優美香/Luka】代講情報
DESCRIPTION:スタジオ名\n大島スタジオ\n\n\nクラス\nJAZZ入門 \n\n\n講師名\n優美香→Luka\n\n\n日付\n1/21(水)\n\n\n時間\n18:20-19:20\n\n\n\n  \n\n\n\nスタジオ名\n大島スタジオ\n\n\nクラス\nJAZZ中級\n\n\n講師名\n優美香→Luka\n\n\n日付\n1/21(水)\n\n\n時間\n19:30-21:00
URL:https://quwands.jp/event/4867/
END:VEVENT
BEGIN:VEVENT
DTSTART;VALUE=DATE:20260120
DTEND;VALUE=DATE:20260121
DTSTAMP:20260426T004345
CREATED:20251226T082134Z
LAST-MODIFIED:20251226T082134Z
UID:4831-1768867200-1768953599@quwands.jp
SUMMARY:大島st 【HIKARU/cono】代講情報
DESCRIPTION:スタジオ名\n大島スタジオ\n\n\nクラス\nKIDS KPOP\n\n\n講師名\nHIKARU→cono\n\n\n日付\n1/20(火)\n\n\n時間\n17:10-18:10\n\n\n\n  \n\n\n\nスタジオ名\n大島スタジオ\n\n\nクラス\nKPOP入門\n\n\n講師名\nHIKARU→cono\n\n\n日付\n1/20(火)\n\n\n \n18:20-19:20\n\n\n\n  \n\n\n\nスタジオ名\n大島スタジオ\n\n\nクラス\nKPOP入門\n\n\n講師名\nHIKARU→cono\n\n\n日付\n1/20(火)\n\n\n時間\n19:30-21:00\n\n\n\n 
URL:https://quwands.jp/event/4831/
END:VEVENT
BEGIN:VEVENT
DTSTART;VALUE=DATE:20260120
DTEND;VALUE=DATE:20260121
DTSTAMP:20260426T004345
CREATED:20260107T062206Z
LAST-MODIFIED:20260107T062206Z
UID:4904-1768867200-1768953599@quwands.jp
SUMMARY:平井st【manabu】振替情報
DESCRIPTION:スタジオ名\n平井スタジオ\n\n\nクラス\nHIPHOP応用\n\n\n講師名\nmanabu\n\n\n日付\n12/23(火)→1/20(火)\n\n\n時間\n19:30-21:00→19:30-21:30
URL:https://quwands.jp/event/4904/
END:VEVENT
BEGIN:VEVENT
DTSTART;VALUE=DATE:20260119
DTEND;VALUE=DATE:20260120
DTSTAMP:20260426T004345
CREATED:20251226T081157Z
LAST-MODIFIED:20260106T054847Z
UID:4823-1768780800-1768867199@quwands.jp
SUMMARY:新小岩st【KAKERU/RYOGA】代講情報
DESCRIPTION:  \n\n\n\nスタジオ名\n新小岩スタジオ\n\n\nクラス\nリトルキッズ体操\n\n\n講師名\nKAKERU→RYOGA\n\n\n日付\n1/19(月)\n\n\n時間\n16:00-17:00\n\n\n\n  \n\n\n\nスタジオ名\n新小岩スタジオ\n\n\nクラス\nキッズ体操\n\n\n講師名\nKAKERU→RYOGA\n\n\n日付\n1/19(月)\n\n\n時間\n17:10-18:10\n\n\n\n  \n  \n\n\n\nスタジオ名\n新小岩スタジオ\n\n\nクラス\n体操\n\n\n講師名\nKAKERU→RYOGA\n\n\n日付\n1/19(月)\n\n\n時間\n18:20-19:20\n\n\n\n 
URL:https://quwands.jp/event/4823/
END:VEVENT
BEGIN:VEVENT
DTSTART;VALUE=DATE:20260118
DTEND;VALUE=DATE:20260119
DTSTAMP:20260426T004345
CREATED:20251201T095829Z
LAST-MODIFIED:20251201T095829Z
UID:4640-1768694400-1768780799@quwands.jp
SUMMARY:新小岩st【Mayong K Sato】振替情報
DESCRIPTION:スタジオ名\n新小岩スタジオ\n\n\nクラス\nHIPHOP入門\n\n\n講師名\nMayong K Sato\n\n\n日付\n1/4(日)→1/18(日)\n\n\n時間\n13:40-14:40→14:40-15:40\n\n\n\n  \n\n\n\nスタジオ名\n新小岩スタジオ\n\n\nクラス\nHIPHOP中級\n\n\n講師名\nMayong K Sato\n\n\n日付\n1/18(日)\n\n\n時間\n14:50-16:05→15:50-17:05\n\n\n\n 
URL:https://quwands.jp/event/4640/
END:VEVENT
BEGIN:VEVENT
DTSTART;VALUE=DATE:20260117
DTEND;VALUE=DATE:20260118
DTSTAMP:20260426T004345
CREATED:20260119T092420Z
LAST-MODIFIED:20260119T092420Z
UID:4933-1768608000-1768694399@quwands.jp
SUMMARY:大島st【Genki/Retro/KANO】代講情報
DESCRIPTION:スタジオ名\n大島スタジオ\n\n\nクラス\nKIDS HIPHOP\n\n\n講師名\nGenki→Retro\n\n\n日付\n1/17(土)\n\n\n時間\n14:10-15:10\n\n\n\n  \n\n\n\nスタジオ名\n大島スタジオ\n\n\nクラス\nHIPHOP入門\n\n\n講師名\nGenki→Retro\n\n\n日付\n1/17(土)\n\n\n \n15:20-16:20\n\n\n\n  \n\n\n\nスタジオ名\n大島スタジオ\n\n\nクラス\nHIPHOP応用\n\n\n講師名\nGenki→KANO\n\n\n日付\n1/17(土)\n\n\n時間\n16:30-18:00\n\n\n\n 
URL:https://quwands.jp/event/4933/
END:VEVENT
BEGIN:VEVENT
DTSTART;VALUE=DATE:20260117
DTEND;VALUE=DATE:20260118
DTSTAMP:20260426T004345
CREATED:20260109T050505Z
LAST-MODIFIED:20260409T062719Z
UID:4913-1768608000-1768694399@quwands.jp
SUMMARY:砂銀Ast【PASSION】休講情報
DESCRIPTION:スタジオ名\n砂銀Aスタジオ\n\n\nクラス\nJAZZHIPHOP基礎応用\n\n\n講師名\nPASSION\n\n\n日付\n1/17(土)→休講\n\n\n時間\n19:30-21:00\n\n\n\n 
URL:https://quwands.jp/event/4913/
END:VEVENT
BEGIN:VEVENT
DTSTART;VALUE=DATE:20260117
DTEND;VALUE=DATE:20260118
DTSTAMP:20260426T004345
CREATED:20251225T051814Z
LAST-MODIFIED:20260113T063737Z
UID:4813-1768608000-1768694399@quwands.jp
SUMMARY:砂銀Bst【HARU/LEONA】代講情報
DESCRIPTION:スタジオ名\n砂銀Bスタジオ\n\n\nクラス\nリトルキッズチア\n\n\n講師名\nHARU→LEONA\n\n\n日付\n1/17(土)\n\n\n時間\n15:30-16:30\n\n\n\n  \n\n\n\nスタジオ名\n砂銀Bスタジオ\n\n\nクラス\nジュニアチア\n\n\n講師名\nHARU→LEONA\n\n\n日付\n1/17(土)\n\n\n時間\n16:40-17:40\n\n\n\n 
URL:https://quwands.jp/event/4813/
END:VEVENT
BEGIN:VEVENT
DTSTART;VALUE=DATE:20260116
DTEND;VALUE=DATE:20260117
DTSTAMP:20260426T004345
CREATED:20251225T051524Z
LAST-MODIFIED:20251225T051524Z
UID:4811-1768521600-1768607999@quwands.jp
SUMMARY:新小岩st【HARU/miyuu kase】代講情報
DESCRIPTION:スタジオ名\n新小岩スタジオ\n\n\nクラス\nリトルキッズ KPOP\n\n\n講師名\nHARU→miyuu kase\n\n\n日付\n1/16(金)\n\n\n時間\n16:00-17:00\n\n\n\n  \n\n\n\nスタジオ名\n新小岩スタジオ\n\n\nクラス\nKIDS KPOP\n\n\n講師名\nHARU→miyuu kase\n\n\n日付\n1/16(金)\n\n\n時間\n17:10-18:10\n\n\n\n  \n\n\n\nスタジオ名\n新小岩スタジオ\n\n\nクラス\nKPOP入門\n\n\n講師名\nHARU→miyuu kase\n\n\n日付\n1/16(金)\n\n\n時間\n18:20-19:20\n\n\n\n  \n\n\n\nスタジオ名\n新小岩スタジオ\n\n\nクラス\nKPOP応用\n\n\n講師名\nHARU→miyuu kase\n\n\n日付\n1/16(金)\n\n\n時間\n19:30-21:00
URL:https://quwands.jp/event/4811/
END:VEVENT
BEGIN:VEVENT
DTSTART;VALUE=DATE:20260114
DTEND;VALUE=DATE:20260115
DTSTAMP:20260426T004345
CREATED:20260106T054050Z
LAST-MODIFIED:20260106T054050Z
UID:4865-1768348800-1768435199@quwands.jp
SUMMARY:大島st【優美香/Luka】代講情報
DESCRIPTION:スタジオ名\n大島スタジオ\n\n\nクラス\nJAZZ入門 \n\n\n講師名\n優美香→Luka\n\n\n日付\n1/14(水)\n\n\n時間\n18:20-19:20\n\n\n\n  \n\n\n\nスタジオ名\n大島スタジオ\n\n\nクラス\nJAZZ中級\n\n\n講師名\n優美香→Luka\n\n\n日付\n1/14(水)\n\n\n時間\n19:30-21:00
URL:https://quwands.jp/event/4865/
END:VEVENT
BEGIN:VEVENT
DTSTART;VALUE=DATE:20260113
DTEND;VALUE=DATE:20260114
DTSTAMP:20260426T004345
CREATED:20260107T061909Z
LAST-MODIFIED:20260107T062009Z
UID:4899-1768262400-1768348799@quwands.jp
SUMMARY:平井st【manabu】振替情報
DESCRIPTION:スタジオ名\n平井スタジオ\n\n\nクラス\nHIPHOP応用\n\n\n講師名\nmanabu\n\n\n日付\n12/23(火)→1/13(火)\n\n\n時間\n19:30-21:00→19:30-21:30
URL:https://quwands.jp/event/4899/
END:VEVENT
BEGIN:VEVENT
DTSTART;VALUE=DATE:20260112
DTEND;VALUE=DATE:20260113
DTSTAMP:20260426T004345
CREATED:20251215T064900Z
LAST-MODIFIED:20251225T012114Z
UID:4736-1768176000-1768262399@quwands.jp
SUMMARY:平井st 【kanae/mio】代講情報
DESCRIPTION:スタジオ名\n平井スタジオ\n\n\nクラス\nKIDS K-POP\n\n\n講師名\nkanae→mio\n\n\n日付\n1/12(月)\n\n\n時間\n17:10-18:10\n\n\n\n\n  \n\n\n\nスタジオ名\n平井スタジオ\n\n\nクラス\nK-POP入門\n\n\n講師名\nkanae→mio\n\n\n日付\n1/12(月)\n\n\n時間\n18:20-19:20\n\n\n\n\n  \n\n\n\nスタジオ名\n平井スタジオ\n\n\nクラス\nK-POP応用\n\n\n講師名\nkanae→mio\n\n\n日付\n1/12(月)\n\n\n時間\n19:30-21:00\n\n\n\n 
URL:https://quwands.jp/event/4736/
END:VEVENT
BEGIN:VEVENT
DTSTART;VALUE=DATE:20260112
DTEND;VALUE=DATE:20260113
DTSTAMP:20260426T004345
CREATED:20251024T063403Z
LAST-MODIFIED:20251024T063403Z
UID:4311-1768176000-1768262399@quwands.jp
SUMMARY:新小岩st【Mayong K Sato】振替情報
DESCRIPTION:スタジオ名\n新小岩スタジオ\n\n\nクラス\nKIDSHIPHOP\n\n\n講師名\nMayong K Sato\n\n\n日付\n12/21(日)→1/12(月)\n\n\n時間\n12:30-13:30→12:15-13:15\n\n\n\n  \n\n\n\nスタジオ名\n新小岩スタジオ\n\n\nクラス\nHIPHOP入門\n\n\n講師名\nMayong K Sato\n\n\n日付\n12/21(日)→1/12(月)\n\n\n時間\n13:40-14:40→13:25-14:25\n\n\n\n  \n\n\n\nスタジオ名\n新小岩スタジオ\n\n\nクラス\nHIPHOP中級\n\n\n講師名\nMayong K Sato\n\n\n日付\n12/21(日)→1/12(月)\n\n\n時間\n14:50-16:05→14:35-15:50\n\n\n\n 
URL:https://quwands.jp/event/4311/
END:VEVENT
BEGIN:VEVENT
DTSTART;VALUE=DATE:20260112
DTEND;VALUE=DATE:20260113
DTSTAMP:20260426T004345
CREATED:20251209T051824Z
LAST-MODIFIED:20251209T051824Z
UID:4686-1768176000-1768262399@quwands.jp
SUMMARY:砂銀Ast【ALISA/RIHONA】代講情報
DESCRIPTION:スタジオ名\n砂銀Aスタジオ\n\n\nクラス\nリトルキッズダンス\n\n\n講師名\nALISA→RIHONA\n\n\n日付\n1/12(月)\n\n\n時間\n16:00-17:00\n\n\n\n  \n\n\n\nスタジオ名\n砂銀Aスタジオ\n\n\nクラス\nKIDS HIPHOP\n\n\n講師名\nALISA→RIHONA\n\n\n日付\n1/12(月)\n\n\n時間\n17:10-18:10\n\n\n\n  \n\n\n\nスタジオ名\n砂銀Aスタジオ\n\n\nクラス\nJAZZHIPHOP入門\n\n\n講師名\nALISA→RIHONA\n\n\n日付\n1/12(月)\n\n\n時間\n18:20-19:20\n\n\n\n 
URL:https://quwands.jp/event/4686/
END:VEVENT
BEGIN:VEVENT
DTSTART;VALUE=DATE:20260112
DTEND;VALUE=DATE:20260113
DTSTAMP:20260426T004345
CREATED:20251128T050839Z
LAST-MODIFIED:20251128T050839Z
UID:4601-1768176000-1768262399@quwands.jp
SUMMARY:砂銀Ast【CHIKA】振替情報
DESCRIPTION:スタジオ名\n砂銀Aスタジオ\n\n\nクラス\nリトルキッズ体操\n\n\n講師名\nCHIKA\n\n\n日付\n1/24(土)→1/12(月)\n\n\n時間\n10:00-11:00\n\n\n\n  \n\n\n\nスタジオ名\n砂銀Aスタジオ\n\n\nクラス\nリトルキッズダンス\n\n\n講師名\nCHIKA\n\n\n日付\n1/24(土)→1/12(月)\n\n\n時間\n11:10-12:10
URL:https://quwands.jp/event/4601/
END:VEVENT
BEGIN:VEVENT
DTSTART;VALUE=DATE:20260111
DTEND;VALUE=DATE:20260112
DTSTAMP:20260426T004345
CREATED:20260113T064212Z
LAST-MODIFIED:20260113T064212Z
UID:4919-1768089600-1768175999@quwands.jp
SUMMARY:大島st【yu-ta/RYOGA】代講情報
DESCRIPTION:スタジオ名\n大島スタジオ\n\n\nクラス\nキッズ体操\n\n\n講師名\nyu-ta→RYOGA\n\n\n日付\n1/11(日)\n\n\n時間\n14:10-15:10\n\n\n\n  \n\n\n\nスタジオ名\n大島スタジオ\n\n\nクラス\n体操\n\n\n講師名\nyu-ta→RYOGA\n\n\n日付\n1/11(日)\n\n\n時間\n15:20-16:20\n\n\n\n\n 
URL:https://quwands.jp/event/4919/
END:VEVENT
BEGIN:VEVENT
DTSTART;VALUE=DATE:20260111
DTEND;VALUE=DATE:20260112
DTSTAMP:20260426T004345
CREATED:20251201T095612Z
LAST-MODIFIED:20251201T095612Z
UID:4638-1768089600-1768175999@quwands.jp
SUMMARY:新小岩st【Mayong K Sato】振替情報
DESCRIPTION:スタジオ名\n新小岩スタジオ\n\n\nクラス\nKIDSHIPHOP\n\n\n講師名\nMayong K Sato\n\n\n日付\n1/4(日)→1/11(日)\n\n\n時間\n12:30-13:30→13:30-14:30\n\n\n\n  \n\n\n\nスタジオ名\n新小岩スタジオ\n\n\nクラス\nHIPHOP入門\n\n\n講師名\nMayong K Sato\n\n\n日付\n1/11(日)\n\n\n時間\n13:40-14:40→14:40-15:40\n\n\n\n  \n\n\n\nスタジオ名\n新小岩スタジオ\n\n\nクラス\nHIPHOP中級\n\n\n講師名\nMayong K Sato\n\n\n日付\n1/11(日)\n\n\n時間\n14:50-16:05→15:50-17:05\n\n\n\n 
URL:https://quwands.jp/event/4638/
END:VEVENT
BEGIN:VEVENT
DTSTART;VALUE=DATE:20260110
DTEND;VALUE=DATE:20260111
DTSTAMP:20260426T004345
CREATED:20260109T050434Z
LAST-MODIFIED:20260409T062619Z
UID:4911-1768003200-1768089599@quwands.jp
SUMMARY:砂銀Ast【PASSION】休講情報
DESCRIPTION:スタジオ名\n砂銀Aスタジオ\n\n\nクラス\nJAZZHIPHOP基礎応用\n\n\n講師名\nPASSION\n\n\n日付\n1/10(土)→休講\n\n\n時間\n19:30-21:00\n\n\n\n 
URL:https://quwands.jp/event/4911/
END:VEVENT
BEGIN:VEVENT
DTSTART;VALUE=DATE:20260108
DTEND;VALUE=DATE:20260109
DTSTAMP:20260426T004345
CREATED:20251226T082830Z
LAST-MODIFIED:20251226T082830Z
UID:4840-1767830400-1767916799@quwands.jp
SUMMARY:砂銀Ast【mana/MINORI】代講情報
DESCRIPTION:スタジオ名\n砂銀Aスタジオ\n\n\nクラス\nリトルキッズダンス\n\n\n講師名\nmana→MINORI\n\n\n日付\n1/8(木)\n\n\n時間\n17:10-18:10\n\n\n\n 
URL:https://quwands.jp/event/4840/
END:VEVENT
BEGIN:VEVENT
DTSTART;VALUE=DATE:20260108
DTEND;VALUE=DATE:20260109
DTSTAMP:20260426T004345
CREATED:20251223T052033Z
LAST-MODIFIED:20251223T052033Z
UID:4762-1767830400-1767916799@quwands.jp
SUMMARY:砂銀Bst【Satodai/Sho-hey】代講情報
DESCRIPTION:スタジオ名\n砂銀Bスタジオ\n\n\nクラス\nジュニア体操\n\n\n講師名\nSatodai→Sho-hey\n\n\n日付\n1/8(木)\n\n\n時間\n17:10-18:10\n\n\n\n  \n\n\n\nスタジオ名\n砂銀Bスタジオ\n\n\nクラス\n体操\n\n\n講師名\nSatodai→Sho-hey\n\n\n日付\n1/8(木)\n\n\n時間\n18:20-19:20\n\n\n\n 
URL:https://quwands.jp/event/4762/
END:VEVENT
BEGIN:VEVENT
DTSTART;VALUE=DATE:20260107
DTEND;VALUE=DATE:20260108
DTSTAMP:20260426T004345
CREATED:20260106T054031Z
LAST-MODIFIED:20260106T054031Z
UID:4863-1767744000-1767830399@quwands.jp
SUMMARY:大島st【優美香/Luka】代講情報
DESCRIPTION:スタジオ名\n大島スタジオ\n\n\nクラス\nJAZZ入門 \n\n\n講師名\n優美香→Luka\n\n\n日付\n1/7(水)\n\n\n時間\n18:20-19:20\n\n\n\n  \n\n\n\nスタジオ名\n大島スタジオ\n\n\nクラス\nJAZZ中級\n\n\n講師名\n優美香→Luka\n\n\n日付\n1/7(水)\n\n\n時間\n19:30-21:00
URL:https://quwands.jp/event/4863/
END:VEVENT
BEGIN:VEVENT
DTSTART;VALUE=DATE:20260107
DTEND;VALUE=DATE:20260108
DTSTAMP:20260426T004345
CREATED:20260106T053757Z
LAST-MODIFIED:20260106T053757Z
UID:4859-1767744000-1767830399@quwands.jp
SUMMARY:砂銀Ast 【Genki/SAKURA】代講情報
DESCRIPTION:スタジオ名\n砂銀Aスタジオ\n\n\nクラス\nHIPHOP中級\n\n\n講師名\nGenki→SAKURA\n\n\n日付\n1/7(水)\n\n\n時間\n19:30-20:45\n\n\n\n 
URL:https://quwands.jp/event/4859/
END:VEVENT
BEGIN:VEVENT
DTSTART;VALUE=DATE:20260106
DTEND;VALUE=DATE:20260107
DTSTAMP:20260426T004345
CREATED:20251226T082047Z
LAST-MODIFIED:20251226T082047Z
UID:4828-1767657600-1767743999@quwands.jp
SUMMARY:大島st 【HIKARU/cono】代講情報
DESCRIPTION:スタジオ名\n大島スタジオ\n\n\nクラス\nKIDS KPOP\n\n\n講師名\nHIKARU→cono\n\n\n日付\n1/6(火)\n\n\n時間\n17:10-18:10\n\n\n\n  \n\n\n\nスタジオ名\n大島スタジオ\n\n\nクラス\nKPOP入門\n\n\n講師名\nHIKARU→cono\n\n\n日付\n1/6(火)\n\n\n時間\n18:20-19:20\n\n\n\n  \n\n\n\nスタジオ名\n大島スタジオ\n\n\nクラス\nKPOP入門\n\n\n講師名\nHIKARU→cono\n\n\n日付\n1/6(火)\n\n\n時間\n19:30-21:00\n\n\n\n 
URL:https://quwands.jp/event/4828/
END:VEVENT
BEGIN:VEVENT
DTSTART;VALUE=DATE:20260106
DTEND;VALUE=DATE:20260107
DTSTAMP:20260426T004345
CREATED:20251223T051601Z
LAST-MODIFIED:20251223T051721Z
UID:4758-1767657600-1767743999@quwands.jp
SUMMARY:砂銀Bst【aoi kasahara】振替情報
DESCRIPTION:スタジオ名\n砂銀Aスタジオ→砂銀Bスタジオ\n\n\nクラス\nKIDS JAZZ\n\n\n講師名\naoi kasahara\n\n\n日付\n12/5(金)→1/6(火)\n\n\n時間\n17:10-18:10→12:10–13:10\n\n\n\n  \n\n\n\nスタジオ名\n砂銀Aスタジオ→砂銀Bスタジオ\n\n\nクラス\nJAZZ入門\n\n\n講師名\naoi kasahara\n\n\n日付\n12/5(金)→1/6(火)\n\n\n時間\n18:20-19:20→13:20–14:20\n\n\n\n  \n\n\n\nスタジオ名\n砂銀Aスタジオ→砂銀Bスタジオ\n\n\nクラス\nJAZZ中級\n\n\n講師名\naoi kasahara\n\n\n日付\n12/5(金)→1/6(火)\n\n\n時間\n19:30-20:45→14:30–15:45
URL:https://quwands.jp/event/4758/
END:VEVENT
BEGIN:VEVENT
DTSTART;VALUE=DATE:20260105
DTEND;VALUE=DATE:20260106
DTSTAMP:20260426T004345
CREATED:20251225T012406Z
LAST-MODIFIED:20251225T012406Z
UID:4786-1767571200-1767657599@quwands.jp
SUMMARY:新小岩st【aoi kasahara】振替情報
DESCRIPTION:スタジオ名\n新小岩スタジオ\n\n\nクラス\nKIDS JAZZ\n\n\n講師名\naoi kasahara\n\n\n日付\n12/4(木)→1/5(月)\n\n\n時間\n17:10-18:10→12:10–13:10\n\n\n\n  \n\n\n\nスタジオ名\n新小岩スタジオ\n\n\nクラス\nJAZZ入門\n\n\n講師名\naoi kasahara\n\n\n日付\n12/4(木)→1/5(月)\n\n\n時間\n18:20-19:20→13:20–14:20\n\n\n\n  \n\n\n\nスタジオ名\n新小岩スタジオ\n\n\nクラス\nJAZZ中級\n\n\n講師名\naoi kasahara\n\n\n日付\n12/4(木)→1/5(月)\n\n\n時間\n19:30-20:45→14:30–15:45
URL:https://quwands.jp/event/4786/
END:VEVENT
BEGIN:VEVENT
DTSTART;VALUE=DATE:20260104
DTEND;VALUE=DATE:20260105
DTSTAMP:20260426T004345
CREATED:20251226T080417Z
LAST-MODIFIED:20251226T100708Z
UID:4820-1767484800-1767571199@quwands.jp
SUMMARY:新小岩st【KAKERU】休講情報
DESCRIPTION:スタジオ名\n新小岩スタジオ\n\n\nクラス\nキッズ体操\n\n\n講師名\nKAKERU\n\n\n日付\n1/4(日)\n\n\n時間\n10:00-11:00\n\n\n\n  \n\n\n\nスタジオ名\n新小岩スタジオ\n\n\nクラス\n体操\n\n\n講師名\nKAKERU\n\n\n日付\n1/4(日)\n\n\n時間\n11:10-12:10\n\n\n\n 
URL:https://quwands.jp/event/4820/
END:VEVENT
BEGIN:VEVENT
DTSTART;VALUE=DATE:20260104
DTEND;VALUE=DATE:20260105
DTSTAMP:20260426T004345
CREATED:20251201T095211Z
LAST-MODIFIED:20251201T095211Z
UID:4636-1767484800-1767571199@quwands.jp
SUMMARY:新小岩st【Mayong K Sato】振替情報
DESCRIPTION:スタジオ名\n新小岩スタジオ\n\n\nクラス\nKIDSHIPHOP\n\n\n講師名\nMayong K Sato\n\n\n日付\n1/4(日)→1/11(日)\n\n\n時間\n12:30-13:30→13:30-14:30\n\n\n\n  \n\n\n\nスタジオ名\n新小岩スタジオ\n\n\nクラス\nHIPHOP入門\n\n\n講師名\nMayong K Sato\n\n\n日付\n1/4(日)→1/18(日)\n\n\n時間\n13:40-14:40→14:40-15:40\n\n\n\n  \n\n\n\nスタジオ名\n新小岩スタジオ\n\n\nクラス\nHIPHOP中級\n\n\n講師名\nMayong K Sato\n\n\n日付\n1/4(日)→1/25(日)\n\n\n時間\n14:50-16:05→16:05-17:20\n\n\n\n 
URL:https://quwands.jp/event/4636/
END:VEVENT
BEGIN:VEVENT
DTSTART;VALUE=DATE:20251229
DTEND;VALUE=DATE:20251230
DTSTAMP:20260426T004345
CREATED:20251226T075907Z
LAST-MODIFIED:20251226T080109Z
UID:4817-1766966400-1767052799@quwands.jp
SUMMARY:砂銀Ast【PASSION】振替情報
DESCRIPTION:スタジオ名\n砂銀Aスタジオ\n\n\nクラス\nJAZZHIPHOP基礎応用\n\n\n講師名\nPASSION\n\n\n日付\n11/15(土)→12/29(月)\n\n\n時間\n19:30-21:00→17:00-18:30\n\n\n\n 
URL:https://quwands.jp/event/4817/
END:VEVENT
BEGIN:VEVENT
DTSTART;VALUE=DATE:20251229
DTEND;VALUE=DATE:20251230
DTSTAMP:20260426T004345
CREATED:20251103T041215Z
LAST-MODIFIED:20251103T041215Z
UID:4414-1766966400-1767052799@quwands.jp
SUMMARY:新小岩st【newsteelo】振替情報
DESCRIPTION:スタジオ名\n新小岩スタジオ\n\n\nクラス\nBREAKIN\n\n\n講師名\nnewsteelo\n\n\n日付\n11/3(月)→12/29(月)予定\n\n\n時間\n19:30-20:45\n\n\n\n 
URL:https://quwands.jp/event/4414/
END:VEVENT
END:VCALENDAR