BEGIN:VCALENDAR
VERSION:2.0
PRODID:-//QUWANDS - ECPv6.10.2//NONSGML v1.0//EN
CALSCALE:GREGORIAN
METHOD:PUBLISH
X-WR-CALNAME:QUWANDS
X-ORIGINAL-URL:https://quwands.jp
X-WR-CALDESC:QUWANDS のイベント
REFRESH-INTERVAL;VALUE=DURATION:PT1H
X-Robots-Tag:noindex
X-PUBLISHED-TTL:PT1H
BEGIN:VTIMEZONE
TZID:Asia/Tokyo
BEGIN:STANDARD
TZOFFSETFROM:+0900
TZOFFSETTO:+0900
TZNAME:JST
DTSTART:20250101T000000
END:STANDARD
END:VTIMEZONE
BEGIN:VEVENT
DTSTART;VALUE=DATE:20250831
DTEND;VALUE=DATE:20250901
DTSTAMP:20260425T211857
CREATED:20250825T073940Z
LAST-MODIFIED:20250825T073940Z
UID:3803-1756598400-1756684799@quwands.jp
SUMMARY:平井st 【kazuki/CHIKA】代講情報
DESCRIPTION:スタジオ名\n平井スタジオ\n\n\nクラス\nキッズ体操\n\n\n講師名\nkazuki→CHIKA\n\n\n日付\n8/31(日)\n\n\n時間\n10:00-11:00\n\n\n\n  \n\n\n\nスタジオ名\n平井スタジオ\n\n\nクラス\nリトルキッズダンス\n\n\n講師名\nkazuki→CHIKA\n\n\n日付\n8/31(日)\n\n\n時間\n11:10-12:10\n\n\n\n 
URL:https://quwands.jp/event/3803/
END:VEVENT
BEGIN:VEVENT
DTSTART;VALUE=DATE:20250831
DTEND;VALUE=DATE:20250901
DTSTAMP:20260425T211857
CREATED:20250822T112208Z
LAST-MODIFIED:20250826T131257Z
UID:3746-1756598400-1756684799@quwands.jp
SUMMARY:砂銀Ast 【ALISA/PASSION】代講情報
DESCRIPTION:スタジオ名\n砂銀Bスタジオ\n\n\nクラス\nKIDS HIPHOP \n\n\n講師名\nALISA→PASSION\n\n\n日付\n8/31(日)\n\n\n時間\n17:10-18:10\n\n\n\n  \n\n\n\nスタジオ名\n砂銀Bスタジオ→砂銀Aスタジオ\n\n\nクラス\nJAZZHIPHOP入門\n\n\n講師名\nALISA→PASSION\n\n\n日付\n8/31(日)\n\n\n時間\n18:20-19:20\n\n\n\n  \n\n\n\nスタジオ名\n砂銀Bスタジオ→砂銀Aスタジオ\n\n\nクラス\nJAZZ 基礎応用 \n\n\n講師名\nALISA→PASSION\n\n\n日付\n8/31(日)\n\n\n時間\n19:30-21:00
URL:https://quwands.jp/event/3746/
END:VEVENT
BEGIN:VEVENT
DTSTART;VALUE=DATE:20250829
DTEND;VALUE=DATE:20250830
DTSTAMP:20260425T211857
CREATED:20250825T064347Z
LAST-MODIFIED:20250829T011802Z
UID:3764-1756425600-1756511999@quwands.jp
SUMMARY:平井st 【ALISA/HARU】代講情報
DESCRIPTION:スタジオ名\n平井スタジオ\n\n\nクラス\nKIDS HIPHOP \n\n\n講師名\nALISA→HARU\n\n\n日付\n8/29(金)\n\n\n時間\n17:10-18:10\n\n\n\n  \n\n\n\nスタジオ名\n平井スタジオ\n\n\nクラス\nJAZZHIPHOP入門\n\n\n講師名\nALISA→HARU\n\n\n日付\n8/29(金)\n\n\n時間\n18:20-19:20\n\n\n\n  \n\n\n\nスタジオ名\n平井スタジオ\n\n\nクラス\nJAZZHIPHOP応用\n\n\n講師名\nALISA→HARU\n\n\n日付\n8/29(金)\n\n\n時間\n19:30-21:00
URL:https://quwands.jp/event/3764/
END:VEVENT
BEGIN:VEVENT
DTSTART;VALUE=DATE:20250829
DTEND;VALUE=DATE:20250830
DTSTAMP:20260425T211857
CREATED:20250825T073443Z
LAST-MODIFIED:20250829T055756Z
UID:3800-1756425600-1756511999@quwands.jp
SUMMARY:砂銀Bst 【yuine】振替情報
DESCRIPTION:スタジオ名\n砂銀Aスタジオ→砂銀Bスタジオ\n\n\nクラス\nKIDS JAZZ\n\n\n講師名\nyuine\n\n\n日付\n8/29(金)\n\n\n時間\n17:10-18:10\n\n\n\n  \n\n\n\nスタジオ名\n砂銀Aスタジオ→砂銀Bスタジオ\n\n\nクラス\nJAZZ入門\n\n\n講師名\nyuine\n\n\n日付\n8/29(金)\n\n\n時間\n18:20-19:20\n\n\n\n  \n\n\n\nスタジオ名\n砂銀Aスタジオ→砂銀Bスタジオ\n\n\nクラス\nJAZZ中級\n\n\n講師名\nyuine\n\n\n日付\n8/29(金)\n\n\n時間\n19:30-20:45\n\n\n\n 
URL:https://quwands.jp/event/3800/
END:VEVENT
BEGIN:VEVENT
DTSTART;VALUE=DATE:20250829
DTEND;VALUE=DATE:20250830
DTSTAMP:20260425T211857
CREATED:20250822T032852Z
LAST-MODIFIED:20250822T033028Z
UID:3711-1756425600-1756511999@quwands.jp
SUMMARY:砂銀Bst 【Hana*】振替情報
DESCRIPTION:スタジオ名\n砂銀Bスタジオ\n\n\nクラス\nKIDS HIPHOP\n\n\n講師名\nHana*\n\n\n日付\n8/29(金)→8/24(日)\n\n\n時間\n17:10-18:10\n\n\n\n  \n\n\n\nスタジオ名\n砂銀Bスタジオ\n\n\nクラス\nHIPHOP入門\n\n\n講師名\nHana*\n\n\n日付\n8/29(金)→8/24(日)\n\n\n時間\n18:20-19:20\n\n\n\n  \n\n\n\nスタジオ名\n砂銀Bスタジオ\n\n\nクラス\nHIPHOP応用\n\n\n講師名\nHana*\n\n\n日付\n8/29(金)→8/24(日)\n\n\n時間\n19:30-21:00\n\n\n\n 
URL:https://quwands.jp/event/3711/
END:VEVENT
BEGIN:VEVENT
DTSTART;VALUE=DATE:20250828
DTEND;VALUE=DATE:20250829
DTSTAMP:20260425T211857
CREATED:20250825T071631Z
LAST-MODIFIED:20250825T071631Z
UID:3784-1756339200-1756425599@quwands.jp
SUMMARY:砂銀Bst 【CHIKA/MINORI合同】振替情報
DESCRIPTION:スタジオ名\n砂銀Aスタジオ→砂銀Bスタジオ\n\n\nクラス\nリトルキッズ体操\n\n\n講師名\nCHIKA、MINORI合同\n\n\n日付\n8/28(木)\n\n\n時間\n16:00-17:00\n\n\n\n 
URL:https://quwands.jp/event/3784/
END:VEVENT
BEGIN:VEVENT
DTSTART;VALUE=DATE:20250828
DTEND;VALUE=DATE:20250829
DTSTAMP:20260425T211857
CREATED:20250825T071033Z
LAST-MODIFIED:20251015T061347Z
UID:3781-1756339200-1756425599@quwands.jp
SUMMARY:砂銀Bst 【Satodai/MINORI/yu-ta】代講情報
DESCRIPTION:スタジオ名\n砂銀Bスタジオ\n\n\nクラス\nジュニア体操 \n\n\n講師名\nSatodai→MINORI\n\n\n日付\n8/28(木)\n\n\n時間\n17:10-18:10\n\n\n\n\n  \n\n\n\nスタジオ名\n砂銀Bスタジオ\n\n\nクラス\n体操 \n\n\n講師名\nSatodai→yu-ta\n\n\n日付\n8/28(木)\n\n\n時間\n18:20-19:20\n\n\n\n 
URL:https://quwands.jp/event/3781/
END:VEVENT
BEGIN:VEVENT
DTSTART;VALUE=DATE:20250827
DTEND;VALUE=DATE:20250828
DTSTAMP:20260425T211857
CREATED:20250825T070619Z
LAST-MODIFIED:20250825T070619Z
UID:3778-1756252800-1756339199@quwands.jp
SUMMARY:砂銀Ast 【RIHONA/manabu】代講情報
DESCRIPTION:  \n\n\n\nスタジオ名\n砂銀Aスタジオ\n\n\nクラス\nKIDS HIPHOP\n\n\n講師名\nRIHONA→manabu\n\n\n日付\n8/27(水)\n\n\n時間\n17:10-18:10\n\n\n\n  \n\n\n\nスタジオ名\n砂銀Aスタジオ\n\n\nクラス\nJAZZHIPHOP入門\n\n\n講師名\nRIHONA→manabu\n\n\n日付\n8/27(水)\n\n\n時間\n18:20-19:20\n\n\n\n 
URL:https://quwands.jp/event/3778/
END:VEVENT
BEGIN:VEVENT
DTSTART;VALUE=DATE:20250826
DTEND;VALUE=DATE:20250827
DTSTAMP:20260425T211857
CREATED:20250825T070030Z
LAST-MODIFIED:20250826T131142Z
UID:3774-1756166400-1756252799@quwands.jp
SUMMARY:大島st 【HIKARU】代講情報
DESCRIPTION:  \n\n\n\nスタジオ名\n大島スタジオ\n\n\nクラス\nKIDS KPOP\n\n\n講師名\nHIKARU→cono\n\n\n日付\n8/26(火)\n\n\n時間\n17:10-18:10\n\n\n\n  \n\n\n\nスタジオ名\n大島スタジオ\n\n\nクラス\nKPOP入門\n\n\n講師名\nHIKARU→cono\n\n\n日付\n8/26(火)\n\n\n時間\n18:20-19:20\n\n\n\n  \n\n\n\nスタジオ名\n大島スタジオ\n\n\nクラス\nKPOP応用\n\n\n講師名\nHIKARU→cono\n\n\n日付\n8/26(火)\n\n\n時間\n19:30-21:00\n\n\n\n 
URL:https://quwands.jp/event/3774/
END:VEVENT
BEGIN:VEVENT
DTSTART;VALUE=DATE:20250825
DTEND;VALUE=DATE:20250826
DTSTAMP:20260425T211857
CREATED:20250825T062605Z
LAST-MODIFIED:20250825T062605Z
UID:3760-1756080000-1756166399@quwands.jp
SUMMARY:新小岩st 【Lón】代講情報
DESCRIPTION:スタジオ名\n新小岩スタジオ\n\n\nクラス\nブレイキン基礎応用\n\n\n講師名\nLón→DIME\n\n\n日付\n8/25(月)\n\n\n時間\n19:30-20:45\n\n\n\n 
URL:https://quwands.jp/event/3760/
END:VEVENT
BEGIN:VEVENT
DTSTART;VALUE=DATE:20250825
DTEND;VALUE=DATE:20250826
DTSTAMP:20260425T211857
CREATED:20250822T110417Z
LAST-MODIFIED:20250822T110417Z
UID:3723-1756080000-1756166399@quwands.jp
SUMMARY:砂銀Ast 【ALISA/NAO】代講情報
DESCRIPTION:  \n\n\n\nスタジオ名\n砂銀Aスタジオ\n\n\nクラス\nリトルキッズダンス\n\n\n講師名\nALISA→NAO\n\n\n日付\n8/25(月)\n\n\n時間\n16:00-17:00\n\n\n\n  \n\n\n\nスタジオ名\n砂銀Aスタジオ\n\n\nクラス\nKIDS HIPHOP\n\n\n講師名\nALISA→NAO\n\n\n日付\n8/25(月)\n\n\n時間\n17:10-18:10\n\n\n\n  \n\n\n\nスタジオ名\n砂銀Aスタジオ\n\n\nクラス\nJAZZHIPHOP入門\n\n\n講師名\nALISA→NAO\n\n\n日付\n8/25(月)\n\n\n時間\n18:20-19:20\n\n\n\n 
URL:https://quwands.jp/event/3723/
END:VEVENT
BEGIN:VEVENT
DTSTART;VALUE=DATE:20250824
DTEND;VALUE=DATE:20250825
DTSTAMP:20260425T211857
CREATED:20250716T084120Z
LAST-MODIFIED:20250818T130730Z
UID:3524-1755993600-1756079999@quwands.jp
SUMMARY:新小岩st 【Mayong K Sato】振替情報
DESCRIPTION:スタジオ名\n新小岩スタジオ\n\n\nクラス\nKIDSHIPHOP\n\n\n講師名\nMayong K Sato\n\n\n日付\n8/24(日)\n→8/11(月)(祝) \n\n\n時間\n12:30-13:30\n→12:15-13:15\n\n\n\n  \n\n\n\nスタジオ名\n新小岩スタジオ\n\n\nクラス\nHIPHOP入門\n\n\n講師名\nMayong K Sato\n\n\n日付\n8/24(日)\n→8/11(月)(祝) \n\n\n時間\n13:40-14:40\n→13:25-14:25\n\n\n\n  \n\n\n\nスタジオ名\n新小岩スタジオ\n\n\nクラス\nHIPHOP中級\n\n\n講師名\nMayong K Sato\n\n\n日付\n8/24(日)\n→8/11(月)(祝) \n\n\n時間\n14:50-16:05\n→14:35-15:50\n\n\n\n 
URL:https://quwands.jp/event/3524/
END:VEVENT
BEGIN:VEVENT
DTSTART;VALUE=DATE:20250824
DTEND;VALUE=DATE:20250825
DTSTAMP:20260425T211857
CREATED:20250822T031848Z
LAST-MODIFIED:20250822T032538Z
UID:3707-1755993600-1756079999@quwands.jp
SUMMARY:砂銀Ast 【MINORI/RYOGA】代講情報
DESCRIPTION:スタジオ名\n砂銀Aスタジオ\n\n\nクラス\nリトルキッズダンス\n\n\n講師名\nMINORI→RYOGA\n\n\n日付\n8/24(日)\n\n\n時間\n10:00-11:00\n\n\n\n  \n\n\n\nスタジオ名\n砂銀Aスタジオ\n\n\nクラス\nリトルキッズ体操\n\n\n講師名\nMINORI→RYOGA\n\n\n日付\n8/24(日)\n\n\n時間\n11:10-12:10\n\n\n\n 
URL:https://quwands.jp/event/3707/
END:VEVENT
BEGIN:VEVENT
DTSTART;VALUE=DATE:20250824
DTEND;VALUE=DATE:20250825
DTSTAMP:20260425T211857
CREATED:20250822T031815Z
LAST-MODIFIED:20250822T031815Z
UID:3703-1755993600-1756079999@quwands.jp
SUMMARY:砂銀Bst 【Hana*】振替情報
DESCRIPTION:スタジオ名\n砂銀Bスタジオ\n\n\nクラス\nKIDS HIPHOP\n\n\n講師名\nHana*\n\n\n日付\n8/29(金)→8/24(日)\n\n\n時間\n17:10-18:10\n\n\n\n  \n\n\n\nスタジオ名\n砂銀Bスタジオ\n\n\nクラス\nHIPHOP入門\n\n\n講師名\nHana*\n\n\n日付\n8/29(金)→8/24(日)\n\n\n時間\n18:20-19:20\n\n\n\n  \n\n\n\nスタジオ名\n砂銀Bスタジオ\n\n\nクラス\nHIPHOP応用\n\n\n講師名\nHana*\n\n\n日付\n8/29(金)→8/24(日)\n\n\n時間\n19:30-21:00\n\n\n\n 
URL:https://quwands.jp/event/3703/
END:VEVENT
BEGIN:VEVENT
DTSTART;VALUE=DATE:20250824
DTEND;VALUE=DATE:20250825
DTSTAMP:20260425T211857
CREATED:20250822T031246Z
LAST-MODIFIED:20250828T055538Z
UID:3700-1755993600-1756079999@quwands.jp
SUMMARY:砂銀Ast 【ALISA/RIHONA】代講情報
DESCRIPTION:スタジオ名\n砂銀Bスタジオ→砂銀Aスタジオ\n\n\nクラス\nKIDS HIPHOP\n\n\n講師名\nALISA→RIHONA\n\n\n日付\n8/24(日)\n\n\n時間\n17:10-18:10\n\n\n\n  \n\n\n\nスタジオ名\n砂銀Bスタジオ→砂銀Aスタジオ\n\n\nクラス\nJAZZHIPHOP入門\n\n\n講師名\nALISA→RIHONA\n\n\n日付\n8/24(日)\n\n\n時間\n18:20-19:20\n\n\n\n  \n\n\n\nスタジオ名\n砂銀Bスタジオ→砂銀Aスタジオ\n\n\nクラス\nJAZZ 基礎応用\n\n\n講師名\nALISA→RIHONA\n\n\n日付\n8/24(日)\n\n\n時間\n19:30-21:00\n\n\n\n 
URL:https://quwands.jp/event/3700/
END:VEVENT
BEGIN:VEVENT
DTSTART;VALUE=DATE:20250823
DTEND;VALUE=DATE:20250824
DTSTAMP:20260425T211857
CREATED:20250822T034029Z
LAST-MODIFIED:20250822T105834Z
UID:3713-1755907200-1755993599@quwands.jp
SUMMARY:大島st 【Genki/Aoi】代講情報
DESCRIPTION:  \n\n\n\nスタジオ名\n大島スタジオ\n\n\nクラス\nキッズHIPHOP\n\n\n講師名\nGenki→Aoi\n\n\n日付\n8/23(土)\n\n\n時間\n14:10-15:10\n\n\n\n  \n\n\n\nスタジオ名\n大島スタジオ\n\n\nクラス\nHIPHOP入門\n\n\n講師名\nGenki→Aoi\n\n\n日付\n8/23(土)\n\n\n時間\n15:20-16:20\n\n\n\n  \n\n\n\nスタジオ名\n大島スタジオ\n\n\nクラス\nHIPHOP応用\n\n\n講師名\nGenki→Aoi\n\n\n日付\n8/23(土)\n\n\n時間\n16:30-18:00\n\n\n\n 
URL:https://quwands.jp/event/3713/
END:VEVENT
BEGIN:VEVENT
DTSTART;VALUE=DATE:20250823
DTEND;VALUE=DATE:20250824
DTSTAMP:20260425T211857
CREATED:20250805T050624Z
LAST-MODIFIED:20250818T130421Z
UID:3607-1755907200-1755993599@quwands.jp
SUMMARY:平井st【yu-ta】代講情報
DESCRIPTION:  \n\n\n\nスタジオ名\n平井スタジオ\n\n\nクラス\nキッズ体操\n\n\n講師名\nyu-ta→KAKERU\n\n\n日付\n8/23(土)\n\n\n時間\n14:10-15:10\n\n\n\n  \n\n\n\nスタジオ名\n平井スタジオ\n\n\nクラス\n体操\n\n\n講師名\nyu-ta→KAKERU\n\n\n日付\n8/23(土)\n\n\n時間\n15:20-16:50
URL:https://quwands.jp/event/3607/
END:VEVENT
BEGIN:VEVENT
DTSTART;VALUE=DATE:20250823
DTEND;VALUE=DATE:20250824
DTSTAMP:20260425T211857
CREATED:20250717T052216Z
LAST-MODIFIED:20250818T130314Z
UID:3552-1755907200-1755993599@quwands.jp
SUMMARY:砂銀Bst 【Mayong K Sato】振替情報
DESCRIPTION:スタジオ名\n砂銀Aスタジオ→砂銀Bスタジオ\n\n\nクラス\nHIPHOP応用\n\n\n講師名\nMayong K Sato\n\n\n日付\n8/23(土)→7/12(土)\n\n\n時間\n15:20-16:50→16:50-18:20\n\n\n\n 
URL:https://quwands.jp/event/3552/
END:VEVENT
BEGIN:VEVENT
DTSTART;VALUE=DATE:20250823
DTEND;VALUE=DATE:20250824
DTSTAMP:20260425T211858
CREATED:20250717T052029Z
LAST-MODIFIED:20250818T130846Z
UID:3551-1755907200-1755993599@quwands.jp
SUMMARY:砂銀Bst 【Mayong K Sato】振替情報
DESCRIPTION:スタジオ名\n砂銀Aスタジオ\n→砂銀Bスタジオ\n\n\nクラス\nHIPHOP入門\n\n\n講師名\nMayong K Sato\n\n\n日付\n8/23(土)\n→7/5(土)\n\n\n時間\n14:10-15:10\n→15:10-16:10\n\n\n\n 
URL:https://quwands.jp/event/3551/
END:VEVENT
BEGIN:VEVENT
DTSTART;VALUE=DATE:20250823
DTEND;VALUE=DATE:20250824
DTSTAMP:20260425T211858
CREATED:20250716T083632Z
LAST-MODIFIED:20250818T130914Z
UID:3520-1755907200-1755993599@quwands.jp
SUMMARY:砂銀Ast 【Mayong K Sato】振替情報
DESCRIPTION:スタジオ名\n砂銀Aスタジオ\n\n\nクラス\n大人超初級ダンス\n\n\n講師名\nMayong K Sato\n\n\n日付\n8/23(土)\n→7/26(土)\n\n\n時間\n17:10-18:10\n→18:10-19:10\n\n\n\n 
URL:https://quwands.jp/event/3520/
END:VEVENT
BEGIN:VEVENT
DTSTART;VALUE=DATE:20250822
DTEND;VALUE=DATE:20250823
DTSTAMP:20260425T211858
CREATED:20250822T111408Z
LAST-MODIFIED:20250829T011739Z
UID:3734-1755820800-1755907199@quwands.jp
SUMMARY:平井st 【ALISA/HARU】代講情報
DESCRIPTION:スタジオ名\n平井スタジオ\n\n\nクラス\nKIDS HIPHOP \n\n\n講師名\nALISA→HARU\n\n\n日付\n8/22(金)\n\n\n時間\n17:10-18:10\n\n\n\n  \n\n\n\nスタジオ名\n平井スタジオ\n\n\nクラス\nJAZZHIPHOP入門\n\n\n講師名\nALISA→HARU\n\n\n日付\n8/22(金)\n\n\n時間\n18:20-19:20\n\n\n\n  \n\n\n\nスタジオ名\n平井スタジオ\n\n\nクラス\nJAZZHIPHOP応用\n\n\n講師名\nALISA→HARU\n\n\n日付\n8/22(金)\n\n\n時間\n19:30-21:00
URL:https://quwands.jp/event/3734/
END:VEVENT
BEGIN:VEVENT
DTSTART;VALUE=DATE:20250821
DTEND;VALUE=DATE:20250822
DTSTAMP:20260425T211858
CREATED:20250821T065007Z
LAST-MODIFIED:20250821T065203Z
UID:3696-1755734400-1755820799@quwands.jp
SUMMARY:新小岩st【aoi kasahara/Reira】代講情報
DESCRIPTION:  \n\n\n\nスタジオ名\n新小岩スタジオ\n\n\nクラス\nKIDS JAZZ\n\n\n講師名\naoi kasahara→Reira\n\n\n日付\n8/21(木)\n\n\n時間\n17:10-18:10\n\n\n\n  \n\n\n\nスタジオ名\n新小岩スタジオ\n\n\nクラス\nJAZZ入門\n\n\n講師名\naoi kasahara→Reira\n\n\n日付\n8/21(木)\n\n\n時間\n18:20-19:20\n\n\n\n  \n\n\n\nスタジオ名\n新小岩スタジオ\n\n\nクラス\nJAZZ中級\n\n\n講師名\naoi kasahara→Reira\n\n\n日付\n8/21(木)\n\n\n時間\n19:30-20:45
URL:https://quwands.jp/event/3696/
END:VEVENT
BEGIN:VEVENT
DTSTART;VALUE=DATE:20250821
DTEND;VALUE=DATE:20250822
DTSTAMP:20260425T211858
CREATED:20250821T064446Z
LAST-MODIFIED:20250821T065116Z
UID:3694-1755734400-1755820799@quwands.jp
SUMMARY:砂銀Bst 【CHIKA、MINORI】振替情報
DESCRIPTION:スタジオ名\n砂銀Aスタジオ\n→砂銀Bスタジオ\n\n\nクラス\nリトルキッズ体操\n\n\n講師名\nCHIKA、MINORI合同\n\n\n日付\n8/21(木)\n\n\n時間\n16:00-17:00\n\n\n\n 
URL:https://quwands.jp/event/3694/
END:VEVENT
BEGIN:VEVENT
DTSTART;VALUE=DATE:20250821
DTEND;VALUE=DATE:20250822
DTSTAMP:20260425T211858
CREATED:20250818T031902Z
LAST-MODIFIED:20250818T125841Z
UID:3667-1755734400-1755820799@quwands.jp
SUMMARY:砂銀Bst 【Satodai】代講情報
DESCRIPTION:スタジオ名\n砂銀Bスタジオ\n\n\nクラス\nジュニア体操 \n\n\n講師名\nSatodai→RYOGA\n\n\n日付\n8/21(木)\n\n\n時間\n17:10-18:10\n\n\n\n  \n\n\n\nスタジオ名\n砂銀Bスタジオ\n\n\nクラス\n体操 \n\n\n講師名\nSatodai→Sho-hey\n\n\n日付\n8/21(木)\n\n\n時間\n18:20-19:20\n\n\n\n 
URL:https://quwands.jp/event/3667/
END:VEVENT
BEGIN:VEVENT
DTSTART;VALUE=DATE:20250821
DTEND;VALUE=DATE:20250822
DTSTAMP:20260425T211858
CREATED:20250818T031610Z
LAST-MODIFIED:20250818T125725Z
UID:3664-1755734400-1755820799@quwands.jp
SUMMARY:砂銀Bst 【MINORI】代講情報
DESCRIPTION:スタジオ名\n砂銀Bスタジオ\n\n\nクラス\nキッズ体操 \n\n\n講師名\nMINORI→RYOGA\n\n\n日付\n8/21(木)\n\n\n時間\n16:00-17:00\n\n\n\n 
URL:https://quwands.jp/event/3664/
END:VEVENT
BEGIN:VEVENT
DTSTART;VALUE=DATE:20250820
DTEND;VALUE=DATE:20250821
DTSTAMP:20260425T211858
CREATED:20250905T050425Z
LAST-MODIFIED:20250909T101112Z
UID:3933-1755648000-1755734399@quwands.jp
SUMMARY:平井スタジオ【YUKO】休講情報
DESCRIPTION:スタジオ名\n平井スタジオ\n\n\nクラス\nヨガ\n\n\n講師名\nYUKO\n\n\n日付\n8/20(水)\n\n\n時間\n20:00-21:00\n\n\n\n 
URL:https://quwands.jp/event/3933/
END:VEVENT
BEGIN:VEVENT
DTSTART;VALUE=DATE:20250820
DTEND;VALUE=DATE:20250821
DTSTAMP:20260425T211858
CREATED:20250818T031223Z
LAST-MODIFIED:20250818T125643Z
UID:3659-1755648000-1755734399@quwands.jp
SUMMARY:大島st 【優美香】振替情報
DESCRIPTION:  \n\n\n\nスタジオ名\n大島スタジオ\n\n\nクラス\nJAZZ入門 \n\n\n講師名\n優美香\n\n\n日付\n8/20(水)→10/29(水)\n\n\n時間\n18:20-19:20\n\n\n\n  \n\n\n\nスタジオ名\n大島スタジオ\n\n\nクラス\nJAZZ中級\n\n\n講師名\n優美香\n\n\n日付\n8/20(水)→10/29(水)\n\n\n時間\n19:30-21:00\n\n\n\n 
URL:https://quwands.jp/event/3659/
END:VEVENT
BEGIN:VEVENT
DTSTART;VALUE=DATE:20250820
DTEND;VALUE=DATE:20250821
DTSTAMP:20260425T211858
CREATED:20250723T052232Z
LAST-MODIFIED:20250818T125606Z
UID:3571-1755648000-1755734399@quwands.jp
SUMMARY:平井st 【CHIKA】代講情報
DESCRIPTION:スタジオ名\n平井スタジオ\n\n\nクラス\nキッズ体操\n\n\n講師名\nCHIKA→KAKERU\n\n\n日付\n8/20(水)\n\n\n時間\n16:40-17:40\n\n\n\n  \n\n\n\nスタジオ名\n平井スタジオ\n\n\nクラス\n体操\n\n\n講師名\nCHIKA→KAKERU\n\n\n日付\n8/20(水)\n\n\n時間\n17:50-19:20
URL:https://quwands.jp/event/3571/
END:VEVENT
BEGIN:VEVENT
DTSTART;VALUE=DATE:20250820
DTEND;VALUE=DATE:20250821
DTSTAMP:20260425T211858
CREATED:20250702T072838Z
LAST-MODIFIED:20250818T125519Z
UID:3354-1755648000-1755734399@quwands.jp
SUMMARY:新小岩st 【Ari_pown】代講情報
DESCRIPTION:スタジオ名\n新小岩スタジオ\n\n\nクラス\nKIDSHIPHOP\n\n\n講師名\nAri_pown→Hannah\n\n\n日付\n8/20(水) \n\n\n時間\n17:10-18:10\n\n\n\n  \n\n\n\nスタジオ名\n新小岩スタジオ\n\n\nクラス\nHIPHOP入門\n\n\n講師名\nAri_pown→Hannah\n\n\n日付\n8/20(水) \n\n\n時間\n18:20-19:20\n\n\n\n  \n\n\n\nスタジオ名\n新小岩スタジオ\n\n\nクラス\nHIPHOP応用\n\n\n講師名\nAri_pown→Hannah\n\n\n日付\n8/20(水) \n\n\n時間\n19:30-21:00\n\n\n\n 
URL:https://quwands.jp/event/3354/
END:VEVENT
BEGIN:VEVENT
DTSTART;VALUE=DATE:20250818
DTEND;VALUE=DATE:20250819
DTSTAMP:20260425T211858
CREATED:20250818T124330Z
LAST-MODIFIED:20250826T050903Z
UID:3670-1755475200-1755561599@quwands.jp
SUMMARY:新小岩st 【Lón/NewSteelo】代講情報
DESCRIPTION:スタジオ名\n新小岩スタジオ\n\n\nクラス\nBRAKIN 基礎応用\n\n\n講師名\nLón→NewSteelo\n\n\n日付\n8/18(月)\n\n\n時間\n19:30-20:45\n\n\n\n 
URL:https://quwands.jp/event/3670/
END:VEVENT
END:VCALENDAR