BEGIN:VCALENDAR
VERSION:2.0
PRODID:-//QUWANDS - ECPv6.10.2//NONSGML v1.0//EN
CALSCALE:GREGORIAN
METHOD:PUBLISH
X-WR-CALNAME:QUWANDS
X-ORIGINAL-URL:https://quwands.jp
X-WR-CALDESC:QUWANDS のイベント
REFRESH-INTERVAL;VALUE=DURATION:PT1H
X-Robots-Tag:noindex
X-PUBLISHED-TTL:PT1H
BEGIN:VTIMEZONE
TZID:Asia/Tokyo
BEGIN:STANDARD
TZOFFSETFROM:+0900
TZOFFSETTO:+0900
TZNAME:JST
DTSTART:20250101T000000
END:STANDARD
END:VTIMEZONE
BEGIN:VEVENT
DTSTART;VALUE=DATE:20250703
DTEND;VALUE=DATE:20250704
DTSTAMP:20260425T231250
CREATED:20250701T090818Z
LAST-MODIFIED:20250703T102240Z
UID:3274-1751500800-1751587199@quwands.jp
SUMMARY:平井スタジオ【舞】クラス振替情報
DESCRIPTION:スタジオ名\n平井スタジオ→新小岩スタジオ\n\n\nクラス\nKPOP入門\n\n\n講師名\n舞\n\n\n日付\n7/3(木)→7/5(土)\n\n\n時間\n18:20-19:20→19:00-20:00\n\n\n\n  \n\n\n\nスタジオ名\n平井スタジオ\n\n\nクラス\nKPOP応用\n\n\n講師名\n舞\n\n\n日付\n7/3(木)\n\n\n時間\n19:30-21:00→18:20-19:50\n\n\n\n 
URL:https://quwands.jp/event/3274/
END:VEVENT
BEGIN:VEVENT
DTSTART;VALUE=DATE:20250704
DTEND;VALUE=DATE:20250705
DTSTAMP:20260425T231250
CREATED:20250616T084640Z
LAST-MODIFIED:20250703T101723Z
UID:3258-1751587200-1751673599@quwands.jp
SUMMARY:平井スタジオ【ALISA】クラス振替情報
DESCRIPTION:スタジオ名\n平井スタジオ→砂Bスタジオ\n\n\nクラス\nキッズHIPHOP\n\n\n講師名\nALISA\n\n\n日付\n7/4(金)→6/29(日)\n\n\n時間\n17:10\n\n\n\n  \n\n\n\nスタジオ名\n平井スタジオ→砂Bスタジオ\n\n\nクラス\nJAZZHIPHOP入門\n\n\n講師名\nALISA\n\n\n日付\n7/4(金)→6/29(日)\n\n\n時間\n18:20\n\n\n\n 
URL:https://quwands.jp/event/3258/
END:VEVENT
BEGIN:VEVENT
DTSTART;VALUE=DATE:20250704
DTEND;VALUE=DATE:20250705
DTSTAMP:20260425T231250
CREATED:20250701T091522Z
LAST-MODIFIED:20250703T101804Z
UID:3276-1751587200-1751673599@quwands.jp
SUMMARY:砂Aスタジオ【yuine】クラス振替情報
DESCRIPTION:スタジオ名\n砂Aスタジオ→砂Bスタジオ\n\n\nクラス\nキッズJAZZ\n\n\n講師名\nyuine\n\n\n日付\n7/4(金)\n\n\n時間\n17:10\n\n\n\n  \n\n\n\nスタジオ名\n砂Aスタジオ→砂Bスタジオ\n\n\nクラス\nJAZZ入門\n\n\n講師名\nyuine\n\n\n日付\n7/4(金)\n\n\n時間\n18:20\n\n\n\n  \n\n\n\nスタジオ名\n砂Aスタジオ→砂Bスタジオ\n\n\nクラス\nJAZZ応用\n\n\n講師名\nyuine\n\n\n日付\n7/4(金)\n\n\n時間\n19:30\n\n\n\n 
URL:https://quwands.jp/event/3276/
END:VEVENT
BEGIN:VEVENT
DTSTART;VALUE=DATE:20250704
DTEND;VALUE=DATE:20250705
DTSTAMP:20260425T231250
CREATED:20250701T092047Z
LAST-MODIFIED:20250703T101856Z
UID:3278-1751587200-1751673599@quwands.jp
SUMMARY:砂Bスタジオ【Hana*】クラス振替情報
DESCRIPTION:スタジオ名\n砂Bスタジオ→砂Aスタジオ\n\n\nクラス\nキッズHIPHOP\n\n\n講師名\nHana*\n\n\n日付\n7/4(金)\n\n\n時間\n17:10\n\n\n\n  \n\n\n\nスタジオ名\n砂Bスタジオ→砂Aスタジオ\n\n\nクラス\nHIPHOP入門\n\n\n講師名\nHana*\n\n\n日付\n7/4(金)\n\n\n時間\n18:20\n\n\n\n  \n\n\n\nスタジオ名\n砂Bスタジオ→砂Aスタジオ\n\n\nクラス\nHIPHOP応用\n\n\n講師名\nHana*\n\n\n日付\n7/4(金)\n\n\n時間\n19:30\n\n\n\n 
URL:https://quwands.jp/event/3278/
END:VEVENT
BEGIN:VEVENT
DTSTART;VALUE=DATE:20250705
DTEND;VALUE=DATE:20250706
DTSTAMP:20260425T231250
CREATED:20250704T083848Z
LAST-MODIFIED:20250704T092213Z
UID:3450-1751673600-1751759999@quwands.jp
SUMMARY:砂銀Aスタジオ【Mayong K Sato】振替情報
DESCRIPTION:スタジオ名\n砂銀Aスタジオ→砂銀Bスタジオ\n\n\nクラス\nHIPHOP入門\n\n\n講師名\nMayong K Sato\n\n\n日付\n7/5(土)\n\n\n時間\n14:10-15:10\n\n\n\n  \n\n\n\nスタジオ名\n砂銀Aスタジオ→砂銀Bスタジオ\n\n\nクラス\nHIPHOP入門\n\n\n講師名\nMayong K Sato\n\n\n日付\n8/23(土)→7/5(土)\n\n\n時間\n14:10-15:10→15:10-16:10\n\n\n\n  \n\n\n\nスタジオ名\n砂銀Aスタジオ→砂銀Bスタジオ\n\n\nクラス\nHIPHOP応用\n\n\n講師名\nMayong K Sato\n\n\n日付\n7/5(土)\n\n\n時間\n15:20-16:50→16:20-17:50\n\n\n\n  \n\n\n\nスタジオ名\n砂銀Aスタジオ→砂銀Bスタジオ\n\n\nクラス\n大人超初級ダンス\n\n\n講師名\nMayong K Sato\n\n\n日付\n7/5(土)\n\n\n時間\n17:10-18:10→18:10-19:10
URL:https://quwands.jp/event/3450/
END:VEVENT
BEGIN:VEVENT
DTSTART;VALUE=DATE:20250705
DTEND;VALUE=DATE:20250706
DTSTAMP:20260425T231250
CREATED:20250523T072221Z
LAST-MODIFIED:20250703T102051Z
UID:3076-1751673600-1751759999@quwands.jp
SUMMARY:砂Bスタジオ【dayo】クラス振替情報
DESCRIPTION:  \n\n\n\nスタジオ名\n砂Bスタジオ\n\n\nクラス\nキッズチア\n\n\n講師名\ndayo\n\n\n日付\n7/5(土)→7/25(土)\n\n\n時間\n16:40-18:40→14:40-16:40\n\n\n\n  \n\n\n\nスタジオ名\n砂Bスタジオ\n\n\nクラス\nJAZZ基礎応用\n\n\n講師名\ndayo\n\n\n日付\n7/5(土)→7/25(土)\n\n\n時間\n17:50-20:50→11:30-14:30\n\n\n\n 
URL:https://quwands.jp/event/3076/
END:VEVENT
BEGIN:VEVENT
DTSTART;VALUE=DATE:20250705
DTEND;VALUE=DATE:20250706
DTSTAMP:20260425T231250
CREATED:20250701T092639Z
LAST-MODIFIED:20250703T102558Z
UID:3280-1751673600-1751759999@quwands.jp
SUMMARY:新小岩スタジオ【舞】クラス振替情報
DESCRIPTION:スタジオ名\n平井スタジオ→新小岩スタジオ\n\n\nクラス\nKPOP入門\n\n\n講師名\n舞\n\n\n日付\n7/3(木)→7/5(土)\n\n\n時間\n18:20-19:20→19:00-20:00\n\n\n\n 
URL:https://quwands.jp/event/3280/
END:VEVENT
BEGIN:VEVENT
DTSTART;VALUE=DATE:20250705
DTEND;VALUE=DATE:20250706
DTSTAMP:20260425T231250
CREATED:20250704T084415Z
LAST-MODIFIED:20250704T092323Z
UID:3453-1751673600-1751759999@quwands.jp
SUMMARY:大島スタジオ【Genki】振替情報
DESCRIPTION:スタジオ名\n大島スタジオ\n\n\nクラス\nキッズHIPHOP\n\n\n講師名\nGenki\n\n\n日付\n7/5(土)→振替日調整中\n\n\n時間\n14:10-15:10\n\n\n\n  \n\n\n\nスタジオ名\n大島スタジオ\n\n\nクラス\nHIPHOP入門\n\n\n講師名\nGenki\n\n\n日付\n7/5(土)→振替日調整中\n\n\n時間\n15:20-16:20\n\n\n\n  \n\n\n\nスタジオ名\n大島スタジオ\n\n\nクラス\nHIPHOP応用\n\n\n講師名\nGenki\n\n\n日付\n7/5(土)→振替日調整中\n\n\n時間\n16:30-18:00\n\n\n\n 
URL:https://quwands.jp/event/3453/
END:VEVENT
BEGIN:VEVENT
DTSTART;VALUE=DATE:20250705
DTEND;VALUE=DATE:20250706
DTSTAMP:20260425T231250
CREATED:20250704T093438Z
LAST-MODIFIED:20250704T093438Z
UID:3461-1751673600-1751759999@quwands.jp
SUMMARY:平井スタジオ【yu-ta】代講情報
DESCRIPTION:スタジオ名\n平井スタジオ\n\n\nクラス\nキッズ体操\n\n\n講師名\nyu-ta→KAKERU\n\n\n日付\n7/5(土)\n\n\n時間\n14:10-15:10\n\n\n\n  \n\n\n\nスタジオ名\n平井スタジオ\n\n\nクラス\n体操\n\n\n講師名\nyu-ta→KAKERU\n\n\n日付\n7/5(土)\n\n\n時間\n15:20-16:50\n\n\n\n 
URL:https://quwands.jp/event/3461/
END:VEVENT
BEGIN:VEVENT
DTSTART;VALUE=DATE:20250709
DTEND;VALUE=DATE:20250710
DTSTAMP:20260425T231250
CREATED:20250702T040144Z
LAST-MODIFIED:20250704T103627Z
UID:3285-1752019200-1752105599@quwands.jp
SUMMARY:大島スタジオ【yuine/Rui】クラス代講情報
DESCRIPTION:スタジオ名\n大島スタジオ\n\n\nクラス\nキッズJAZZ\n\n\n講師名\nyuine→Rui\n\n\n日付\n7/9(水)\n\n\n時間\n17:00\n\n\n\n 
URL:https://quwands.jp/event/3285/
END:VEVENT
BEGIN:VEVENT
DTSTART;VALUE=DATE:20250710
DTEND;VALUE=DATE:20250711
DTSTAMP:20260425T231250
CREATED:20250702T041120Z
LAST-MODIFIED:20250703T102916Z
UID:3289-1752105600-1752191999@quwands.jp
SUMMARY:平井スタジオ【舞】クラス振替情報
DESCRIPTION:スタジオ名\n平井スタジオ→新小岩スタジオ\n\n\nクラス\nKPOP入門\n\n\n講師名\n舞\n\n\n日付\n7/10(木)→7/12(土)\n\n\n時間\n18:20-19:20→19:00-20:00\n\n\n\n  \n\n\n\nスタジオ名\n平井スタジオ\n\n\nクラス\nKPOP応用\n\n\n講師名\n舞\n\n\n日付\n7/10(木)\n\n\n時間\n19:30-21:00→18:20-19:50\n\n\n\n 
URL:https://quwands.jp/event/3289/
END:VEVENT
BEGIN:VEVENT
DTSTART;VALUE=DATE:20250712
DTEND;VALUE=DATE:20250713
DTSTAMP:20260425T231250
CREATED:20250523T072845Z
LAST-MODIFIED:20250703T103100Z
UID:3081-1752278400-1752364799@quwands.jp
SUMMARY:砂Bスタジオ【dayo】クラス振替情報
DESCRIPTION:  \n\n\n\nスタジオ名\n砂Bスタジオ\n\n\nクラス\nキッズチア\n\n\n講師名\ndayo\n\n\n日付\n7/12(土)→7/25(土)\n\n\n時間\n16:40-18:40→14:40-16:40\n\n\n\n  \n\n\n\nスタジオ名\n砂Bスタジオ\n\n\nクラス\nJAZZ基礎応用\n\n\n講師名\ndayo\n\n\n日付\n7/12(土)→7/25(土)\n\n\n時間\n17:50-20:50→11:30-14:30\n\n\n\n 
URL:https://quwands.jp/event/3081/
END:VEVENT
BEGIN:VEVENT
DTSTART;VALUE=DATE:20250712
DTEND;VALUE=DATE:20250713
DTSTAMP:20260425T231250
CREATED:20250702T041613Z
LAST-MODIFIED:20250703T103153Z
UID:3291-1752278400-1752364799@quwands.jp
SUMMARY:新小岩スタジオ【舞】クラス振替情報
DESCRIPTION:スタジオ名\n平井スタジオ→新小岩スタジオ\n\n\nクラス\nKPOP入門\n\n\n講師名\n舞\n\n\n日付\n7/10(木)→7/12(土)\n\n\n時間\n18:20-19:20→19:00-20:00\n\n\n\n 
URL:https://quwands.jp/event/3291/
END:VEVENT
BEGIN:VEVENT
DTSTART;VALUE=DATE:20250712
DTEND;VALUE=DATE:20250713
DTSTAMP:20260425T231250
CREATED:20250704T092025Z
LAST-MODIFIED:20250709T030051Z
UID:3455-1752278400-1752364799@quwands.jp
SUMMARY:大島スタジオ【Genki】振替情報
DESCRIPTION:スタジオ名\n大島スタジオ\n\n\nクラス\nキッズHIPHOP\n\n\n講師名\nGenki\n\n\n日付\n7/12(土)→7/19(土)、7/26(土)\n\n\n時間\n14:10-15:10→14:10-15:40\n\n\n\n  \n\n\n\nスタジオ名\n大島スタジオ\n\n\nクラス\nHIPHOP入門\n\n\n講師名\nGenki\n\n\n日付\n7/12(土)→7/25(金)\n\n\n時間\n15:20-16:20→12:30-14:30\n\n\n\n  \n\n\n\nスタジオ名\n大島スタジオ\n\n\nクラス\nHIPHOP応用\n\n\n講師名\nGenki\n\n\n日付\n7/12(土)→7/19(土)、7/26(土)\n\n\n時間\n16:30-18:00→17:00-19:00
URL:https://quwands.jp/event/3455/
END:VEVENT
BEGIN:VEVENT
DTSTART;VALUE=DATE:20250712
DTEND;VALUE=DATE:20250713
DTSTAMP:20260425T231250
CREATED:20250707T014252Z
LAST-MODIFIED:20250707T014252Z
UID:3463-1752278400-1752364799@quwands.jp
SUMMARY:砂銀Aスタジオ【Mayong K Sato】振替情報
DESCRIPTION:スタジオ名\n砂銀Aスタジオ→砂銀Bスタジオ\n\n\nクラス\nHIPHOP入門\n\n\n講師名\nMayong K Sato\n\n\n日付\n7/12(土)\n\n\n時間\n14:10-15:10\n\n\n\n  \n\n\n\nスタジオ名\n砂銀Aスタジオ→砂銀Bスタジオ\n\n\nクラス\nHIPHOP応用\n\n\n講師名\nMayong K Sato\n\n\n日付\n7/12(土)\n\n\n時間\n15:20-16:50\n\n\n\n  \n\n\n\nスタジオ名\n砂銀Aスタジオ→砂銀Bスタジオ\n\n\nクラス\nHIPHOP応用\n\n\n講師名\nMayong K Sato\n\n\n日付\n8/23(土)→7/12(土)\n\n\n時間\n15:20-16:50→16:50-18:20\n\n\n\n  \n\n\n\nスタジオ名\n砂銀Aスタジオ→砂銀Bスタジオ\n\n\nクラス\n大人超初級ダンス\n\n\n講師名\nMayong K Sato\n\n\n日付\n7/12(土)\n\n\n時間\n17:10-18:10→18:40-19:40\n\n\n\n 
URL:https://quwands.jp/event/3463/
END:VEVENT
BEGIN:VEVENT
DTSTART;VALUE=DATE:20250715
DTEND;VALUE=DATE:20250716
DTSTAMP:20260425T231250
CREATED:20250707T014444Z
LAST-MODIFIED:20250707T014444Z
UID:3465-1752537600-1752623999@quwands.jp
SUMMARY:平井スタジオ【YUKO】振替情報
DESCRIPTION:スタジオ名\n平井スタジオ\n\n\nクラス\nヨガ\n\n\n講師名\nYUKO\n\n\n日付\n7/16(水)→7/15(火)\n\n\n時間\n20:00-21:00→10:00-11:00\n\n\n\n 
URL:https://quwands.jp/event/3465/
END:VEVENT
BEGIN:VEVENT
DTSTART;VALUE=DATE:20250716
DTEND;VALUE=DATE:20250717
DTSTAMP:20260425T231250
CREATED:20250702T054100Z
LAST-MODIFIED:20250704T092847Z
UID:3293-1752624000-1752710399@quwands.jp
SUMMARY:大島スタジオ【優美香】クラス振替情報
DESCRIPTION:スタジオ名\n大島スタジオ\n\n\nクラス\nJAZZ入門\n\n\n講師名\n優美香\n\n\n日付\n7/16(水)→6/25(水)\n\n\n時間\n18:20-19:20→19:30-20:30\n\n\n\n  \n\n\n\nスタジオ名\n大島スタジオ→砂Bスタジオ\n\n\nクラス\nJAZZ中級\n\n\n講師名\n優美香\n\n\n日付\n7/16(水)→7/24(木)\n\n\n時間\n19:30-21:00→10:00-11:30\n\n\n\n 
URL:https://quwands.jp/event/3293/
END:VEVENT
BEGIN:VEVENT
DTSTART;VALUE=DATE:20250716
DTEND;VALUE=DATE:20250717
DTSTAMP:20260425T231250
CREATED:20250716T084805Z
LAST-MODIFIED:20250716T084805Z
UID:3530-1752624000-1752710399@quwands.jp
SUMMARY:砂Aスタジオ【Mayong K Sato】クラス振替情報
DESCRIPTION:スタジオ名\n砂銀Aスタジオ→砂銀Bスタジオ\n\n\nクラス\nHIPHOP入門\n\n\n講師名\nMayong K Sato\n\n\n日付\n8/23(土)→7/5(土)\n\n\n時間\n14:10-15:10→15:10-16:10\n\n\n\n  \n\n\n\nスタジオ名\n砂銀Aスタジオ→砂銀Bスタジオ\n\n\nクラス\nHIPHOP応用\n\n\n講師名\nMayong K Sato\n\n\n日付\n8/23(土)→7/12(土)\n\n\n時間\n15:20-16:50→16:50-18:20\n\n\n\n\n  \n\n\n\nスタジオ名\n砂銀Aスタジオ\n\n\nクラス\n大人超初級ダンス\n\n\n講師名\nMayong K Sato\n\n\n日付\n8/23(土)→7/26(土)\n\n\n時間\n17:10-18:10→18:10-19:10\n\n\n\n 
URL:https://quwands.jp/event/3530/
END:VEVENT
BEGIN:VEVENT
DTSTART;VALUE=DATE:20250716
DTEND;VALUE=DATE:20250717
DTSTAMP:20260425T231250
CREATED:20250707T014601Z
LAST-MODIFIED:20250707T014601Z
UID:3467-1752624000-1752710399@quwands.jp
SUMMARY:平井スタジオ【YUKO】振替情報
DESCRIPTION:スタジオ名\n平井スタジオ\n\n\nクラス\nヨガ\n\n\n講師名\nYUKO\n\n\n日付\n7/16(水)→7/15(火)\n\n\n時間\n20:00-21:00→10:00-11:00\n\n\n\n 
URL:https://quwands.jp/event/3467/
END:VEVENT
BEGIN:VEVENT
DTSTART;VALUE=DATE:20250717
DTEND;VALUE=DATE:20250718
DTSTAMP:20260425T231250
CREATED:20250702T055501Z
LAST-MODIFIED:20250704T092902Z
UID:3309-1752710400-1752796799@quwands.jp
SUMMARY:大島スタジオ【manabu】クラス振替情報
DESCRIPTION:スタジオ名\n大島スタジオ\n\n\nクラス\nHIPHOP入門\n\n\n講師名\nmanabu\n\n\n日付\n7/17(木)→6/26(木)\n\n\n時間\n18:20-19:20→19:30-20:30\n\n\n\n  \n\n\n\nスタジオ名\n大島スタジオ\n\n\nクラス\nHIPHOP応用\n\n\n講師名\nmanabu\n\n\n日付\n7/17(木)→振替日調整中\n\n\n時間\n19:30 \n\n\n\n 
URL:https://quwands.jp/event/3309/
END:VEVENT
BEGIN:VEVENT
DTSTART;VALUE=DATE:20250717
DTEND;VALUE=DATE:20250718
DTSTAMP:20260425T231250
CREATED:20250702T054630Z
LAST-MODIFIED:20250703T103455Z
UID:3301-1752710400-1752796799@quwands.jp
SUMMARY:平井スタジオ【舞】クラス振替情報
DESCRIPTION:スタジオ名\n平井スタジオ→新小岩スタジオ\n\n\nクラス\nKPOP入門\n\n\n講師名\n舞\n\n\n日付\n7/17(木)→7/19(土)\n\n\n時間\n18:20-19:20→19:00-20:00\n\n\n\n  \n\n\n\nスタジオ名\n平井スタジオ\n\n\nクラス\nKPOP応用\n\n\n講師名\n舞\n\n\n日付\n7/17(木)\n\n\n時間\n19:30-21:00→18:20-19:50\n\n\n\n 
URL:https://quwands.jp/event/3301/
END:VEVENT
BEGIN:VEVENT
DTSTART;VALUE=DATE:20250717
DTEND;VALUE=DATE:20250718
DTSTAMP:20260425T231250
CREATED:20250707T014804Z
LAST-MODIFIED:20250707T014804Z
UID:3469-1752710400-1752796799@quwands.jp
SUMMARY:砂銀Aスタジオ【Omi】振替情報
DESCRIPTION:スタジオ名\n砂銀Aスタジオ\n\n\nクラス\nR＆B\n\n\n講師名\nOmi\n\n\n日付\n7/17(木)→7/24(木)\n\n\n時間\n19:45-21:00→18:30-19:45\n\n\n\n 
URL:https://quwands.jp/event/3469/
END:VEVENT
BEGIN:VEVENT
DTSTART;VALUE=DATE:20250719
DTEND;VALUE=DATE:20250720
DTSTAMP:20260425T231250
CREATED:20250709T031827Z
LAST-MODIFIED:20250709T031844Z
UID:3487-1752883200-1752969599@quwands.jp
SUMMARY:大島スタジオ【Genki】クラス振替情報
DESCRIPTION:スタジオ名\n大島スタジオ\n\n\nクラス\nキッズHIPHOP\n\n\n講師名\nGenki\n\n\n日付\n7/12(土)→7/19(土)、7/26(土)\n\n\n時間\n14:10-15:10→14:10-15:40 \n\n\n\n  \n\n\n\nスタジオ名\n大島スタジオ\n\n\nクラス\nHIPHOP入門\n\n\n講師名\nGenki\n\n\n日付\n7/19(土)\n\n\n時間\n15:20-16:20→15:50-16:50\n\n\n\n  \n\n\n\nスタジオ名\n大島スタジオ\n\n\nクラス\nHIPHOP応用\n\n\n講師名\nGenki\n\n\n日付\n7/12(土)→7/19(土)、7/26(土)\n\n\n時間\n16:30-18:00→17:00-19:00 \n\n\n\n 
URL:https://quwands.jp/event/3487/
END:VEVENT
BEGIN:VEVENT
DTSTART;VALUE=DATE:20250719
DTEND;VALUE=DATE:20250720
DTSTAMP:20260425T231250
CREATED:20250702T062022Z
LAST-MODIFIED:20250703T103645Z
UID:3316-1752883200-1752969599@quwands.jp
SUMMARY:新小岩スタジオ【舞】クラス振替情報
DESCRIPTION:スタジオ名\n平井スタジオ→新小岩スタジオ\n\n\nクラス\nKPOP入門\n\n\n講師名\n舞\n\n\n日付\n7/17(木)→7/19(土)\n\n\n時間\n18:20-19:20→19:00-20:00\n\n\n\n 
URL:https://quwands.jp/event/3316/
END:VEVENT
BEGIN:VEVENT
DTSTART;VALUE=DATE:20250719
DTEND;VALUE=DATE:20250720
DTSTAMP:20260425T231250
CREATED:20250702T062114Z
LAST-MODIFIED:20250703T103728Z
UID:3318-1752883200-1752969599@quwands.jp
SUMMARY:砂Bスタジオ【CHIKA】クラス振替情報
DESCRIPTION:スタジオ名\n平井スタジオ→砂Bスタジオ\n\n\nクラス\nリトルダンス\n\n\n講師名\nCHIKA\n\n\n日付\n7/20(日)→7/19(土)\n\n\n時間\n13:00-14:00→14:30-15:30\n\n\n\n 
URL:https://quwands.jp/event/3318/
END:VEVENT
BEGIN:VEVENT
DTSTART;VALUE=DATE:20250719
DTEND;VALUE=DATE:20250720
DTSTAMP:20260425T231250
CREATED:20250707T014939Z
LAST-MODIFIED:20250707T014939Z
UID:3471-1752883200-1752969599@quwands.jp
SUMMARY:平井スタジオ【YUKO】休講情報
DESCRIPTION:スタジオ名\n平井スタジオ\n\n\nクラス\nヨガストレッチ\n\n\n講師名\nYUKO\n\n\n日付\n7/19(土)\n\n\n時間\n9:30-10:30\n\n\n\n  \n\n\n\nスタジオ名\n平井スタジオ\n\n\nクラス\nヨガ\n\n\n講師名\nYUKO\n\n\n日付\n7/19(土)\n\n\n時間\n10:40-11:40\n\n\n\n 
URL:https://quwands.jp/event/3471/
END:VEVENT
BEGIN:VEVENT
DTSTART;VALUE=DATE:20250720
DTEND;VALUE=DATE:20250721
DTSTAMP:20260425T231250
CREATED:20250508T090345Z
LAST-MODIFIED:20250709T032057Z
UID:3000-1752969600-1753055999@quwands.jp
SUMMARY:大島スタジオ【moeko】クラス振替情報
DESCRIPTION:スタジオ名\n大島スタジオ\n\n\nクラス\nKIDS DANCE\n\n\n講師名\nmoeko\n\n\n日付\n7/20(日)→6/29(日)\n\n\n時間\n10:00\n\n\n\n  \n\n\n\nスタジオ名\n大島スタジオ\n\n\nクラス\nJAZZHIP入門\n\n\n講師名\nmoeko\n\n\n日付\n7/20(日)→6/29(日)\n\n\n時間\n11:10 \n\n\n\n 
URL:https://quwands.jp/event/3000/
END:VEVENT
BEGIN:VEVENT
DTSTART;VALUE=DATE:20250720
DTEND;VALUE=DATE:20250721
DTSTAMP:20260425T231250
CREATED:20250702T060136Z
LAST-MODIFIED:20250703T103809Z
UID:3311-1752969600-1753055999@quwands.jp
SUMMARY:平井スタジオ【CHIKA】クラス振替情報
DESCRIPTION:スタジオ名\n平井スタジオ→砂Bスタジオ\n\n\nクラス\nリトルダンス\n\n\n講師名\nCHIKA\n\n\n日付\n7/20(日)→7/19(土)\n\n\n時間\n13:00-14:00→14:30-15:30\n\n\n\n 
URL:https://quwands.jp/event/3311/
END:VEVENT
BEGIN:VEVENT
DTSTART;VALUE=DATE:20250721
DTEND;VALUE=DATE:20250722
DTSTAMP:20260425T231250
CREATED:20250523T074639Z
LAST-MODIFIED:20250707T032117Z
UID:3091-1753056000-1753142399@quwands.jp
SUMMARY:砂Bスタジオ【HIKARU】クラス振替情報
DESCRIPTION:スタジオ名\n大島スタジオ→砂銀Bスタジオ\n\n\nクラス\nKIDS KPOP\n\n\n講師名\nHIKARU\n\n\n日付\n8/5(火)→7/21(月)(祝)\n\n\n時間\n17:10-18:10→11:30-12:30\n\n\n\n  \n\n\n\nスタジオ名\n大島スタジオ→砂銀Bスタジオ\n\n\nクラス\nKPOP入門\n\n\n講師名\nHIKARU\n\n\n日付\n8/5(火)→7/21(月)(祝)\n\n\n時間\n18:20-19:20→12:40-13:40\n\n\n\n  \n\n\n\nスタジオ名\n大島スタジオ→砂Bスタジオ\n\n\nクラス\nKPOP応用\n\n\n講師名\nHIKARU\n\n\n日付変更\n8/5(火)→7/21(月)(祝)\n\n\n時間変更\n19:30-21:00→13:50-15:20\n\n\n\n 
URL:https://quwands.jp/event/3091/
END:VEVENT
BEGIN:VEVENT
DTSTART;VALUE=DATE:20250721
DTEND;VALUE=DATE:20250722
DTSTAMP:20260425T231250
CREATED:20250709T032843Z
LAST-MODIFIED:20250709T032843Z
UID:3492-1753056000-1753142399@quwands.jp
SUMMARY:大島スタジオ【Genki】クラス振替情報
DESCRIPTION:スタジオ名\n大島スタジオ\n\n\nクラス\nキッズHIPHOP\n\n\n講師名\nGenki\n\n\n日付\n7/5(土)→7/21(月)(祝)\n\n\n時間\n14:10-15:10→15:30-16:30 \n\n\n\n 
URL:https://quwands.jp/event/3492/
END:VEVENT
END:VCALENDAR