BEGIN:VCALENDAR
VERSION:2.0
PRODID:-//QUWANDS - ECPv6.10.2//NONSGML v1.0//EN
CALSCALE:GREGORIAN
METHOD:PUBLISH
X-ORIGINAL-URL:https://quwands.jp
X-WR-CALDESC:QUWANDS のイベント
REFRESH-INTERVAL;VALUE=DURATION:PT1H
X-Robots-Tag:noindex
X-PUBLISHED-TTL:PT1H
BEGIN:VTIMEZONE
TZID:Asia/Tokyo
BEGIN:STANDARD
TZOFFSETFROM:+0900
TZOFFSETTO:+0900
TZNAME:JST
DTSTART:20250101T000000
END:STANDARD
END:VTIMEZONE
BEGIN:VEVENT
DTSTART;VALUE=DATE:20250901
DTEND;VALUE=DATE:20250902
DTSTAMP:20260425T193515
CREATED:20250822T110751Z
LAST-MODIFIED:20250822T110800Z
UID:3729-1756684800-1756771199@quwands.jp
SUMMARY:砂銀Ast 【ALISA/舞】代講情報
DESCRIPTION:  \n\n\n\nスタジオ名\n砂銀Aスタジオ\n\n\nクラス\nリトルキッズダンス\n\n\n講師名\nALISA→舞\n\n\n日付\n9/1(月)\n\n\n時間\n16:00-17:00\n\n\n\n  \n\n\n\nスタジオ名\n砂銀Aスタジオ\n\n\nクラス\nKIDS HIPHOP\n\n\n講師名\nALISA→舞\n\n\n日付\n9/1(月)\n\n\n時間\n17:10-18:10\n\n\n\n  \n\n\n\nスタジオ名\n砂銀Aスタジオ\n\n\nクラス\nJAZZHIPHOP入門\n\n\n講師名\nALISA→舞\n\n\n日付\n9/1(月)\n\n\n時間\n18:20-19:20\n\n\n\n 
URL:https://quwands.jp/event/3729/
END:VEVENT
BEGIN:VEVENT
DTSTART;VALUE=DATE:20250901
DTEND;VALUE=DATE:20250902
DTSTAMP:20260425T193515
CREATED:20250903T092330Z
LAST-MODIFIED:20250903T092330Z
UID:3869-1756684800-1756771199@quwands.jp
SUMMARY:大島スタジオ【yu-ta/Sho-hey】代講情報
DESCRIPTION:  \n\n\n\nスタジオ名\n大島スタジオ\n\n\nクラス\nキッズ体操\n\n\n講師名\nyu-ta→Sho-hey\n\n\n日付\n9/1(月)\n\n\n時間\n17:10-18:10\n\n\n\n  \n\n\n\nスタジオ名\n大島スタジオ\n\n\nクラス\n体操\n\n\n講師名\nyu-ta→Sho-hey\n\n\n日付\n9/1(月)\n\n\n時間\n18:20-19:20\n\n\n\n 
URL:https://quwands.jp/event/3869/
END:VEVENT
BEGIN:VEVENT
DTSTART;VALUE=DATE:20250901
DTEND;VALUE=DATE:20250902
DTSTAMP:20260425T193515
CREATED:20250905T011433Z
LAST-MODIFIED:20250905T011433Z
UID:3912-1756684800-1756771199@quwands.jp
SUMMARY:新小岩スタジオ【Lón/newsteelo】代講情報
DESCRIPTION:  \n\n\n\nスタジオ名\n新小岩スタジオ\n\n\nクラス\nブレイキン基礎応用\n\n\n講師名\nLón→newsteelo\n\n\n日付\n9/1(月)\n\n\n時間\n19:30-20:45\n\n\n\n  \n 
URL:https://quwands.jp/event/3912/
END:VEVENT
BEGIN:VEVENT
DTSTART;VALUE=DATE:20250902
DTEND;VALUE=DATE:20250903
DTSTAMP:20260425T193515
CREATED:20250829T012359Z
LAST-MODIFIED:20250829T012359Z
UID:3823-1756771200-1756857599@quwands.jp
SUMMARY:砂銀Ast 【KYOKA/HARU】代講情報
DESCRIPTION:スタジオ名\n砂銀Aスタジオ\n\n\nクラス\nKIDS HIPHOP \n\n\n講師名\nKYOKA→HARU\n\n\n日付\n9/2(火)\n\n\n時間\n17:10-18:10\n\n\n\n  \n\n\n\nスタジオ名\n砂銀Aスタジオ\n\n\nクラス\nHIPHOP入門\n\n\n講師名\nKYOKA→HARU\n\n\n日付\n9/2(火)\n\n\n時間\n18:20-19:20\n\n\n\n  \n\n\n\nスタジオ名\n砂銀Aスタジオ\n\n\nクラス\nHIPHOP中級\n\n\n講師名\nKYOKA→HARU\n\n\n日付\n9/2(火)\n\n\n時間\n19:30-20:45
URL:https://quwands.jp/event/3823/
END:VEVENT
BEGIN:VEVENT
DTSTART;VALUE=DATE:20250902
DTEND;VALUE=DATE:20250903
DTSTAMP:20260425T193515
CREATED:20250829T013333Z
LAST-MODIFIED:20250829T013357Z
UID:3837-1756771200-1756857599@quwands.jp
SUMMARY:平井st 【YUKO】振替情報
DESCRIPTION:スタジオ名\n平井スタジオ\n\n\nクラス\nヨガ\n\n\n講師名\nYUKO\n\n\n日付\n9/3(水)→9/2(火)\n\n\n時間\n20:00-21:00→10:00-11:00\n\n\n\n 
URL:https://quwands.jp/event/3837/
END:VEVENT
BEGIN:VEVENT
DTSTART;VALUE=DATE:20250902
DTEND;VALUE=DATE:20250903
DTSTAMP:20260425T193515
CREATED:20250903T092727Z
LAST-MODIFIED:20250903T092727Z
UID:3871-1756771200-1756857599@quwands.jp
SUMMARY:新小岩スタジオ【Airi】振替情報
DESCRIPTION:スタジオ名\n新小岩スタジオ\n\n\nクラス\nKIDS HIPHOP\n\n\n講師名\nAiri\n\n\n日付\n9/2(火)→9/30(火)\n\n\n時間\n17:10-18:10\n\n\n\n  \n\n\n\nスタジオ名\n新小岩スタジオ\n\n\nクラス\nHIPHOP入門\n\n\n講師名\nAiri\n\n\n日付\n9/2(火)→9/30(火)\n\n\n時間\n18:20-19:20\n\n\n\n  \n\n\n\nスタジオ名\n新小岩スタジオ\n\n\nクラス\nHIPHOP中級\n\n\n講師名\nAiri\n\n\n日付\n9/2(火)→9/30(火)\n\n\n時間\n19:30-20:45
URL:https://quwands.jp/event/3871/
END:VEVENT
BEGIN:VEVENT
DTSTART;VALUE=DATE:20250903
DTEND;VALUE=DATE:20250904
DTSTAMP:20260425T193515
CREATED:20250829T013421Z
LAST-MODIFIED:20250829T013437Z
UID:3840-1756857600-1756943999@quwands.jp
SUMMARY:平井st 【YUKO】振替情報
DESCRIPTION:スタジオ名\n平井スタジオ\n\n\nクラス\nヨガ\n\n\n講師名\nYUKO\n\n\n日付\n9/3(水)→9/2(火)\n\n\n時間\n20:00-21:00→10:00-11:00\n\n\n\n 
URL:https://quwands.jp/event/3840/
END:VEVENT
BEGIN:VEVENT
DTSTART;VALUE=DATE:20250903
DTEND;VALUE=DATE:20250904
DTSTAMP:20260425T193515
CREATED:20250829T013754Z
LAST-MODIFIED:20250829T013754Z
UID:3842-1756857600-1756943999@quwands.jp
SUMMARY:砂銀Ast 【RIHONA】振替情報
DESCRIPTION:スタジオ名\n砂銀Aスタジオ\n\n\nクラス\nKIDS HIPHOP\n\n\n講師名\nRIHONA\n\n\n日付\n9/3(水)→9/23(火)\n\n\n時間\n17:10-18:10→12:00-13:00\n\n\n\n  \n\n\n\nスタジオ名\n砂銀Aスタジオ\n\n\nクラス\nJAZZHIPHOP入門\n\n\n講師名\nRIHONA\n\n\n日付\n9/3(水)→9/23(火)\n\n\n時間\n18:20-19:20→13:10-14:10
URL:https://quwands.jp/event/3842/
END:VEVENT
BEGIN:VEVENT
DTSTART;VALUE=DATE:20250903
DTEND;VALUE=DATE:20250904
DTSTAMP:20260425T193515
CREATED:20250829T053220Z
LAST-MODIFIED:20250911T051745Z
UID:3848-1756857600-1756943999@quwands.jp
SUMMARY:大島st 【aoi kasahara/hiyoo】代講情報
DESCRIPTION:スタジオ名\n大島スタジオ\n\n\nクラス\nKIDS JAZZ\n\n\n講師名\naoi kasahara→hiyoo\n\n\n日付\n9/3(水)\n\n\n時間\n17:00-18:00\n\n\n\n 
URL:https://quwands.jp/event/3848/
END:VEVENT
BEGIN:VEVENT
DTSTART;VALUE=DATE:20250903
DTEND;VALUE=DATE:20250904
DTSTAMP:20260425T193515
CREATED:20250903T091734Z
LAST-MODIFIED:20250903T091734Z
UID:3867-1756857600-1756943999@quwands.jp
SUMMARY:砂銀Ast 【Genki/Omi】代講情報
DESCRIPTION:  \n\n\n\nスタジオ名\n砂銀Aスタジオ\n\n\nクラス\nHIPHOP中級\n\n\n講師名\nGenki→Omi\n\n\n日付\n9/3(水)\n\n\n時間\n19:30-20:45\n\n\n\n  \n 
URL:https://quwands.jp/event/3867/
END:VEVENT
BEGIN:VEVENT
DTSTART;VALUE=DATE:20250904
DTEND;VALUE=DATE:20250905
DTSTAMP:20260425T193515
CREATED:20250825T071705Z
LAST-MODIFIED:20250825T071705Z
UID:3787-1756944000-1757030399@quwands.jp
SUMMARY:砂銀Bst 【CHIKA/MINORI合同】振替情報
DESCRIPTION:スタジオ名\n砂銀Aスタジオ→砂銀Bスタジオ\n\n\nクラス\nリトルキッズ体操\n\n\n講師名\nCHIKA、MINORI合同\n\n\n日付\n9/4(木)\n\n\n時間\n16:00-17:00\n\n\n\n 
URL:https://quwands.jp/event/3787/
END:VEVENT
BEGIN:VEVENT
DTSTART;VALUE=DATE:20250904
DTEND;VALUE=DATE:20250905
DTSTAMP:20260425T193515
CREATED:20250903T093101Z
LAST-MODIFIED:20250917T053254Z
UID:3875-1756944000-1757030399@quwands.jp
SUMMARY:砂銀Bst 【CHIKA/kazuki】代講情報
DESCRIPTION:スタジオ名\n砂銀Aスタジオ→砂銀Bスタジオ\n\n\nクラス\nリトルキッズ体操\n\n\n講師名\nCHIKA→kazuki\n\n\n日付\n9/4(木)\n\n\n時間\n16:00-17:00\n\n\n\n 
URL:https://quwands.jp/event/3875/
END:VEVENT
BEGIN:VEVENT
DTSTART;VALUE=DATE:20250904
DTEND;VALUE=DATE:20250905
DTSTAMP:20260425T193515
CREATED:20250905T050842Z
LAST-MODIFIED:20250905T050842Z
UID:3936-1756944000-1757030399@quwands.jp
SUMMARY:新小岩スタジオ【aoi kasahara/Reira】代講情報
DESCRIPTION:スタジオ名\n新小岩スタジオ\n\n\nクラス\nKIDS JAZZ\n\n\n講師名\naoi kasahara→Reira\n\n\n日付\n9/4(木)\n\n\n時間\n17:10-18:10\n\n\n\n  \n\n\n\nスタジオ名\n新小岩スタジオ\n\n\nクラス\nJAZZ入門\n\n\n講師名\naoi kasahara→Reira\n\n\n日付\n9/4(木)\n\n\n時間\n18:20-19:20\n\n\n\n  \n\n\n\nスタジオ名\n新小岩スタジオ\n\n\nクラス\nJAZZ中級\n\n\n講師名\naoi kasahara→Reira\n\n\n日付\n9/4(木)\n\n\n時間\n19:30-20:45\n\n\n\n 
URL:https://quwands.jp/event/3936/
END:VEVENT
BEGIN:VEVENT
DTSTART;VALUE=DATE:20250905
DTEND;VALUE=DATE:20250906
DTSTAMP:20260425T193515
CREATED:20250825T064434Z
LAST-MODIFIED:20250829T011833Z
UID:3766-1757030400-1757116799@quwands.jp
SUMMARY:平井st 【ALISA/HARU】代講情報
DESCRIPTION:スタジオ名\n平井スタジオ\n\n\nクラス\nKIDS HIPHOP \n\n\n講師名\nALISA→HARU\n\n\n日付\n9/5(金)\n\n\n時間\n17:10-18:10\n\n\n\n  \n\n\n\nスタジオ名\n平井スタジオ\n\n\nクラス\nJAZZHIPHOP入門\n\n\n講師名\nALISA→HARU\n\n\n日付\n9/5(金)\n\n\n時間\n18:20-19:20\n\n\n\n  \n\n\n\nスタジオ名\n平井スタジオ\n\n\nクラス\nJAZZHIPHOP応用\n\n\n講師名\nALISA→HARU\n\n\n日付\n9/5(金)\n\n\n時間\n19:30-21:00
URL:https://quwands.jp/event/3766/
END:VEVENT
BEGIN:VEVENT
DTSTART;VALUE=DATE:20250906
DTEND;VALUE=DATE:20250907
DTSTAMP:20260425T193515
CREATED:20250829T054901Z
LAST-MODIFIED:20250829T054901Z
UID:3850-1757116800-1757203199@quwands.jp
SUMMARY:砂銀Bst 【dayo】振替情報
DESCRIPTION:スタジオ名\n砂銀Bスタジオ\n\n\nクラス\nキッズチア\n\n\n講師名\ndayo\n\n\n日付\n9/6(土)→9/15(月)\n\n\n時間\n16:40-17:40→15:10-16:10\n\n\n\n  \n\n\n\nスタジオ名\n砂銀Bスタジオ\n\n\nクラス\nJAZZ 基礎応用\n\n\n講師名\ndayo\n\n\n日付\n9/6(土)→9/15(月)\n\n\n時間\n17:50-19:20→13:30-15:00
URL:https://quwands.jp/event/3850/
END:VEVENT
BEGIN:VEVENT
DTSTART;VALUE=DATE:20250906
DTEND;VALUE=DATE:20250907
DTSTAMP:20260425T193515
CREATED:20250829T055520Z
LAST-MODIFIED:20250829T055520Z
UID:3854-1757116800-1757203199@quwands.jp
SUMMARY:新小岩st 【舞】休講情報
DESCRIPTION:スタジオ名\n新小岩スタジオ\n\n\nクラス\nKIDS KPOP\n\n\n講師名\n舞\n\n\n日付\n9/6(土)\n\n\n時間\n15:10-16:10\n\n\n\n  \n\n\n\nスタジオ名\n新小岩スタジオ\n\n\nクラス\nKPOP入門\n\n\n\n講師名\n舞\n\n\n日付\n9/6(土)\n\n\n時間\n16:20-17:20\n\n\n\n  \n\n\n\nスタジオ名\n新小岩スタジオ\n\n\nクラス\nKPOP中級\n\n\n講師名\n舞\n\n\n日付\n9/6(土)\n\n\n時間\n17:30-18:45
URL:https://quwands.jp/event/3854/
END:VEVENT
BEGIN:VEVENT
DTSTART;VALUE=DATE:20250907
DTEND;VALUE=DATE:20250908
DTSTAMP:20260425T193515
CREATED:20250822T112258Z
LAST-MODIFIED:20250902T061533Z
UID:3748-1757203200-1757289599@quwands.jp
SUMMARY:砂銀Ast 【ALISA/RIHONA】代講情報
DESCRIPTION:スタジオ名\n砂銀Bスタジオ\n\n\nクラス\nKIDS HIPHOP \n\n\n講師名\nALISA→RIHONA\n\n\n日付\n9/7(日)\n\n\n時間\n17:10-18:10\n\n\n\n  \n\n\n\nスタジオ名\n砂銀Bスタジオ→砂銀Aスタジオ\n\n\nクラス\nJAZZHIPHOP入門\n\n\n講師名\nALISA→RIHONA\n\n\n日付\n9/7(日)\n\n\n時間\n18:20-19:20\n\n\n\n  \n\n\n\nスタジオ名\n砂銀Bスタジオ→砂銀Aスタジオ\n\n\nクラス\nJAZZ 基礎応用 \n\n\n講師名\nALISA→RIHONA\n\n\n日付\n9/7(日)\n\n\n時間\n19:30-21:00
URL:https://quwands.jp/event/3748/
END:VEVENT
BEGIN:VEVENT
DTSTART;VALUE=DATE:20250908
DTEND;VALUE=DATE:20250909
DTSTAMP:20260425T193515
CREATED:20250822T110547Z
LAST-MODIFIED:20250822T110547Z
UID:3725-1757289600-1757375999@quwands.jp
SUMMARY:砂銀Ast 【ALISA/NAO】代講情報
DESCRIPTION:  \n\n\n\nスタジオ名\n砂銀Aスタジオ\n\n\nクラス\nリトルキッズダンス\n\n\n講師名\nALISA→NAO\n\n\n日付\n9/8(月)\n\n\n時間\n16:00-17:00\n\n\n\n  \n\n\n\nスタジオ名\n砂銀Aスタジオ\n\n\nクラス\nKIDS HIPHOP\n\n\n講師名\nALISA→NAO\n\n\n日付\n9/8(月)\n\n\n時間\n17:10-18:10\n\n\n\n  \n\n\n\nスタジオ名\n砂銀Aスタジオ\n\n\nクラス\nJAZZHIPHOP入門\n\n\n講師名\nALISA→NAO\n\n\n日付\n9/8(月)\n\n\n時間\n18:20-19:20\n\n\n\n 
URL:https://quwands.jp/event/3725/
END:VEVENT
BEGIN:VEVENT
DTSTART;VALUE=DATE:20250908
DTEND;VALUE=DATE:20250909
DTSTAMP:20260425T193515
CREATED:20250903T093356Z
LAST-MODIFIED:20250909T101223Z
UID:3877-1757289600-1757375999@quwands.jp
SUMMARY:大島スタジオ【yu-ta】代講情報
DESCRIPTION:  \n\n\n\nスタジオ名\n大島スタジオ\n\n\nクラス\nキッズ体操\n\n\n講師名\nyu-ta→RYOGA\n\n\n日付\n9/8(月)\n\n\n時間\n17:10-18:10\n\n\n\n  \n\n\n\nスタジオ名\n大島スタジオ\n\n\nクラス\n体操\n\n\n講師名\nyu-ta→RYOGA\n\n\n日付\n9/8(月)\n\n\n時間\n18:20-19:20\n\n\n\n  \n 
URL:https://quwands.jp/event/3877/
END:VEVENT
BEGIN:VEVENT
DTSTART;VALUE=DATE:20250908
DTEND;VALUE=DATE:20250909
DTSTAMP:20260425T193515
CREATED:20250905T011523Z
LAST-MODIFIED:20250905T011523Z
UID:3914-1757289600-1757375999@quwands.jp
SUMMARY:新小岩スタジオ【Lón/newsteelo】代講情報
DESCRIPTION:  \n\n\n\nスタジオ名\n新小岩スタジオ\n\n\nクラス\nブレイキン基礎応用\n\n\n講師名\nLón→newsteelo\n\n\n日付\n9/8(月)\n\n\n時間\n19:30-20:45\n\n\n\n  \n 
URL:https://quwands.jp/event/3914/
END:VEVENT
BEGIN:VEVENT
DTSTART;VALUE=DATE:20250909
DTEND;VALUE=DATE:20250910
DTSTAMP:20260425T193515
CREATED:20250903T093947Z
LAST-MODIFIED:20250903T093947Z
UID:3879-1757376000-1757462399@quwands.jp
SUMMARY:大島スタジオ【HIKARU】振替情報
DESCRIPTION:スタジオ名\n大島スタジオ\n\n\nクラス\nKIDS KPOP\n\n\n講師名\nHIKARU\n\n\n日付\n9/9(火)→9/30(火)\n\n\n時間\n17:10-18:10\n\n\n\n  \n\n\n\nスタジオ名\n大島スタジオ\n\n\nクラス\nKPOP入門\n\n\n講師名\nHIKARU\n\n\n日付\n9/9(火)→9/30(火)\n\n\n時間\n18:20-19:20\n\n\n\n  \n\n\n\nスタジオ名\n大島スタジオ\n\n\nクラス\nKPOP応用\n\n\n講師名\nHIKARU\n\n\n日付\n9/9(火)→9/30(火)\n\n\n時間\n19:30-21:00
URL:https://quwands.jp/event/3879/
END:VEVENT
BEGIN:VEVENT
DTSTART;VALUE=DATE:20250909
DTEND;VALUE=DATE:20250910
DTSTAMP:20260425T193515
CREATED:20250829T012437Z
LAST-MODIFIED:20250829T012437Z
UID:3825-1757376000-1757462399@quwands.jp
SUMMARY:砂銀Ast 【KYOKA/HARU】代講情報
DESCRIPTION:スタジオ名\n砂銀Aスタジオ\n\n\nクラス\nKIDS HIPHOP \n\n\n講師名\nKYOKA→HARU\n\n\n日付\n9/9(火)\n\n\n時間\n17:10-18:10\n\n\n\n  \n\n\n\nスタジオ名\n砂銀Aスタジオ\n\n\nクラス\nHIPHOP入門\n\n\n講師名\nKYOKA→HARU\n\n\n日付\n9/9(火)\n\n\n時間\n18:20-19:20\n\n\n\n  \n\n\n\nスタジオ名\n砂銀Aスタジオ\n\n\nクラス\nHIPHOP中級\n\n\n講師名\nKYOKA→HARU\n\n\n日付\n9/9(火)\n\n\n時間\n19:30-20:45
URL:https://quwands.jp/event/3825/
END:VEVENT
BEGIN:VEVENT
DTSTART;VALUE=DATE:20250910
DTEND;VALUE=DATE:20250911
DTSTAMP:20260425T193515
CREATED:20250903T094259Z
LAST-MODIFIED:20250903T094259Z
UID:3883-1757462400-1757548799@quwands.jp
SUMMARY:大島スタジオ【aoi kasahara/Rui】代講情報
DESCRIPTION:スタジオ名\n大島スタジオ\n\n\nクラス\nKIDS JAZZ\n\n\n講師名\naoi kasahara→Rui\n\n\n日付\n9/10(水)\n\n\n時間\n17:00-18:00\n\n\n\n  \n  \n 
URL:https://quwands.jp/event/3883/
END:VEVENT
BEGIN:VEVENT
DTSTART;VALUE=DATE:20250910
DTEND;VALUE=DATE:20250911
DTSTAMP:20260425T193515
CREATED:20250903T094855Z
LAST-MODIFIED:20250909T101325Z
UID:3889-1757462400-1757548799@quwands.jp
SUMMARY:砂銀Ast【RIHONA/manabu】代講情報
DESCRIPTION:スタジオ名\n砂銀Aスタジオ\n\n\nクラス\nKIDS HIPHOP\n\n\n講師名\nRIHONA→manabu\n\n\n日付\n9/10(水)\n\n\n時間\n17:10-18:10\n\n\n\n  \n\n\n\nスタジオ名\n砂銀Aスタジオ\n\n\nクラス\nJAZZHIPHOP入門\n\n\n講師名\nRIHONA→manabu\n\n\n日付\n9/10(水)\n\n\n時間\n18:20-19:20\n\n\n\n  \n  \n 
URL:https://quwands.jp/event/3889/
END:VEVENT
BEGIN:VEVENT
DTSTART;VALUE=DATE:20250910
DTEND;VALUE=DATE:20250911
DTSTAMP:20260425T193515
CREATED:20250905T011917Z
LAST-MODIFIED:20250905T011917Z
UID:3920-1757462400-1757548799@quwands.jp
SUMMARY:新小岩スタジオ【Ari_pown】振替情報
DESCRIPTION:スタジオ名\n新小岩スタジオ\n\n\nクラス\nKIDS HIPHOP\n\n\n講師名\nAri_pown\n\n\n日付\n9/10(水)→10/29(水)\n\n\n時間\n17:10-18:10\n\n\n\n  \n\n\n\nスタジオ名\n新小岩スタジオ\n\n\nクラス\nHIPHOP入門\n\n\n講師名\nAri_pown\n\n\n日付\n9/10(水)→10/29(水)\n\n\n時間\n18:20-19:20\n\n\n\n  \n\n\n\nスタジオ名\n新小岩スタジオ\n\n\nクラス\nHIPHOP応用\n\n\n講師名\nAri_pown\n\n\n日付\n9/10(水)→10/29(水)\n\n\n時間\n19:30-21:00
URL:https://quwands.jp/event/3920/
END:VEVENT
BEGIN:VEVENT
DTSTART;VALUE=DATE:20250910
DTEND;VALUE=DATE:20250911
DTSTAMP:20260425T193515
CREATED:20250916T052403Z
LAST-MODIFIED:20250917T054020Z
UID:3998-1757462400-1757548799@quwands.jp
SUMMARY:砂銀Ast【Genki/Yuina】代講情報
DESCRIPTION:スタジオ名\n砂銀Aスタジオ\n\n\nクラス\nHIPHOP中級\n\n\n講師名\nGenki→Yuina\n\n\n日付\n9/10(水)\n\n\n時間\n19:30-20:45\n\n\n\n  \n  \n  \n 
URL:https://quwands.jp/event/3998/
END:VEVENT
BEGIN:VEVENT
DTSTART;VALUE=DATE:20250911
DTEND;VALUE=DATE:20250912
DTSTAMP:20260425T193515
CREATED:20250825T071749Z
LAST-MODIFIED:20250825T071749Z
UID:3789-1757548800-1757635199@quwands.jp
SUMMARY:砂銀Bst 【CHIKA/MINORI合同】振替情報
DESCRIPTION:スタジオ名\n砂銀Aスタジオ→砂銀Bスタジオ\n\n\nクラス\nリトルキッズ体操\n\n\n講師名\nCHIKA、MINORI合同\n\n\n日付\n9/11(木)\n\n\n時間\n16:00-17:00\n\n\n\n 
URL:https://quwands.jp/event/3789/
END:VEVENT
BEGIN:VEVENT
DTSTART;VALUE=DATE:20250911
DTEND;VALUE=DATE:20250912
DTSTAMP:20260425T193515
CREATED:20250905T050931Z
LAST-MODIFIED:20250905T050931Z
UID:3938-1757548800-1757635199@quwands.jp
SUMMARY:新小岩スタジオ【aoi kasahara/Reira】代講情報
DESCRIPTION:スタジオ名\n新小岩スタジオ\n\n\nクラス\nKIDS JAZZ\n\n\n講師名\naoi kasahara→Reira\n\n\n日付\n9/11(木)\n\n\n時間\n17:10-18:10\n\n\n\n  \n\n\n\nスタジオ名\n新小岩スタジオ\n\n\nクラス\nJAZZ入門\n\n\n講師名\naoi kasahara→Reira\n\n\n日付\n9/11(木)\n\n\n時間\n18:20-19:20\n\n\n\n  \n\n\n\nスタジオ名\n新小岩スタジオ\n\n\nクラス\nJAZZ中級\n\n\n講師名\naoi kasahara→Reira\n\n\n日付\n9/11(木)\n\n\n時間\n19:30-20:45\n\n\n\n 
URL:https://quwands.jp/event/3938/
END:VEVENT
BEGIN:VEVENT
DTSTART;VALUE=DATE:20250911
DTEND;VALUE=DATE:20250912
DTSTAMP:20260425T193515
CREATED:20250916T052249Z
LAST-MODIFIED:20250918T014934Z
UID:3996-1757548800-1757635199@quwands.jp
SUMMARY:砂銀Bスタジオ【Lón/newsteelo】代講情報
DESCRIPTION:スタジオ名\n砂銀Bスタジオ\n\n\nクラス\nブレイキン基礎応用\n\n\n講師名\nLón→newsteelo\n\n\n日付\n9/11(木)\n\n\n時間\n19:40-20:55\n\n\n\n 
URL:https://quwands.jp/event/3996/
END:VEVENT
BEGIN:VEVENT
DTSTART;VALUE=DATE:20250912
DTEND;VALUE=DATE:20250913
DTSTAMP:20260425T193515
CREATED:20250825T064525Z
LAST-MODIFIED:20250829T011900Z
UID:3768-1757635200-1757721599@quwands.jp
SUMMARY:平井st 【ALISA/HARU】代講情報
DESCRIPTION:スタジオ名\n平井スタジオ\n\n\nクラス\nKIDS HIPHOP \n\n\n講師名\nALISA→HARU\n\n\n日付\n9/12(金)\n\n\n時間\n17:10-18:10\n\n\n\n  \n\n\n\nスタジオ名\n平井スタジオ\n\n\nクラス\nJAZZHIPHOP入門\n\n\n講師名\nALISA→HARU\n\n\n日付\n9/12(金)\n\n\n時間\n18:20-19:20\n\n\n\n  \n\n\n\nスタジオ名\n平井スタジオ\n\n\nクラス\nJAZZHIPHOP応用\n\n\n講師名\nALISA→HARU\n\n\n日付\n9/12(金)\n\n\n時間\n19:30-21:00\n\n\n\n 
URL:https://quwands.jp/event/3768/
END:VEVENT
END:VCALENDAR