BEGIN:VCALENDAR
VERSION:2.0
PRODID:-//QUWANDS - ECPv6.10.2//NONSGML v1.0//EN
CALSCALE:GREGORIAN
METHOD:PUBLISH
X-WR-CALNAME:QUWANDS
X-ORIGINAL-URL:https://quwands.jp
X-WR-CALDESC:QUWANDS のイベント
REFRESH-INTERVAL;VALUE=DURATION:PT1H
X-Robots-Tag:noindex
X-PUBLISHED-TTL:PT1H
BEGIN:VTIMEZONE
TZID:Asia/Tokyo
BEGIN:STANDARD
TZOFFSETFROM:+0900
TZOFFSETTO:+0900
TZNAME:JST
DTSTART:20250101T000000
END:STANDARD
END:VTIMEZONE
BEGIN:VEVENT
DTSTART;VALUE=DATE:20250601
DTEND;VALUE=DATE:20250602
DTSTAMP:20260425T231359
CREATED:20250612T092854Z
LAST-MODIFIED:20250612T092854Z
UID:3163-1748736000-1748822399@quwands.jp
SUMMARY:新小岩スタジオ【KENTA】2025年6月1日の振替情報
DESCRIPTION:  \n\n\n\nスタジオ名\n新小岩スタジオ\n\n\nクラス\nキッズ体操\n\n\n講師名\nKENTA\n\n\n日付変更\n6/1(日)→6/29(日)\n\n\n時間変更\n10:00\n\n\n\n  \n\n\n\nスタジオ名\n新小岩スタジオ\n\n\nクラス\n体操\n\n\n講師名\nKENTA\n\n\n日付変更\n6/1(日)→6/29(日)\n\n\n時間変更\n11:10\n\n\n\n 
URL:https://quwands.jp/event/3163/
END:VEVENT
BEGIN:VEVENT
DTSTART;VALUE=DATE:20250601
DTEND;VALUE=DATE:20250602
DTSTAMP:20260425T231359
CREATED:20250508T090519Z
LAST-MODIFIED:20250709T071849Z
UID:3003-1748736000-1748822399@quwands.jp
SUMMARY:大島スタジオ【MiYuu】2025年6月1日の振替情報
DESCRIPTION:  \n\n\n\nスタジオ名\n大島スタジオ\n\n\nクラス\nHIPHOP入門\n\n\n講師名\nMiYuu\n\n\n日付変更\n6/1(日)→6/29(日)\n\n\n時間変更\n16:30\n\n\n\n  \n\n\n\nスタジオ名\n大島スタジオ\n\n\nクラス\nHIPHOP応用\n\n\n講師名\nMiYuu\n\n\n日付変更\n6/1(日)→6/29(日)\n\n\n時間変更\n17:40\n\n\n\n 
URL:https://quwands.jp/event/3003/
END:VEVENT
BEGIN:VEVENT
DTSTART;VALUE=DATE:20250602
DTEND;VALUE=DATE:20250603
DTSTAMP:20260425T231359
CREATED:20250612T093251Z
LAST-MODIFIED:20250612T093328Z
UID:3165-1748822400-1748908799@quwands.jp
SUMMARY:新小岩スタジオ【KENTA】2025年6月2日の振替情報
DESCRIPTION:  \n\n\n\nスタジオ名\n新小岩スタジオ\n\n\nクラス\nリトル体操\n\n\n講師名\nKENTA\n\n\n日付変更\n6/2(月)→6/30(月)\n\n\n時間変更\n16:00 \n\n\n\n  \n\n\n\nスタジオ名\n新小岩スタジオ\n\n\nクラス\nキッズ体操\n\n\n講師名\nKENTA\n\n\n日付変更\n6/2(月)→6/30(月)\n\n\n時間変更\n17:10\n\n\n\n  \n\n\n\nスタジオ名\n新小岩スタジオ\n\n\nクラス\n体操\n\n\n講師名\nKENTA\n\n\n日付変更\n6/2(月)→6/30(月)\n\n\n時間変更\n18:20\n\n\n\n 
URL:https://quwands.jp/event/3165/
END:VEVENT
BEGIN:VEVENT
DTSTART;VALUE=DATE:20250605
DTEND;VALUE=DATE:20250606
DTSTAMP:20260425T231359
CREATED:20250616T055905Z
LAST-MODIFIED:20250616T055905Z
UID:3192-1749081600-1749167999@quwands.jp
SUMMARY:砂Aスタジオ【Omi】2025年6月5日の振替情報
DESCRIPTION:  \n\n\n\nスタジオ名\n砂Aスタジオ\n\n\nクラス\nR&B\n\n\n講師名\nOmi\n\n\n日付変更\n6/5(木)→5/29(木)\n\n\n時間変更\n19:45→15:10-16:10\n\n\n\n 
URL:https://quwands.jp/event/3192/
END:VEVENT
BEGIN:VEVENT
DTSTART;VALUE=DATE:20250607
DTEND;VALUE=DATE:20250608
DTSTAMP:20260425T231359
CREATED:20250523T063504Z
LAST-MODIFIED:20250523T063504Z
UID:3049-1749254400-1749340799@quwands.jp
SUMMARY:砂Bスタジオ【dayo】2025年6月7日の振替情報
DESCRIPTION:  \n\n\n\nスタジオ名\n砂Bスタジオ→砂Aスタジオ\n\n\nクラス\nキッズチア\n\n\n講師名\ndayo\n\n\n日付変更\n6/7(土)→7/21(月)\n\n\n時間変更\n16:40→13:30-15:30\n\n\n\n  \n\n\n\nスタジオ名\n砂Bスタジオ\n\n\nクラス\nJAZZ基礎応用\n\n\n講師名\ndayo\n\n\n日付変更\n6/7(土)→7/22(火)\n\n\n時間変更\n17:50→13:50-16:50\n\n\n\n 
URL:https://quwands.jp/event/3049/
END:VEVENT
BEGIN:VEVENT
DTSTART;VALUE=DATE:20250607
DTEND;VALUE=DATE:20250608
DTSTAMP:20260425T231359
CREATED:20250616T075446Z
LAST-MODIFIED:20250616T080354Z
UID:3221-1749254400-1749340799@quwands.jp
SUMMARY:砂Aスタジオ【Mayo】2025年6月7日の振替情報
DESCRIPTION:スタジオ名\n砂Aスタジオ\n\n\nクラス\nHIPHOP入門\n\n\n講師名\nMayo\n\n\n日付変更\n6/21(土)→6/7(土)\n\n\n時間変更\n14:10→15:10-16:10\n\n\n\n 
URL:https://quwands.jp/event/3221/
END:VEVENT
BEGIN:VEVENT
DTSTART;VALUE=DATE:20250610
DTEND;VALUE=DATE:20250611
DTSTAMP:20260425T231359
CREATED:20250616T060846Z
LAST-MODIFIED:20250709T071931Z
UID:3196-1749513600-1749599999@quwands.jp
SUMMARY:大島スタジオ【HIKARU/cono】2025年6月10日の代講情報
DESCRIPTION:スタジオ名\n大島スタジオ\n\n\nクラス\nKIDS KPOP\n\n\n講師名\nHIKARU→cono\n\n\n日付変更\n6/10(火)\n\n\n時間変更\n17:10\n\n\n\n  \n\n\n\nスタジオ名\n大島スタジオ\n\n\nクラス\nKPOP入門\n\n\n講師名\nHIKARU→cono\n\n\n日付変更\n6/10(火)\n\n\n時間変更\n18:20 \n\n\n\n  \n\n\n\nスタジオ名\n大島スタジオ\n\n\nクラス\nKPOP応用\n\n\n講師名\nHIKARU→cono\n\n\n日付変更\n6/10(火)\n\n\n時間変更\n19:30\n\n\n\n 
URL:https://quwands.jp/event/3196/
END:VEVENT
BEGIN:VEVENT
DTSTART;VALUE=DATE:20250611
DTEND;VALUE=DATE:20250612
DTSTAMP:20260425T231359
CREATED:20250616T061135Z
LAST-MODIFIED:20250709T072029Z
UID:3198-1749600000-1749686399@quwands.jp
SUMMARY:大島スタジオ【yuine】2025年6月11日の振替情報
DESCRIPTION:スタジオ名\n大島スタジオ\n\n\nクラス\nキッズJAZZ\n\n\n講師名\nyuine\n\n\n日付変更\n6/11(水)→振替日調整中\n\n\n時間変更\n17:00\n\n\n\n 
URL:https://quwands.jp/event/3198/
END:VEVENT
BEGIN:VEVENT
DTSTART;VALUE=DATE:20250614
DTEND;VALUE=DATE:20250615
DTSTAMP:20260425T231359
CREATED:20250616T075852Z
LAST-MODIFIED:20250616T075852Z
UID:3226-1749859200-1749945599@quwands.jp
SUMMARY:砂Aスタジオ【Mayo】2025年6月14日の振替情報
DESCRIPTION:スタジオ名\n砂Aスタジオ\n\n\nクラス\nHIPHOP応用\n\n\n講師名\nMayo\n\n\n日付変更\n6/21(土)→6/14(土)\n\n\n時間変更\n14:10→16:50-18:20\n\n\n\n 
URL:https://quwands.jp/event/3226/
END:VEVENT
BEGIN:VEVENT
DTSTART;VALUE=DATE:20250618
DTEND;VALUE=DATE:20250619
DTSTAMP:20260425T231359
CREATED:20250616T061624Z
LAST-MODIFIED:20250709T072129Z
UID:3200-1750204800-1750291199@quwands.jp
SUMMARY:大島スタジオ【優美香】2025年6月18日の振替情報
DESCRIPTION:スタジオ名\n大島スタジオ→新小岩スタジオ\n\n\nクラス\nJAZZ入門\n\n\n講師名\n優美香\n\n\n日付変更\n6/18(水)→6/21(土)\n\n\n時間変更\n18:20→19:00-20:00\n\n\n\n 
URL:https://quwands.jp/event/3200/
END:VEVENT
BEGIN:VEVENT
DTSTART;VALUE=DATE:20250619
DTEND;VALUE=DATE:20250620
DTSTAMP:20260425T231359
CREATED:20250523T064751Z
LAST-MODIFIED:20250523T064751Z
UID:3061-1750291200-1750377599@quwands.jp
SUMMARY:砂Bスタジオ【Lón/newsteelo】2025年6月19日の代講情報
DESCRIPTION:  \n\n\n\nスタジオ名\n砂Bスタジオ\n\n\nクラス\nブレイキン\n\n\n講師名\nLón→newsteelo\n\n\n日付変更\n6/19(木)\n\n\n時間変更\n19:40\n\n\n\n 
URL:https://quwands.jp/event/3061/
END:VEVENT
BEGIN:VEVENT
DTSTART;VALUE=DATE:20250621
DTEND;VALUE=DATE:20250622
DTSTAMP:20260425T231359
CREATED:20250616T061707Z
LAST-MODIFIED:20250709T072216Z
UID:3203-1750464000-1750550399@quwands.jp
SUMMARY:新小岩スタジオ【優美香】2025年6月21日の振替情報
DESCRIPTION:スタジオ名\n大島スタジオ→新小岩スタジオ\n\n\nクラス\nJAZZ入門\n\n\n講師名\n優美香\n\n\n日付変更\n6/18(水)→6/21(土)\n\n\n時間変更\n18:20→19:00-20:00\n\n\n\n 
URL:https://quwands.jp/event/3203/
END:VEVENT
BEGIN:VEVENT
DTSTART;VALUE=DATE:20250621
DTEND;VALUE=DATE:20250622
DTSTAMP:20260425T231359
CREATED:20250616T080626Z
LAST-MODIFIED:20250616T080626Z
UID:3232-1750464000-1750550399@quwands.jp
SUMMARY:砂Aスタジオ【Mayo】2025年6月21日の振替情報
DESCRIPTION:スタジオ名\n砂Aスタジオ\n\n\nクラス\nHIPHOP入門\n\n\n講師名\nMayo\n\n\n日付変更\n6/21(土)→6/7(土)\n\n\n時間変更\n14:10→15:10-16:10\n\n\n\n  \n\n\n\nスタジオ名\n砂Aスタジオ\n\n\nクラス\nHIPHOP応用\n\n\n講師名\nMayo\n\n\n日付変更\n6/21(土)→6/14(土)\n\n\n時間変更\n14:10→16:50-18:20\n\n\n\n  \n\n\n\nスタジオ名\n砂Aスタジオ\n\n\nクラス\n大人超初級\n\n\n講師名\nMayo\n\n\n日付変更\n6/21(土)→6/28(土)\n\n\n時間変更\n17:10→18:30-19:30\n\n\n\n 
URL:https://quwands.jp/event/3232/
END:VEVENT
BEGIN:VEVENT
DTSTART;VALUE=DATE:20250622
DTEND;VALUE=DATE:20250623
DTSTAMP:20260425T231359
CREATED:20250616T081334Z
LAST-MODIFIED:20250709T072256Z
UID:3238-1750550400-1750636799@quwands.jp
SUMMARY:新小岩スタジオ【Mayo】2025年6月22日の振替情報
DESCRIPTION:スタジオ名\n新小岩スタジオ\n\n\nクラス\nキッズHIPHOP\n\n\n講師名\nMayo\n\n\n日付変更\n6/22(日)→6/29(日)\n\n\n時間変更\n12:30 \n\n\n\n  \n\n\n\nスタジオ名\n新小岩スタジオ\n\n\nクラス\nHIPHOP入門\n\n\n講師名\nMayo\n\n\n日付変更\n6/22(日)→6/29(日)\n\n\n時間変更\n13:40\n\n\n\n  \n\n\n\nスタジオ名\n新小岩スタジオ\n\n\nクラス\nHIPHOP中級\n\n\n講師名\nMayo\n\n\n日付変更\n6/22(日)→6/29(日)\n\n\n時間変更\n14:50 \n\n\n\n 
URL:https://quwands.jp/event/3238/
END:VEVENT
BEGIN:VEVENT
DTSTART;TZID=Asia/Tokyo:20250625T080000
DTEND;TZID=Asia/Tokyo:20250625T170000
DTSTAMP:20260425T231359
CREATED:20250616T083029Z
LAST-MODIFIED:20250616T083029Z
UID:3249-1750838400-1750870800@quwands.jp
SUMMARY:大島スタジオ【優美香】2025年6月25日の振替情報
DESCRIPTION:スタジオ名\n大島スタジオ→新小岩スタジオ\n\n\nクラス\nJAZZ中級\n\n\n講師名\n優美香\n\n\n日付変更\n6/25(水)→6/28(土)\n\n\n時間変更\n19:30→20:00-21:30\n\n\n\n 
URL:https://quwands.jp/event/3249/
END:VEVENT
BEGIN:VEVENT
DTSTART;VALUE=DATE:20250626
DTEND;VALUE=DATE:20250627
DTSTAMP:20260425T231359
CREATED:20250702T055156Z
LAST-MODIFIED:20250714T085535Z
UID:3306-1750896000-1750982399@quwands.jp
SUMMARY:大島スタジオ【manabu】クラス振替情報
DESCRIPTION:スタジオ名\n大島スタジオ\n\n\nクラス\nHIPHOP入門\n\n\n講師名\nmanabu\n\n\n日付\n7/17(木)→6/26(木)\n\n\n時間\n18:20-19:20→19:30-20:30\n\n\n\n 
URL:https://quwands.jp/event/3306/
END:VEVENT
BEGIN:VEVENT
DTSTART;VALUE=DATE:20250628
DTEND;VALUE=DATE:20250629
DTSTAMP:20260425T231359
CREATED:20250616T083106Z
LAST-MODIFIED:20250709T070245Z
UID:3251-1751068800-1751155199@quwands.jp
SUMMARY:新小岩スタジオ【優美香】2025年6月28日の振替情報
DESCRIPTION:スタジオ名\n大島スタジオ→新小岩スタジオ\n\n\nクラス\nJAZZ中級\n\n\n講師名\n優美香\n\n\n日付変更\n6/25(水)→6/28(土)\n\n\n時間変更\n19:30→20:00-21:30\n\n\n\n 
URL:https://quwands.jp/event/3251/
END:VEVENT
BEGIN:VEVENT
DTSTART;VALUE=DATE:20250628
DTEND;VALUE=DATE:20250629
DTSTAMP:20260425T231359
CREATED:20250616T054220Z
LAST-MODIFIED:20250616T080133Z
UID:3185-1751068800-1751155199@quwands.jp
SUMMARY:砂Aスタジオ【Mayo】2025年6月28日の振替情報
DESCRIPTION:スタジオ名\n砂Aスタジオ\n\n\nクラス\n大人超初級\n\n\n講師名\nMayo\n\n\n日付変更\n6/21(土)→6/28(土)\n\n\n時間変更\n17:10→18:30-19:30\n\n\n\n 
URL:https://quwands.jp/event/3185/
END:VEVENT
BEGIN:VEVENT
DTSTART;VALUE=DATE:20250629
DTEND;VALUE=DATE:20250630
DTSTAMP:20260425T231359
CREATED:20250424T075424Z
LAST-MODIFIED:20250709T070339Z
UID:2936-1751155200-1751241599@quwands.jp
SUMMARY:平井スタジオ【CHIKA】2025年6月29日の振替情報
DESCRIPTION:  \n\n\n\nスタジオ名\n平井スタジオ\n\n\nクラス\nリトルダンス\n\n\n講師名\nCHIKA\n\n\n日付変更\n5/4(日)→6/29(日)\n\n\n時間変更\n13:00\n\n\n\n  \n\n\n\nスタジオ名\n平井スタジオ\n\n\nクラス\nキッズ体操\n\n\n講師名\nCHIKA\n\n\n日付変更\n5/4(日)→6/29(日)\n\n\n時間変更\n14:10\n\n\n\n  \n\n\n\nスタジオ名\n平井スタジオ\n\n\nクラス\n体操\n\n\n講師名\nCHIKA\n\n\n日付変更\n5/4(日)→6/29(日)\n\n\n時間変更\n15:20\n\n\n\n 
URL:https://quwands.jp/event/2936/
END:VEVENT
BEGIN:VEVENT
DTSTART;VALUE=DATE:20250629
DTEND;VALUE=DATE:20250630
DTSTAMP:20260425T231359
CREATED:20250508T090226Z
LAST-MODIFIED:20250709T070433Z
UID:2998-1751155200-1751241599@quwands.jp
SUMMARY:大島スタジオ【moeko/MiYuu】2025年6月29日の振替情報
DESCRIPTION:スタジオ名\n大島スタジオ\n\n\nクラス\nKIDS DANCE\n\n\n講師名\nmoeko\n\n\n日付変更\n7/20(日)→6/29(日)\n\n\n時間変更\n10:00\n\n\n\n  \n\n\n\nスタジオ名\n大島スタジオ\n\n\nクラス\nJAZZHIP入門\n\n\n講師名\nmoeko\n\n\n日付変更\n7/20(日)→6/29(日)\n\n\n時間変更\n11:10 \n\n\n\n  \n\n\n\nスタジオ名\n大島スタジオ\n\n\nクラス\nHIPHOP入門\n\n\n講師名\nMiYuu\n\n\n日付変更\n6/1(日)→6/29(日)\n\n\n時間変更\n16:30\n\n\n\n  \n\n\n\nスタジオ名\n大島スタジオ\n\n\nクラス\nHIPHOP応用\n\n\n講師名\nMiYuu\n\n\n日付変更\n6/1(日)→6/29(日)\n\n\n時間変更\n17:40\n\n\n\n 
URL:https://quwands.jp/event/2998/
END:VEVENT
BEGIN:VEVENT
DTSTART;VALUE=DATE:20250629
DTEND;VALUE=DATE:20250630
DTSTAMP:20260425T231359
CREATED:20250616T081357Z
LAST-MODIFIED:20250709T070531Z
UID:3241-1751155200-1751241599@quwands.jp
SUMMARY:新小岩スタジオ【Mayo】2025年6月29日の振替情報
DESCRIPTION:スタジオ名\n新小岩スタジオ\n\n\nクラス\nキッズ体操\n\n\n講師名\nKENTA\n\n\n日付変更\n6/1(日)→6/29(日)\n\n\n時間変更\n10:00\n\n\n\n  \n\n\n\nスタジオ名\n新小岩スタジオ\n\n\nクラス\n体操\n\n\n講師名\nKENTA\n\n\n日付変更\n6/1(日)→6/29(日)\n\n\n時間変更\n11:10\n\n\n\n  \n\n\n\nスタジオ名\n新小岩スタジオ\n\n\nクラス\nキッズHIPHOP\n\n\n講師名\nMayo\n\n\n日付変更\n6/22(日)→6/29(日)\n\n\n時間変更\n12:30 \n\n\n\n  \n\n\n\nスタジオ名\n新小岩スタジオ\n\n\nクラス\nHIPHOP入門\n\n\n講師名\nMayo\n\n\n日付変更\n6/22(日)→6/29(日)\n\n\n時間変更\n13:40\n\n\n\n  \n\n\n\nスタジオ名\n新小岩スタジオ\n\n\nクラス\nHIPHOP中級\n\n\n講師名\nMayo\n\n\n日付変更\n6/22(日)→6/29(日)\n\n\n時間変更\n14:50 \n\n\n\n 
URL:https://quwands.jp/event/3241/
END:VEVENT
BEGIN:VEVENT
DTSTART;VALUE=DATE:20250629
DTEND;VALUE=DATE:20250630
DTSTAMP:20260425T231359
CREATED:20250424T075833Z
LAST-MODIFIED:20250616T084742Z
UID:2941-1751155200-1751241599@quwands.jp
SUMMARY:砂Bスタジオ【Sho-hey/KAKERU/ALISA】2025年6月29日の振替情報
DESCRIPTION:  \n\n\n\nスタジオ名\n砂Bスタジオ\n\n\nクラス\nKIDSダンス\n\n\n講師名\nSho-hey\n\n\n日付変更\n5/4(日)→6/29(日)\n\n\n時間変更\n10:00\n\n\n\n  \n\n\n\nスタジオ名\n砂Bスタジオ\n\n\nクラス\nキッズ体操\n\n\n講師名\nKAKERU\n\n\n日付変更\n5/4(日)→6/29(日)\n\n\n時間変更\n11:10 \n\n\n\n  \n\n\n\nスタジオ名\n砂Bスタジオ\n\n\nクラス\n体操\n\n\n講師名\nKAKERU\n\n\n日付変更\n5/4(日)→6/29(日)\n\n\n時間変更\n12:30\n\n\n\n  \n\n\n\nスタジオ名\n平井スタジオ→砂Bスタジオ\n\n\nクラス\nキッズHIPHOP\n\n\n講師名\nALISA\n\n\n日付変更\n7/4(金)→6/29(日)\n\n\n時間変更\n17:10\n\n\n\n  \n\n\n\nスタジオ名\n平井スタジオ→砂Bスタジオ\n\n\nクラス\nJAZZHIPHOP入門\n\n\n講師名\nALISA\n\n\n日付変更\n7/4(金)→6/29(日)\n\n\n時間変更\n18:20\n\n\n\n 
URL:https://quwands.jp/event/2941/
END:VEVENT
BEGIN:VEVENT
DTSTART;VALUE=DATE:20250629
DTEND;VALUE=DATE:20250630
DTSTAMP:20260425T231359
CREATED:20250508T085555Z
LAST-MODIFIED:20250508T085555Z
UID:2992-1751155200-1751241599@quwands.jp
SUMMARY:砂Aスタジオ【MINORI】2025年6月29日の振替情報
DESCRIPTION:  \n\n\n\nスタジオ名\n砂Aスタジオ\n\n\nクラス\nリトルダンス\n\n\n講師名\nMINORI\n\n\n日付変更\n5/11(日)→6/29(日)\n\n\n時間変更\n10:00\n\n\n\n  \n\n\n\nスタジオ名\n砂Aスタジオ\n\n\nクラス\nリトル体操\n\n\n講師名\nMINORI\n\n\n日付変更\n5/11(日)→6/29(日)\n\n\n時間変更\n11:10 \n\n\n\n 
URL:https://quwands.jp/event/2992/
END:VEVENT
BEGIN:VEVENT
DTSTART;VALUE=DATE:20250630
DTEND;VALUE=DATE:20250701
DTSTAMP:20260425T231359
CREATED:20250612T093436Z
LAST-MODIFIED:20250612T093436Z
UID:3169-1751241600-1751327999@quwands.jp
SUMMARY:新小岩スタジオ【KENTA】2025年6月30日の振替情報
DESCRIPTION:  \n\n\n\nスタジオ名\n新小岩スタジオ\n\n\nクラス\nリトル体操\n\n\n講師名\nKENTA\n\n\n日付変更\n6/2(月)→6/30(月)\n\n\n時間変更\n16:00 \n\n\n\n  \n\n\n\nスタジオ名\n新小岩スタジオ\n\n\nクラス\nキッズ体操\n\n\n講師名\nKENTA\n\n\n日付変更\n6/2(月)→6/30(月)\n\n\n時間変更\n17:10\n\n\n\n  \n\n\n\nスタジオ名\n新小岩スタジオ\n\n\nクラス\n体操\n\n\n講師名\nKENTA\n\n\n日付変更\n6/2(月)→6/30(月)\n\n\n時間変更\n18:20\n\n\n\n 
URL:https://quwands.jp/event/3169/
END:VEVENT
BEGIN:VEVENT
DTSTART;VALUE=DATE:20250630
DTEND;VALUE=DATE:20250701
DTSTAMP:20260425T231359
CREATED:20250422T084013Z
LAST-MODIFIED:20250709T071413Z
UID:2906-1751241600-1751327999@quwands.jp
SUMMARY:平井スタジオ【kanae】2025年6月30日の振替情報
DESCRIPTION:スタジオ名\n平井スタジオ\n\n\nクラス\nKIDSKPOP\n\n\n講師名\nkanae\n\n\n日付変更\n4/28(月)→6/30(月) \n\n\n時間変更\n17:10\n\n\n\n  \n\n\n\nスタジオ名\n平井スタジオ\n\n\nクラス\nKPOP入門\n\n\n講師名\nkanae\n\n\n日付変更\n4/28(月)→6/30(月)\n\n\n時間変更\n18:20\n\n\n\n  \n\n\n\nスタジオ名\n平井スタジオ\n\n\nクラス\nKPOP応用\n\n\n講師名\nkanae\n\n\n日付変更\n4/28(月)→6/30(月)\n\n\n時間変更\n19:30\n\n\n\n  \n\n\n\nスタジオ名\n平井スタジオ\n\n\nクラス\nKIDSKPOP\n\n\n講師名\nkanae\n\n\n日付変更\n7/28(月) →6/30(月)\n\n\n時間変更\n17:10 →16:10-17:10\n\n\n\n 
URL:https://quwands.jp/event/2906/
END:VEVENT
BEGIN:VEVENT
DTSTART;VALUE=DATE:20250630
DTEND;VALUE=DATE:20250701
DTSTAMP:20260425T231359
CREATED:20250616T090423Z
LAST-MODIFIED:20250616T090423Z
UID:3267-1751241600-1751327999@quwands.jp
SUMMARY:砂Bスタジオ【ALISA】2025年6月30日の振替情報
DESCRIPTION:スタジオ名\n砂Aスタジオ→砂Bスタジオ\n\n\nクラス\nリトルダンス\n\n\n講師名\nALISA\n\n\n日付変更\n7/28(月)→6/30(月)\n\n\n時間変更\n16:00\n\n\n\n  \n\n\n\nスタジオ名\n砂Aスタジオ→砂Bスタジオ\n\n\nクラス\nキッズHIPHOP\n\n\n講師名\nALISA\n\n\n日付変更\n7/28(月)→6/30(月)\n\n\n時間変更\n17:10\n\n\n\n  \n\n\n\nスタジオ名\n砂Aスタジオ→砂Bスタジオ\n\n\nクラス\nJAZZHIPHOP入門\n\n\n講師名\nALISA\n\n\n日付変更\n7/28(月)→6/30(月)\n\n\n時間変更\n18:20\n\n\n\n 
URL:https://quwands.jp/event/3267/
END:VEVENT
END:VCALENDAR