BEGIN:VCALENDAR
VERSION:2.0
PRODID:-//QUWANDS - ECPv6.10.2//NONSGML v1.0//EN
CALSCALE:GREGORIAN
METHOD:PUBLISH
X-WR-CALNAME:QUWANDS
X-ORIGINAL-URL:https://quwands.jp
X-WR-CALDESC:QUWANDS のイベント
REFRESH-INTERVAL;VALUE=DURATION:PT1H
X-Robots-Tag:noindex
X-PUBLISHED-TTL:PT1H
BEGIN:VTIMEZONE
TZID:Asia/Tokyo
BEGIN:STANDARD
TZOFFSETFROM:+0900
TZOFFSETTO:+0900
TZNAME:JST
DTSTART:20260101T000000
END:STANDARD
END:VTIMEZONE
BEGIN:VEVENT
DTSTART;VALUE=DATE:20260301
DTEND;VALUE=DATE:20260302
DTSTAMP:20260425T065858
CREATED:20260213T053137Z
LAST-MODIFIED:20260213T055325Z
UID:5120-1772323200-1772409599@quwands.jp
SUMMARY:砂銀Bst【舞】振替情報
DESCRIPTION:スタジオ名\n砂銀Aスタジオ→砂銀Bスタジオ\n\n\nクラス\nKIDS KPOP\n\n\n講師名\n舞\n\n\n日付\n2/8(日)→3/1(日)\n\n\n時間\n13:00-14:00→10:50-11:50\n\n\n\n  \n\n\n\nスタジオ名\n砂銀Aスタジオ→砂銀Bスタジオ\n\n\nクラス\nKIDS KPOP\n\n\n講師名\n舞\n\n\n日付\n3/1(日)\n\n\n時間\n13:00-14:00→11:50-12:50\n\n\n\n  \n\n\n\nスタジオ名\n砂銀Bスタジオ\n\n\nクラス\nKPOP入門\n\n\n講師名\n舞\n\n\n日付\n3/1(日)\n\n\n時間\n14:20-15:20→13:00-14:00\n\n\n\n  \n\n\n\nスタジオ名\n砂銀Bスタジオ\n\n\nクラス\nKPOP応用\n\n\n講師名\n舞\n\n\n日付\n3/1(日)\n\n\n時間\n15:30-17:00→14:10-15:40
URL:https://quwands.jp/event/5120/
END:VEVENT
BEGIN:VEVENT
DTSTART;VALUE=DATE:20260301
DTEND;VALUE=DATE:20260302
DTSTAMP:20260425T065858
CREATED:20260219T055227Z
LAST-MODIFIED:20260219T055227Z
UID:5203-1772323200-1772409599@quwands.jp
SUMMARY:平井st【CHIKA】休講情報
DESCRIPTION:スタジオ名\n平井スタジオ\n\n\nクラス\nリトルキッズダンス\n\n\n講師名\nCHIKA\n\n\n日付\n3/1(日)\n\n\n時間\n13:00-14:00\n\n\n\n  \n\n\n\nスタジオ名\n平井スタジオ\n\n\nクラス\nキッズ体操\n\n\n講師名\nCHIKA\n\n\n日付\n3/1(日)\n\n\n時間\n14:10-15:10\n\n\n\n  \n\n\n\nスタジオ名\n平井スタジオ\n\n\nクラス\n体操\n\n\n講師名\nCHIKA\n\n\n日付\n3/1(日)\n\n\n時間\n15:20-16:50
URL:https://quwands.jp/event/5203/
END:VEVENT
BEGIN:VEVENT
DTSTART;VALUE=DATE:20260301
DTEND;VALUE=DATE:20260302
DTSTAMP:20260425T065858
CREATED:20260206T061304Z
LAST-MODIFIED:20260206T080452Z
UID:5103-1772323200-1772409599@quwands.jp
SUMMARY:大島st【yu-ta】休講情報
DESCRIPTION:スタジオ名\n大島スタジオ\n\n\nクラス\nキッズ体操\n\n\n講師名\nyu-ta\n\n\n\n日付\n3/1(日)\n\n\n時間\n14:10-15:10\n\n\n\n  \n\n\n\nスタジオ名\n大島スタジオ\n\n\nクラス\n体操\n\n\n講師名\nyu-ta\n\n\n日付\n3/1(日)\n\n\n時間\n15:20-16:20
URL:https://quwands.jp/event/5103/
END:VEVENT
BEGIN:VEVENT
DTSTART;VALUE=DATE:20260301
DTEND;VALUE=DATE:20260302
DTSTAMP:20260425T065858
CREATED:20260213T055658Z
LAST-MODIFIED:20260213T055836Z
UID:5133-1772323200-1772409599@quwands.jp
SUMMARY:砂銀Bst【Sho-hey】振替情報
DESCRIPTION:スタジオ名\n砂銀Bスタジオ\n\n\nクラス\nKIDS HIPHOP\n\n\n講師名\nSho-hey\n\n\n日付\n3/1(日)→3/29(日)\n\n\n時間\n10:00-11:00\n\n\n\n  \n\n\n\nスタジオ名\n砂銀Bスタジオ\n\n\nクラス\nキッズ体操\n\n\n講師名\nSho-hey\n\n\n日付\n3/1(日)→3/29(日)\n\n\n時間\n11:10-12:10\n\n\n\n  \n\n\n\nスタジオ名\n砂銀Bスタジオ\n\n\nクラス\n体操\n\n\n講師名\nSho-hey\n\n\n日付\n3/1(日)→3/29(日)\n\n\n時間\n12:30-13:30
URL:https://quwands.jp/event/5133/
END:VEVENT
BEGIN:VEVENT
DTSTART;VALUE=DATE:20260302
DTEND;VALUE=DATE:20260303
DTSTAMP:20260425T065858
CREATED:20260302T081640Z
LAST-MODIFIED:20260302T081640Z
UID:5277-1772409600-1772495999@quwands.jp
SUMMARY:大島st 【yu-ta/Sho-hey】代講情報
DESCRIPTION:スタジオ名\n大島スタジオ\n\n\nクラス\nキッズ体操\n\n\n講師名\nyu-ta→Sho-hey\n\n\n\n日付\n3/2(月)\n\n\n時間\n17:10-18:10\n\n\n\n 
URL:https://quwands.jp/event/5277/
END:VEVENT
BEGIN:VEVENT
DTSTART;VALUE=DATE:20260303
DTEND;VALUE=DATE:20260304
DTSTAMP:20260425T065858
CREATED:20251226T082224Z
LAST-MODIFIED:20251226T082224Z
UID:4834-1772496000-1772582399@quwands.jp
SUMMARY:大島st 【HIKARU/cono】代講情報
DESCRIPTION:スタジオ名\n大島スタジオ\n\n\nクラス\nKIDS KPOP\n\n\n講師名\nHIKARU→cono\n\n\n日付\n3/3(火)\n\n\n時間\n17:10-18:10\n\n\n\n  \n\n\n\nスタジオ名\n大島スタジオ\n\n\nクラス\nKPOP入門\n\n\n講師名\nHIKARU→cono\n\n\n日付\n3/3(火)\n\n\n \n18:20-19:20\n\n\n\n  \n\n\n\nスタジオ名\n大島スタジオ\n\n\nクラス\nKPOP入門\n\n\n講師名\nHIKARU→cono\n\n\n日付\n3/3(火)\n\n\n時間\n19:30-21:00\n\n\n\n 
URL:https://quwands.jp/event/4834/
END:VEVENT
BEGIN:VEVENT
DTSTART;VALUE=DATE:20260304
DTEND;VALUE=DATE:20260305
DTSTAMP:20260425T065858
CREATED:20260303T085617Z
LAST-MODIFIED:20260303T085617Z
UID:5287-1772582400-1772668799@quwands.jp
SUMMARY:平井st【CHIKA/Sho-hey】代講情報
DESCRIPTION:スタジオ名\n平井スタジオ\n\n\nクラス\nキッズ体操\n\n\n講師名\nCHIKA→Sho-hey\n\n\n日付\n3/4(水)\n\n\n時間\n16:40-17:40\n\n\n\n  \n\n\n\nスタジオ名\n平井スタジオ\n\n\nクラス\n体操\n\n\n講師名\nCHIKA→Sho-hey\n\n\n日付\n3/4(水)\n\n\n時間\n17:50-19:20\n\n\n\n 
URL:https://quwands.jp/event/5287/
END:VEVENT
BEGIN:VEVENT
DTSTART;VALUE=DATE:20260304
DTEND;VALUE=DATE:20260305
DTSTAMP:20260425T065858
CREATED:20260303T091502Z
LAST-MODIFIED:20260305T030017Z
UID:5289-1772582400-1772668799@quwands.jp
SUMMARY:新小岩st【Ari_pown】休講情報
DESCRIPTION:スタジオ名\n新小岩スタジオ\n\n\nクラス\nKIDS HIPHOP\n\n\n講師名\nAri_pown\n\n\n日付\n3/4(水)\n\n\n時間\n17:10-18:10\n\n\n\n  \n\n\n\nスタジオ名\n新小岩スタジオ\n\n\nクラス\nHIPHOP入門\n\n\n講師名\nAri_pown\n\n\n日付\n3/4(水)\n\n\n時間\n18:20-19:20\n\n\n\n  \n\n\n\nスタジオ名\n新小岩スタジオ\n\n\nクラス\nHIPHOP応用\n\n\n講師名\nAri_pown\n\n\n日付\n3/4(水)\n\n\n時間\n19:30-21:00\n\n\n\n 
URL:https://quwands.jp/event/5289/
END:VEVENT
BEGIN:VEVENT
DTSTART;VALUE=DATE:20260305
DTEND;VALUE=DATE:20260306
DTSTAMP:20260425T065858
CREATED:20260213T074138Z
LAST-MODIFIED:20260217T024410Z
UID:5137-1772668800-1772755199@quwands.jp
SUMMARY:平井st【舞】振替情報
DESCRIPTION:スタジオ名\n平井スタジオ→新小岩スタジオ\n\n\nクラス\nKIDS KPOP\n\n\n講師名\n舞\n\n\n日付\n3/5(木)→3/7(土)\n\n\n時間\n17:10-18:10→17:30-18:30\n\n\n\n  \n\n\n\nスタジオ名\n平井スタジオ→新小岩スタジオ\n\n\nクラス\nKPOP入門\n\n\n講師名\n舞\n\n\n日付\n3/5(木)→3/7(土)\n\n\n時間\n18:20-19:20→18:40-19:40\n\n\n\n 
URL:https://quwands.jp/event/5137/
END:VEVENT
BEGIN:VEVENT
DTSTART;VALUE=DATE:20260305
DTEND;VALUE=DATE:20260306
DTSTAMP:20260425T065858
CREATED:20260227T061614Z
LAST-MODIFIED:20260227T061614Z
UID:5248-1772668800-1772755199@quwands.jp
SUMMARY:砂銀Ast【MINORI】スタジオ変更情報
DESCRIPTION:スタジオ名\n砂銀Aスタジオ→砂銀Bスタジオ\n\n\nクラス\nリトルキッズ体操\n\n\n講師名\nMINORI\n\n\n日付\n3/5(木)\n\n\n時間\n16:00-17:00\n\n\n\n\n 
URL:https://quwands.jp/event/5248/
END:VEVENT
BEGIN:VEVENT
DTSTART;VALUE=DATE:20260305
DTEND;VALUE=DATE:20260306
DTSTAMP:20260425T065858
CREATED:20260227T062100Z
LAST-MODIFIED:20260227T062100Z
UID:5251-1772668800-1772755199@quwands.jp
SUMMARY:砂銀Bst【CHIKA/MINORI】代講情報
DESCRIPTION:スタジオ名\n砂銀Bスタジオ\n\n\nクラス\nキッズ体操\n\n\n講師名\nCHIKA→MINORI\n\n\n日付\n3/5(木)\n\n\n時間\n16:00-17:00\n\n\n\n 
URL:https://quwands.jp/event/5251/
END:VEVENT
BEGIN:VEVENT
DTSTART;VALUE=DATE:20260306
DTEND;VALUE=DATE:20260307
DTSTAMP:20260425T065858
CREATED:20260127T054317Z
LAST-MODIFIED:20260127T094930Z
UID:5001-1772755200-1772841599@quwands.jp
SUMMARY:砂銀Ast【yuine/Shark Miho】代講情報
DESCRIPTION:スタジオ名\n砂銀Aスタジオ\n\n\nクラス\nKIDS JAZZ\n\n\n講師名\nyuine→Shark Miho\n\n\n日付\n3/6(金)\n\n\n時間\n17:10-18:10\n\n\n\n\n 
URL:https://quwands.jp/event/5001/
END:VEVENT
BEGIN:VEVENT
DTSTART;VALUE=DATE:20260307
DTEND;VALUE=DATE:20260308
DTSTAMP:20260425T065858
CREATED:20260213T074202Z
LAST-MODIFIED:20260217T024451Z
UID:5139-1772841600-1772927999@quwands.jp
SUMMARY:平井st【舞】振替情報
DESCRIPTION:スタジオ名\n平井スタジオ→新小岩スタジオ\n\n\nクラス\nKIDS KPOP\n\n\n講師名\n舞\n\n\n日付\n3/5(木)→3/7(土)\n\n\n時間\n17:10-18:10→17:30-18:30\n\n\n\n  \n\n\n\nスタジオ名\n平井スタジオ→新小岩スタジオ\n\n\nクラス\nKPOP入門\n\n\n講師名\n舞\n\n\n日付\n3/5(木)→3/7(土)\n\n\n時間\n18:20-19:20→18:40-19:40\n\n\n\n 
URL:https://quwands.jp/event/5139/
END:VEVENT
BEGIN:VEVENT
DTSTART;VALUE=DATE:20260307
DTEND;VALUE=DATE:20260308
DTSTAMP:20260425T065858
CREATED:20260306T071127Z
LAST-MODIFIED:20260306T071127Z
UID:5311-1772841600-1772927999@quwands.jp
SUMMARY:平井st 【yu-ta/KAKERU】代講情報
DESCRIPTION:スタジオ名\n平井スタジオ\n\n\nクラス\nキッズ体操\n\n\n講師名\nyu-ta→KAKERU\n\n\n日付\n3/7(土)\n\n\n時間\n14:10-15:10\n\n\n\n  \n\n\n\nスタジオ名\n平井スタジオ\n\n\nクラス\n体操\n\n\n講師名\nyu-ta→KAKERU\n\n\n日付\n3/7(土)\n\n\n時間\n15:20-16:50\n\n\n\n 
URL:https://quwands.jp/event/5311/
END:VEVENT
BEGIN:VEVENT
DTSTART;VALUE=DATE:20260307
DTEND;VALUE=DATE:20260308
DTSTAMP:20260425T065858
CREATED:20260309T051715Z
LAST-MODIFIED:20260309T051715Z
UID:5335-1772841600-1772927999@quwands.jp
SUMMARY:大島st【Genki/Retro】代講情報
DESCRIPTION:スタジオ名\n大島スタジオ\n\n\nクラス\nKIDS HIPHOP\n\n\n講師名\nGenki→Retro\n\n\n日付\n3/7(土)\n\n\n時間\n14:10-15:10\n\n\n\n  \n\n\n\nスタジオ名\n大島スタジオ\n\n\nクラス\nHIPHOP入門\n\n\n講師名\nGenki→Retro\n\n\n日付\n3/7(土)\n\n\n時間\n15:20-16:20\n\n\n\n  \n\n\n\nスタジオ名\n大島スタジオ\n\n\nクラス\nHIPHOP応用\n\n\n講師名\nGenki→Retro\n\n\n日付\n3/7(土)\n\n\n時間\n16:30-18:00\n\n\n\n 
URL:https://quwands.jp/event/5335/
END:VEVENT
BEGIN:VEVENT
DTSTART;VALUE=DATE:20260308
DTEND;VALUE=DATE:20260309
DTSTAMP:20260425T065858
CREATED:20260306T071444Z
LAST-MODIFIED:20260306T071444Z
UID:5315-1772928000-1773014399@quwands.jp
SUMMARY:大島st 【yu-ta/RYOGA】代講情報
DESCRIPTION:スタジオ名\n大島スタジオ\n\n\nクラス\nキッズ体操\n\n\n講師名\nyu-ta→RYOGA\n\n\n日付\n3/8(日)\n\n\n時間\n14:10-15:10\n\n\n\n  \n\n\n\nスタジオ名\n大島スタジオ\n\n\nクラス\n体操\n\n\n講師名\nyu-ta→RYOGA\n\n\n日付\n3/8(日)\n\n\n時間\n15:20-16:20\n\n\n\n 
URL:https://quwands.jp/event/5315/
END:VEVENT
BEGIN:VEVENT
DTSTART;VALUE=DATE:20260310
DTEND;VALUE=DATE:20260311
DTSTAMP:20260425T065858
CREATED:20251226T082341Z
LAST-MODIFIED:20251226T082341Z
UID:4837-1773100800-1773187199@quwands.jp
SUMMARY:大島st 【HIKARU/cono】代講情報
DESCRIPTION:スタジオ名\n大島スタジオ\n\n\nクラス\nKIDS KPOP\n\n\n講師名\nHIKARU→cono\n\n\n日付\n3/10(火)\n\n\n時間\n17:10-18:10\n\n\n\n  \n\n\n\nスタジオ名\n大島スタジオ\n\n\nクラス\nKPOP入門\n\n\n講師名\nHIKARU→cono\n\n\n日付\n3/10(火)\n\n\n時間\n18:20-19:20\n\n\n\n  \n\n\n\nスタジオ名\n大島スタジオ\n\n\nクラス\nKPOP入門\n\n\n講師名\nHIKARU→cono\n\n\n日付\n3/10(火)\n\n\n時間\n19:30-21:00\n\n\n\n 
URL:https://quwands.jp/event/4837/
END:VEVENT
BEGIN:VEVENT
DTSTART;VALUE=DATE:20260310
DTEND;VALUE=DATE:20260311
DTSTAMP:20260425T065858
CREATED:20260130T040110Z
LAST-MODIFIED:20260130T040110Z
UID:5063-1773100800-1773187199@quwands.jp
SUMMARY:砂銀Ast【SATOKO】振替情報
DESCRIPTION:スタジオ名\n砂銀Aスタジオ\n\n\nクラス\nヨガ\n\n\n講師名\nSATOKO\n\n\n日付\n3/10(火)→3/12(木)\n\n\n時間\n10:00-11:00\n\n\n\n\n 
URL:https://quwands.jp/event/5063/
END:VEVENT
BEGIN:VEVENT
DTSTART;VALUE=DATE:20260311
DTEND;VALUE=DATE:20260312
DTSTAMP:20260425T065858
CREATED:20260312T032201Z
LAST-MODIFIED:20260312T032248Z
UID:5340-1773187200-1773273599@quwands.jp
SUMMARY:砂銀Ast【Genki】休講情報
DESCRIPTION:スタジオ名\n砂銀Aスタジオ\n\n\nクラス\nHIPHOP中級\n\n\n講師名\nGenki\n\n\n日付\n3/11(水)\n\n\n時間\n19:30-20:45\n\n\n\n\n 
URL:https://quwands.jp/event/5340/
END:VEVENT
BEGIN:VEVENT
DTSTART;VALUE=DATE:20260312
DTEND;VALUE=DATE:20260313
DTSTAMP:20260425T065858
CREATED:20260213T074533Z
LAST-MODIFIED:20260217T024541Z
UID:5141-1773273600-1773359999@quwands.jp
SUMMARY:平井st【舞】振替情報
DESCRIPTION:スタジオ名\n平井スタジオ→新小岩スタジオ\n\n\nクラス\nKIDS KPOP\n\n\n講師名\n舞\n\n\n日付\n3/12(木)→3/14(土)\n\n\n時間\n17:10-18:10→17:30-18:30\n\n\n\n  \n\n\n\nスタジオ名\n平井スタジオ→新小岩スタジオ\n\n\nクラス\nKPOP入門\n\n\n講師名\n舞\n\n\n日付\n3/12(木)→3/14(土)\n\n\n時間\n18:20-19:20→18:40-19:40\n\n\n\n 
URL:https://quwands.jp/event/5141/
END:VEVENT
BEGIN:VEVENT
DTSTART;VALUE=DATE:20260312
DTEND;VALUE=DATE:20260313
DTSTAMP:20260425T065858
CREATED:20260130T040131Z
LAST-MODIFIED:20260130T040131Z
UID:5065-1773273600-1773359999@quwands.jp
SUMMARY:砂銀Ast【SATOKO】振替情報
DESCRIPTION:スタジオ名\n砂銀Aスタジオ\n\n\nクラス\nヨガ\n\n\n講師名\nSATOKO\n\n\n日付\n3/10(火)→3/12(木)\n\n\n時間\n10:00-11:00\n\n\n\n\n 
URL:https://quwands.jp/event/5065/
END:VEVENT
BEGIN:VEVENT
DTSTART;VALUE=DATE:20260312
DTEND;VALUE=DATE:20260313
DTSTAMP:20260425T065858
CREATED:20260312T052718Z
LAST-MODIFIED:20260312T052718Z
UID:5363-1773273600-1773359999@quwands.jp
SUMMARY:新小岩st【aoi kasahara】振替情報
DESCRIPTION:スタジオ名\n新小岩スタジオ\n\n\nクラス\nKIDS JAZZ\n\n\n講師名\naoi kasahara\n\n\n日付\n3/12(木)\n\n\n時間\n17:10-18:10→16:00-17:00\n\n\n\n  \n\n\n\nスタジオ名\n新小岩スタジオ\n\n\nクラス\nJAZZ入門\n\n\n講師名\naoi kasahara\n\n\n日付\n2/19(木)→3/12(木)\n\n\n時間\n18:20-19:20→17:10-18:10\n\n\n\n 
URL:https://quwands.jp/event/5363/
END:VEVENT
BEGIN:VEVENT
DTSTART;VALUE=DATE:20260313
DTEND;VALUE=DATE:20260314
DTSTAMP:20260425T065858
CREATED:20260127T054336Z
LAST-MODIFIED:20260127T095025Z
UID:5003-1773360000-1773446399@quwands.jp
SUMMARY:砂銀Ast【yuine/Shark Miho】代講情報
DESCRIPTION:スタジオ名\n砂銀Aスタジオ\n\n\nクラス\nKIDS JAZZ\n\n\n講師名\nyuine→Shark Miho\n\n\n日付\n3/13(金)\n\n\n時間\n17:10-18:10\n\n\n\n\n 
URL:https://quwands.jp/event/5003/
END:VEVENT
BEGIN:VEVENT
DTSTART;VALUE=DATE:20260314
DTEND;VALUE=DATE:20260315
DTSTAMP:20260425T065858
CREATED:20260213T074612Z
LAST-MODIFIED:20260217T024638Z
UID:5143-1773446400-1773532799@quwands.jp
SUMMARY:平井st【舞】振替情報
DESCRIPTION:スタジオ名\n平井スタジオ→新小岩スタジオ\n\n\nクラス\nKIDS KPOP\n\n\n講師名\n舞\n\n\n日付\n3/12(木)→3/14(土)\n\n\n時間\n17:10-18:10→17:30-18:30\n\n\n\n  \n\n\n\nスタジオ名\n平井スタジオ→新小岩スタジオ\n\n\nクラス\nKPOP入門\n\n\n講師名\n舞\n\n\n日付\n3/12(木)→3/14(土)\n\n\n時間\n18:20-19:20→18:40-19:40\n\n\n\n 
URL:https://quwands.jp/event/5143/
END:VEVENT
BEGIN:VEVENT
DTSTART;VALUE=DATE:20260314
DTEND;VALUE=DATE:20260315
DTSTAMP:20260425T065858
CREATED:20260227T065929Z
LAST-MODIFIED:20260409T062806Z
UID:5260-1773446400-1773532799@quwands.jp
SUMMARY:砂銀Ast【PASSION】休講情報
DESCRIPTION:スタジオ名\n砂銀Aスタジオ\n\n\nクラス\nJAZZHIPHOP基礎応用\n\n\n講師名\nPASSION\n\n\n日付\n3/14(土)→休講\n\n\n時間\n19:30-21:00\n\n\n\n\n 
URL:https://quwands.jp/event/5260/
END:VEVENT
BEGIN:VEVENT
DTSTART;VALUE=DATE:20260315
DTEND;VALUE=DATE:20260316
DTSTAMP:20260425T065858
CREATED:20260122T084702Z
LAST-MODIFIED:20260126T040159Z
UID:4956-1773532800-1773619199@quwands.jp
SUMMARY:砂銀st【舞】振替情報
DESCRIPTION:スタジオ名\n砂銀Aスタジオ\n\n\nクラス\nKIDS KPOP\n\n\n講師名\n舞\n\n\n日付\n3/15(日)→3/29(日)\n\n\n時間\n13:00-14:00\n\n\n\n  \n\n\n\nスタジオ名\n砂銀Bスタジオ\n\n\nクラス\nKPOP入門\n\n\n講師名\n舞\n\n\n日付\n3/15(日)→3/29(日)\n\n\n時間\n14:20-15:20\n\n\n\n  \n\n\n\nスタジオ名\n砂銀Bスタジオ\n\n\nクラス\nKPOP応用\n\n\n講師名\n舞\n\n\n日付\n3/15(日)→3/29(日)\n\n\n時間\n15:30-17:00
URL:https://quwands.jp/event/4956/
END:VEVENT
BEGIN:VEVENT
DTSTART;VALUE=DATE:20260315
DTEND;VALUE=DATE:20260316
DTSTAMP:20260425T065858
CREATED:20260306T071628Z
LAST-MODIFIED:20260306T071628Z
UID:5318-1773532800-1773619199@quwands.jp
SUMMARY:大島st 【yu-ta/RYOGA】代講情報
DESCRIPTION:スタジオ名\n大島スタジオ\n\n\nクラス\nキッズ体操\n\n\n講師名\nyu-ta→RYOGA\n\n\n日付\n3/15(日)\n\n\n時間\n14:10-15:10\n\n\n\n  \n\n\n\nスタジオ名\n大島スタジオ\n\n\nクラス\n体操\n\n\n講師名\nyu-ta→RYOGA\n\n\n日付\n3/15(日)\n\n\n時間\n15:20-16:20\n\n\n\n 
URL:https://quwands.jp/event/5318/
END:VEVENT
BEGIN:VEVENT
DTSTART;VALUE=DATE:20260317
DTEND;VALUE=DATE:20260318
DTSTAMP:20260425T065858
CREATED:20260130T053745Z
LAST-MODIFIED:20260130T053745Z
UID:5070-1773705600-1773791999@quwands.jp
SUMMARY:大島st 【HIKARU/cono】代講情報
DESCRIPTION:スタジオ名\n大島スタジオ\n\n\nクラス\nKIDS KPOP\n\n\n講師名\nHIKARU→cono\n\n\n日付\n3/17(火)\n\n\n時間\n17:10-18:10\n\n\n\n\n  \n\n\n\nスタジオ名\n大島スタジオ\n\n\nクラス\nKPOP入門\n\n\n講師名\nHIKARU→cono\n\n\n日付\n3/17(火)\n\n\n時間\n18:20-19:20\n\n\n\n  \n\n\n\nスタジオ名\n大島スタジオ\n\n\nクラス\nKPOP応用\n\n\n講師名\nHIKARU→cono\n\n\n日付\n3/17(火)\n\n\n時間\n19:30-21:00\n\n\n\n 
URL:https://quwands.jp/event/5070/
END:VEVENT
BEGIN:VEVENT
DTSTART;VALUE=DATE:20260318
DTEND;VALUE=DATE:20260319
DTSTAMP:20260425T065858
CREATED:20260317T051650Z
LAST-MODIFIED:20260317T051825Z
UID:5375-1773792000-1773878399@quwands.jp
SUMMARY:平井st【YUKO】休講情報
DESCRIPTION:スタジオ名\n平井スタジオ\n\n\nクラス\nヨガ\n\n\n講師名\nYUKO\n\n\n日付\n3/18(水)→休講\n\n\n時間\n20:00-21:00\n\n\n\n 
URL:https://quwands.jp/event/5375/
END:VEVENT
BEGIN:VEVENT
DTSTART;VALUE=DATE:20260319
DTEND;VALUE=DATE:20260320
DTSTAMP:20260425T065858
CREATED:20260217T024905Z
LAST-MODIFIED:20260217T024905Z
UID:5168-1773878400-1773964799@quwands.jp
SUMMARY:平井st【舞】振替情報
DESCRIPTION:スタジオ名\n平井スタジオ→新小岩スタジオ\n\n\nクラス\nKIDS KPOP\n\n\n講師名\n舞\n\n\n日付\n3/19(木)→3/21(土)\n\n\n時間\n17:10-18:10→17:30-18:30\n\n\n\n  \n\n\n\nスタジオ名\n平井スタジオ→新小岩スタジオ\n\n\nクラス\nKPOP入門\n\n\n講師名\n舞\n\n\n日付\n3/19(木)→3/21(土)\n\n\n時間\n18:20-19:20→18:40-19:40\n\n\n\n 
URL:https://quwands.jp/event/5168/
END:VEVENT
END:VCALENDAR